BEGIN:VCALENDAR
VERSION:2.0
PRODID:-//Eagle Knoll Golf Club - Hartsburg, MO - ECPv6.15.20//NONSGML v1.0//EN
CALSCALE:GREGORIAN
METHOD:PUBLISH
X-ORIGINAL-URL:https://eagleknoll.com
X-WR-CALDESC:Events for Eagle Knoll Golf Club - Hartsburg, MO
REFRESH-INTERVAL;VALUE=DURATION:PT1H
X-Robots-Tag:noindex
X-PUBLISHED-TTL:PT1H
BEGIN:VTIMEZONE
TZID:America/Chicago
BEGIN:DAYLIGHT
TZOFFSETFROM:-0600
TZOFFSETTO:-0500
TZNAME:CDT
DTSTART:20250309T080000
END:DAYLIGHT
BEGIN:STANDARD
TZOFFSETFROM:-0500
TZOFFSETTO:-0600
TZNAME:CST
DTSTART:20251102T070000
END:STANDARD
BEGIN:DAYLIGHT
TZOFFSETFROM:-0600
TZOFFSETTO:-0500
TZNAME:CDT
DTSTART:20260308T080000
END:DAYLIGHT
BEGIN:STANDARD
TZOFFSETFROM:-0500
TZOFFSETTO:-0600
TZNAME:CST
DTSTART:20261101T070000
END:STANDARD
BEGIN:DAYLIGHT
TZOFFSETFROM:-0600
TZOFFSETTO:-0500
TZNAME:CDT
DTSTART:20270314T080000
END:DAYLIGHT
BEGIN:STANDARD
TZOFFSETFROM:-0500
TZOFFSETTO:-0600
TZNAME:CST
DTSTART:20271107T070000
END:STANDARD
BEGIN:DAYLIGHT
TZOFFSETFROM:-0600
TZOFFSETTO:-0500
TZNAME:CDT
DTSTART:20280312T080000
END:DAYLIGHT
BEGIN:STANDARD
TZOFFSETFROM:-0500
TZOFFSETTO:-0600
TZNAME:CST
DTSTART:20281105T070000
END:STANDARD
END:VTIMEZONE
BEGIN:VEVENT
DTSTART;TZID=America/Chicago:20261223T173000
DTEND;TZID=America/Chicago:20261223T193000
DTSTAMP:20260425T083416
CREATED:20250602T173030Z
LAST-MODIFIED:20250602T173033Z
UID:10000262-1798047000-1798054200@eagleknoll.com
SUMMARY:Ladies League
DESCRIPTION:
URL:https://eagleknoll.com/event/ladies-league/2026-12-23/
END:VEVENT
BEGIN:VEVENT
DTSTART;TZID=America/Chicago:20261225T080000
DTEND;TZID=America/Chicago:20261225T170000
DTSTAMP:20260425T083416
CREATED:20260210T161140Z
LAST-MODIFIED:20260210T161743Z
UID:10000543-1798185600-1798218000@eagleknoll.com
SUMMARY:Christmas
DESCRIPTION:
URL:https://eagleknoll.com/event/christmas-2/
END:VEVENT
BEGIN:VEVENT
DTSTART;TZID=America/Chicago:20261230T173000
DTEND;TZID=America/Chicago:20261230T193000
DTSTAMP:20260425T083416
CREATED:20250602T173030Z
LAST-MODIFIED:20250602T173033Z
UID:10000263-1798651800-1798659000@eagleknoll.com
SUMMARY:Ladies League
DESCRIPTION:
URL:https://eagleknoll.com/event/ladies-league/2026-12-30/
END:VEVENT
BEGIN:VEVENT
DTSTART;TZID=America/Chicago:20270106T173000
DTEND;TZID=America/Chicago:20270106T193000
DTSTAMP:20260425T083416
CREATED:20250602T173030Z
LAST-MODIFIED:20250602T173033Z
UID:10000264-1799256600-1799263800@eagleknoll.com
SUMMARY:Ladies League
DESCRIPTION:
URL:https://eagleknoll.com/event/ladies-league/2027-01-06/
END:VEVENT
BEGIN:VEVENT
DTSTART;TZID=America/Chicago:20270113T173000
DTEND;TZID=America/Chicago:20270113T193000
DTSTAMP:20260425T083416
CREATED:20250602T173030Z
LAST-MODIFIED:20250602T173033Z
UID:10000265-1799861400-1799868600@eagleknoll.com
SUMMARY:Ladies League
DESCRIPTION:
URL:https://eagleknoll.com/event/ladies-league/2027-01-13/
END:VEVENT
BEGIN:VEVENT
DTSTART;TZID=America/Chicago:20270120T173000
DTEND;TZID=America/Chicago:20270120T193000
DTSTAMP:20260425T083417
CREATED:20250602T173030Z
LAST-MODIFIED:20250602T173033Z
UID:10000266-1800466200-1800473400@eagleknoll.com
SUMMARY:Ladies League
DESCRIPTION:
URL:https://eagleknoll.com/event/ladies-league/2027-01-20/
END:VEVENT
BEGIN:VEVENT
DTSTART;TZID=America/Chicago:20270127T173000
DTEND;TZID=America/Chicago:20270127T193000
DTSTAMP:20260425T083417
CREATED:20250602T173030Z
LAST-MODIFIED:20250602T173033Z
UID:10000267-1801071000-1801078200@eagleknoll.com
SUMMARY:Ladies League
DESCRIPTION:
URL:https://eagleknoll.com/event/ladies-league/2027-01-27/
END:VEVENT
BEGIN:VEVENT
DTSTART;TZID=America/Chicago:20270203T173000
DTEND;TZID=America/Chicago:20270203T193000
DTSTAMP:20260425T083417
CREATED:20250602T173030Z
LAST-MODIFIED:20250602T173033Z
UID:10000268-1801675800-1801683000@eagleknoll.com
SUMMARY:Ladies League
DESCRIPTION:
URL:https://eagleknoll.com/event/ladies-league/2027-02-03/
END:VEVENT
BEGIN:VEVENT
DTSTART;TZID=America/Chicago:20270210T173000
DTEND;TZID=America/Chicago:20270210T193000
DTSTAMP:20260425T083417
CREATED:20250602T173030Z
LAST-MODIFIED:20250602T173033Z
UID:10000269-1802280600-1802287800@eagleknoll.com
SUMMARY:Ladies League
DESCRIPTION:
URL:https://eagleknoll.com/event/ladies-league/2027-02-10/
END:VEVENT
BEGIN:VEVENT
DTSTART;TZID=America/Chicago:20270217T173000
DTEND;TZID=America/Chicago:20270217T193000
DTSTAMP:20260425T083417
CREATED:20250602T173030Z
LAST-MODIFIED:20250602T173033Z
UID:10000270-1802885400-1802892600@eagleknoll.com
SUMMARY:Ladies League
DESCRIPTION:
URL:https://eagleknoll.com/event/ladies-league/2027-02-17/
END:VEVENT
BEGIN:VEVENT
DTSTART;TZID=America/Chicago:20270224T173000
DTEND;TZID=America/Chicago:20270224T193000
DTSTAMP:20260425T083417
CREATED:20250602T173030Z
LAST-MODIFIED:20250602T173033Z
UID:10000271-1803490200-1803497400@eagleknoll.com
SUMMARY:Ladies League
DESCRIPTION:
URL:https://eagleknoll.com/event/ladies-league/2027-02-24/
END:VEVENT
BEGIN:VEVENT
DTSTART;TZID=America/Chicago:20270303T173000
DTEND;TZID=America/Chicago:20270303T193000
DTSTAMP:20260425T083417
CREATED:20250602T173030Z
LAST-MODIFIED:20250602T173033Z
UID:10000272-1804095000-1804102200@eagleknoll.com
SUMMARY:Ladies League
DESCRIPTION:
URL:https://eagleknoll.com/event/ladies-league/2027-03-03/
END:VEVENT
BEGIN:VEVENT
DTSTART;TZID=America/Chicago:20270310T173000
DTEND;TZID=America/Chicago:20270310T193000
DTSTAMP:20260425T083417
CREATED:20250602T173030Z
LAST-MODIFIED:20250602T173033Z
UID:10000273-1804699800-1804707000@eagleknoll.com
SUMMARY:Ladies League
DESCRIPTION:
URL:https://eagleknoll.com/event/ladies-league/2027-03-10/
END:VEVENT
BEGIN:VEVENT
DTSTART;TZID=America/Chicago:20270317T173000
DTEND;TZID=America/Chicago:20270317T193000
DTSTAMP:20260425T083417
CREATED:20250602T173030Z
LAST-MODIFIED:20250602T173033Z
UID:10000274-1805304600-1805311800@eagleknoll.com
SUMMARY:Ladies League
DESCRIPTION:
URL:https://eagleknoll.com/event/ladies-league/2027-03-17/
END:VEVENT
BEGIN:VEVENT
DTSTART;TZID=America/Chicago:20270324T173000
DTEND;TZID=America/Chicago:20270324T193000
DTSTAMP:20260425T083417
CREATED:20250602T173030Z
LAST-MODIFIED:20250602T173033Z
UID:10000275-1805909400-1805916600@eagleknoll.com
SUMMARY:Ladies League
DESCRIPTION:
URL:https://eagleknoll.com/event/ladies-league/2027-03-24/
END:VEVENT
BEGIN:VEVENT
DTSTART;TZID=America/Chicago:20270331T173000
DTEND;TZID=America/Chicago:20270331T193000
DTSTAMP:20260425T083417
CREATED:20250602T173030Z
LAST-MODIFIED:20250602T173033Z
UID:10000276-1806514200-1806521400@eagleknoll.com
SUMMARY:Ladies League
DESCRIPTION:
URL:https://eagleknoll.com/event/ladies-league/2027-03-31/
END:VEVENT
BEGIN:VEVENT
DTSTART;TZID=America/Chicago:20270407T173000
DTEND;TZID=America/Chicago:20270407T193000
DTSTAMP:20260425T083417
CREATED:20250602T173030Z
LAST-MODIFIED:20250602T173033Z
UID:10000277-1807119000-1807126200@eagleknoll.com
SUMMARY:Ladies League
DESCRIPTION:
URL:https://eagleknoll.com/event/ladies-league/2027-04-07/
END:VEVENT
BEGIN:VEVENT
DTSTART;TZID=America/Chicago:20270414T173000
DTEND;TZID=America/Chicago:20270414T193000
DTSTAMP:20260425T083417
CREATED:20250602T173030Z
LAST-MODIFIED:20250602T173033Z
UID:10000278-1807723800-1807731000@eagleknoll.com
SUMMARY:Ladies League
DESCRIPTION:
URL:https://eagleknoll.com/event/ladies-league/2027-04-14/
END:VEVENT
BEGIN:VEVENT
DTSTART;TZID=America/Chicago:20270421T173000
DTEND;TZID=America/Chicago:20270421T193000
DTSTAMP:20260425T083417
CREATED:20250602T173030Z
LAST-MODIFIED:20250602T173033Z
UID:10000279-1808328600-1808335800@eagleknoll.com
SUMMARY:Ladies League
DESCRIPTION:
URL:https://eagleknoll.com/event/ladies-league/2027-04-21/
END:VEVENT
BEGIN:VEVENT
DTSTART;TZID=America/Chicago:20270428T173000
DTEND;TZID=America/Chicago:20270428T193000
DTSTAMP:20260425T083417
CREATED:20250602T173030Z
LAST-MODIFIED:20250602T173033Z
UID:10000280-1808933400-1808940600@eagleknoll.com
SUMMARY:Ladies League
DESCRIPTION:
URL:https://eagleknoll.com/event/ladies-league/2027-04-28/
END:VEVENT
BEGIN:VEVENT
DTSTART;TZID=America/Chicago:20270505T173000
DTEND;TZID=America/Chicago:20270505T193000
DTSTAMP:20260425T083417
CREATED:20250602T173030Z
LAST-MODIFIED:20250602T173033Z
UID:10000281-1809538200-1809545400@eagleknoll.com
SUMMARY:Ladies League
DESCRIPTION:
URL:https://eagleknoll.com/event/ladies-league/2027-05-05/
END:VEVENT
BEGIN:VEVENT
DTSTART;TZID=America/Chicago:20270512T173000
DTEND;TZID=America/Chicago:20270512T193000
DTSTAMP:20260425T083417
CREATED:20250602T173030Z
LAST-MODIFIED:20250602T173033Z
UID:10000282-1810143000-1810150200@eagleknoll.com
SUMMARY:Ladies League
DESCRIPTION:
URL:https://eagleknoll.com/event/ladies-league/2027-05-12/
END:VEVENT
BEGIN:VEVENT
DTSTART;TZID=America/Chicago:20270519T173000
DTEND;TZID=America/Chicago:20270519T193000
DTSTAMP:20260425T083417
CREATED:20250602T173030Z
LAST-MODIFIED:20250602T173033Z
UID:10000283-1810747800-1810755000@eagleknoll.com
SUMMARY:Ladies League
DESCRIPTION:
URL:https://eagleknoll.com/event/ladies-league/2027-05-19/
END:VEVENT
BEGIN:VEVENT
DTSTART;TZID=America/Chicago:20270526T173000
DTEND;TZID=America/Chicago:20270526T193000
DTSTAMP:20260425T083417
CREATED:20250602T173030Z
LAST-MODIFIED:20250602T173033Z
UID:10000284-1811352600-1811359800@eagleknoll.com
SUMMARY:Ladies League
DESCRIPTION:
URL:https://eagleknoll.com/event/ladies-league/2027-05-26/
END:VEVENT
BEGIN:VEVENT
DTSTART;TZID=America/Chicago:20270602T173000
DTEND;TZID=America/Chicago:20270602T193000
DTSTAMP:20260425T083417
CREATED:20250602T173030Z
LAST-MODIFIED:20250602T173033Z
UID:10000285-1811957400-1811964600@eagleknoll.com
SUMMARY:Ladies League
DESCRIPTION:
URL:https://eagleknoll.com/event/ladies-league/2027-06-02/
END:VEVENT
BEGIN:VEVENT
DTSTART;TZID=America/Chicago:20270609T173000
DTEND;TZID=America/Chicago:20270609T193000
DTSTAMP:20260425T083417
CREATED:20250602T173030Z
LAST-MODIFIED:20250602T173033Z
UID:10000286-1812562200-1812569400@eagleknoll.com
SUMMARY:Ladies League
DESCRIPTION:
URL:https://eagleknoll.com/event/ladies-league/2027-06-09/
END:VEVENT
BEGIN:VEVENT
DTSTART;TZID=America/Chicago:20270616T173000
DTEND;TZID=America/Chicago:20270616T193000
DTSTAMP:20260425T083417
CREATED:20250602T173030Z
LAST-MODIFIED:20250602T173033Z
UID:10000287-1813167000-1813174200@eagleknoll.com
SUMMARY:Ladies League
DESCRIPTION:
URL:https://eagleknoll.com/event/ladies-league/2027-06-16/
END:VEVENT
BEGIN:VEVENT
DTSTART;TZID=America/Chicago:20270623T173000
DTEND;TZID=America/Chicago:20270623T193000
DTSTAMP:20260425T083417
CREATED:20250602T173030Z
LAST-MODIFIED:20250602T173033Z
UID:10000288-1813771800-1813779000@eagleknoll.com
SUMMARY:Ladies League
DESCRIPTION:
URL:https://eagleknoll.com/event/ladies-league/2027-06-23/
END:VEVENT
BEGIN:VEVENT
DTSTART;TZID=America/Chicago:20270630T173000
DTEND;TZID=America/Chicago:20270630T193000
DTSTAMP:20260425T083417
CREATED:20250602T173030Z
LAST-MODIFIED:20250602T173033Z
UID:10000289-1814376600-1814383800@eagleknoll.com
SUMMARY:Ladies League
DESCRIPTION:
URL:https://eagleknoll.com/event/ladies-league/2027-06-30/
END:VEVENT
BEGIN:VEVENT
DTSTART;TZID=America/Chicago:20270707T173000
DTEND;TZID=America/Chicago:20270707T193000
DTSTAMP:20260425T083417
CREATED:20250602T173030Z
LAST-MODIFIED:20250602T173033Z
UID:10000290-1814981400-1814988600@eagleknoll.com
SUMMARY:Ladies League
DESCRIPTION:
URL:https://eagleknoll.com/event/ladies-league/2027-07-07/
END:VEVENT
END:VCALENDAR