BEGIN:VCALENDAR
VERSION:2.0
PRODID:-//Eagle Knoll Golf Club - Hartsburg, MO - ECPv6.15.20//NONSGML v1.0//EN
CALSCALE:GREGORIAN
METHOD:PUBLISH
X-WR-CALNAME:Eagle Knoll Golf Club - Hartsburg, MO
X-ORIGINAL-URL:https://eagleknoll.com
X-WR-CALDESC:Events for Eagle Knoll Golf Club - Hartsburg, MO
REFRESH-INTERVAL;VALUE=DURATION:PT1H
X-Robots-Tag:noindex
X-PUBLISHED-TTL:PT1H
BEGIN:VTIMEZONE
TZID:America/Chicago
BEGIN:DAYLIGHT
TZOFFSETFROM:-0600
TZOFFSETTO:-0500
TZNAME:CDT
DTSTART:20250309T080000
END:DAYLIGHT
BEGIN:STANDARD
TZOFFSETFROM:-0500
TZOFFSETTO:-0600
TZNAME:CST
DTSTART:20251102T070000
END:STANDARD
BEGIN:DAYLIGHT
TZOFFSETFROM:-0600
TZOFFSETTO:-0500
TZNAME:CDT
DTSTART:20260308T080000
END:DAYLIGHT
BEGIN:STANDARD
TZOFFSETFROM:-0500
TZOFFSETTO:-0600
TZNAME:CST
DTSTART:20261101T070000
END:STANDARD
BEGIN:DAYLIGHT
TZOFFSETFROM:-0600
TZOFFSETTO:-0500
TZNAME:CDT
DTSTART:20270314T080000
END:DAYLIGHT
BEGIN:STANDARD
TZOFFSETFROM:-0500
TZOFFSETTO:-0600
TZNAME:CST
DTSTART:20271107T070000
END:STANDARD
END:VTIMEZONE
BEGIN:VEVENT
DTSTART;TZID=America/Chicago:20260729T173000
DTEND;TZID=America/Chicago:20260729T193000
DTSTAMP:20260421T160850
CREATED:20250602T173030Z
LAST-MODIFIED:20250602T173033Z
UID:10000241-1785346200-1785353400@eagleknoll.com
SUMMARY:Ladies League
DESCRIPTION:
URL:https://eagleknoll.com/event/ladies-league/2026-07-29/
END:VEVENT
BEGIN:VEVENT
DTSTART;TZID=America/Chicago:20260802T150000
DTEND;TZID=America/Chicago:20260802T150000
DTSTAMP:20260421T160850
CREATED:20260203T200009Z
LAST-MODIFIED:20260204T171247Z
UID:10000464-1785682800-1785682800@eagleknoll.com
SUMMARY:Nine & Dine
DESCRIPTION:Grab a partner and join us on the first Sunday of every month for 9 holes and a bite to eat afterwards! Our menu just got better! \n\n\n\nGames vary monthly \n\n\n\nPayouts & Prizes available! \n\n\n\n$30/Non-member | $10/member
URL:https://eagleknoll.com/event/nine-dine-7/
ATTACH;FMTTYPE=image/png:https://eagleknoll.com/wp-content/uploads/2026/02/nine-dine-1.png
ORGANIZER;CN="Kyna Smith":MAILTO:kynas@maxim.golf
END:VEVENT
BEGIN:VEVENT
DTSTART;TZID=America/Chicago:20260803T170000
DTEND;TZID=America/Chicago:20260803T170000
DTSTAMP:20260421T160850
CREATED:20260203T201858Z
LAST-MODIFIED:20260203T201900Z
UID:10000493-1785776400-1785776400@eagleknoll.com
SUMMARY:Men's League
DESCRIPTION:
URL:https://eagleknoll.com/event/mens-league-2/2026-08-03/
END:VEVENT
BEGIN:VEVENT
DTSTART;TZID=America/Chicago:20260805T090000
DTEND;TZID=America/Chicago:20260805T090000
DTSTAMP:20260421T160850
CREATED:20260203T201305Z
LAST-MODIFIED:20260204T173007Z
UID:10000469-1785920400-1785920400@eagleknoll.com
SUMMARY:Senior League
DESCRIPTION:
URL:https://eagleknoll.com/event/senior-league-5/
ATTACH;FMTTYPE=image/jpeg:https://eagleknoll.com/wp-content/uploads/2026/02/IMG_6532.jpeg
ORGANIZER;CN="Gavin Frevert":MAILTO:gavinf@maxim.golf
END:VEVENT
BEGIN:VEVENT
DTSTART;TZID=America/Chicago:20260805T170000
DTEND;TZID=America/Chicago:20260805T170000
DTSTAMP:20260421T160850
CREATED:20260204T170221Z
LAST-MODIFIED:20260204T173418Z
UID:10000526-1785949200-1785949200@eagleknoll.com
SUMMARY:Looper League
DESCRIPTION:
URL:https://eagleknoll.com/event/looper-league-3/2026-08-05/
ATTACH;FMTTYPE=image/jpeg:https://eagleknoll.com/wp-content/uploads/2026/02/IMG_6533.jpeg
ORGANIZER;CN="Gavin Frevert":MAILTO:gavinf@maxim.golf
END:VEVENT
BEGIN:VEVENT
DTSTART;TZID=America/Chicago:20260805T173000
DTEND;TZID=America/Chicago:20260805T193000
DTSTAMP:20260421T160850
CREATED:20250602T173030Z
LAST-MODIFIED:20250602T173033Z
UID:10000242-1785951000-1785958200@eagleknoll.com
SUMMARY:Ladies League
DESCRIPTION:
URL:https://eagleknoll.com/event/ladies-league/2026-08-05/
END:VEVENT
BEGIN:VEVENT
DTSTART;TZID=America/Chicago:20260808T090000
DTEND;TZID=America/Chicago:20260808T090000
DTSTAMP:20260421T160850
CREATED:20260203T195428Z
LAST-MODIFIED:20260401T155053Z
UID:10000461-1786179600-1786179600@eagleknoll.com
SUMMARY:Eagle Knoll 30th Anniversary Tournament
DESCRIPTION:Come join us at our 30th Anniversary Tournament. For this tournament there are 4 person teams\, 1 net Score + 2 gross scores taken for total score. Flighted payouts prizes for hole contests and $100-hole sponsors available. To RSVP\, please contact the tournament organizer.
URL:https://eagleknoll.com/event/eagle-knoll-30th-anniversary-tournament/
ATTACH;FMTTYPE=image/png:https://eagleknoll.com/wp-content/uploads/2026/02/come-celebrate-our-1.png
ORGANIZER;CN="Kyna Smith":MAILTO:kynas@maxim.golf
END:VEVENT
BEGIN:VEVENT
DTSTART;TZID=America/Chicago:20260810T170000
DTEND;TZID=America/Chicago:20260810T170000
DTSTAMP:20260421T160850
CREATED:20260203T201858Z
LAST-MODIFIED:20260203T201900Z
UID:10000494-1786381200-1786381200@eagleknoll.com
SUMMARY:Men's League
DESCRIPTION:
URL:https://eagleknoll.com/event/mens-league-2/2026-08-10/
END:VEVENT
BEGIN:VEVENT
DTSTART;TZID=America/Chicago:20260812T170000
DTEND;TZID=America/Chicago:20260812T170000
DTSTAMP:20260421T160850
CREATED:20260204T170221Z
LAST-MODIFIED:20260204T173418Z
UID:10000527-1786554000-1786554000@eagleknoll.com
SUMMARY:Looper League
DESCRIPTION:
URL:https://eagleknoll.com/event/looper-league-3/2026-08-12/
ATTACH;FMTTYPE=image/jpeg:https://eagleknoll.com/wp-content/uploads/2026/02/IMG_6533.jpeg
ORGANIZER;CN="Gavin Frevert":MAILTO:gavinf@maxim.golf
END:VEVENT
BEGIN:VEVENT
DTSTART;TZID=America/Chicago:20260812T173000
DTEND;TZID=America/Chicago:20260812T193000
DTSTAMP:20260421T160850
CREATED:20250602T173030Z
LAST-MODIFIED:20250602T173033Z
UID:10000243-1786555800-1786563000@eagleknoll.com
SUMMARY:Ladies League
DESCRIPTION:
URL:https://eagleknoll.com/event/ladies-league/2026-08-12/
END:VEVENT
BEGIN:VEVENT
DTSTART;TZID=America/Chicago:20260813T173000
DTEND;TZID=America/Chicago:20260813T190000
DTSTAMP:20260421T160850
CREATED:20260312T192506Z
LAST-MODIFIED:20260312T193319Z
UID:10000549-1786642200-1786647600@eagleknoll.com
SUMMARY:Pop up Clinic
DESCRIPTION:Learn golf basics in a fun and supportive environment with our Head Golf Professional\, Gavin Frevert!
URL:https://eagleknoll.com/event/pop-up-clinic-3/2026-08-13/
ATTACH;FMTTYPE=image/png:https://eagleknoll.com/wp-content/uploads/2026/03/Pop-Up-Clinic-Flyer.png
ORGANIZER;CN="Gavin Frevert":MAILTO:gavinf@maxim.golf
END:VEVENT
BEGIN:VEVENT
DTSTART;TZID=America/Chicago:20260815T080000
DTEND;TZID=America/Chicago:20260815T170000
DTSTAMP:20260421T160850
CREATED:20260203T185804Z
LAST-MODIFIED:20260203T185828Z
UID:10000448-1786780800-1786813200@eagleknoll.com
SUMMARY:SOBOCO Booster's Club
DESCRIPTION:Scramble Tournament
URL:https://eagleknoll.com/event/soboco-boosters-club/
END:VEVENT
BEGIN:VEVENT
DTSTART;TZID=America/Chicago:20260817T170000
DTEND;TZID=America/Chicago:20260817T170000
DTSTAMP:20260421T160850
CREATED:20260203T201858Z
LAST-MODIFIED:20260203T201900Z
UID:10000495-1786986000-1786986000@eagleknoll.com
SUMMARY:Men's League
DESCRIPTION:
URL:https://eagleknoll.com/event/mens-league-2/2026-08-17/
END:VEVENT
BEGIN:VEVENT
DTSTART;TZID=America/Chicago:20260819T170000
DTEND;TZID=America/Chicago:20260819T170000
DTSTAMP:20260421T160850
CREATED:20260204T170221Z
LAST-MODIFIED:20260204T173418Z
UID:10000528-1787158800-1787158800@eagleknoll.com
SUMMARY:Looper League
DESCRIPTION:
URL:https://eagleknoll.com/event/looper-league-3/2026-08-19/
ATTACH;FMTTYPE=image/jpeg:https://eagleknoll.com/wp-content/uploads/2026/02/IMG_6533.jpeg
ORGANIZER;CN="Gavin Frevert":MAILTO:gavinf@maxim.golf
END:VEVENT
BEGIN:VEVENT
DTSTART;TZID=America/Chicago:20260819T173000
DTEND;TZID=America/Chicago:20260819T193000
DTSTAMP:20260421T160850
CREATED:20250602T173030Z
LAST-MODIFIED:20250602T173033Z
UID:10000244-1787160600-1787167800@eagleknoll.com
SUMMARY:Ladies League
DESCRIPTION:
URL:https://eagleknoll.com/event/ladies-league/2026-08-19/
END:VEVENT
BEGIN:VEVENT
DTSTART;TZID=America/Chicago:20260824T170000
DTEND;TZID=America/Chicago:20260824T170000
DTSTAMP:20260421T160850
CREATED:20260203T201858Z
LAST-MODIFIED:20260203T201900Z
UID:10000496-1787590800-1787590800@eagleknoll.com
SUMMARY:Men's League
DESCRIPTION:
URL:https://eagleknoll.com/event/mens-league-2/2026-08-24/
END:VEVENT
BEGIN:VEVENT
DTSTART;TZID=America/Chicago:20260826T170000
DTEND;TZID=America/Chicago:20260826T170000
DTSTAMP:20260421T160850
CREATED:20260204T170221Z
LAST-MODIFIED:20260204T173418Z
UID:10000529-1787763600-1787763600@eagleknoll.com
SUMMARY:Looper League
DESCRIPTION:
URL:https://eagleknoll.com/event/looper-league-3/2026-08-26/
ATTACH;FMTTYPE=image/jpeg:https://eagleknoll.com/wp-content/uploads/2026/02/IMG_6533.jpeg
ORGANIZER;CN="Gavin Frevert":MAILTO:gavinf@maxim.golf
END:VEVENT
BEGIN:VEVENT
DTSTART;TZID=America/Chicago:20260826T173000
DTEND;TZID=America/Chicago:20260826T193000
DTSTAMP:20260421T160850
CREATED:20250602T173030Z
LAST-MODIFIED:20250602T173033Z
UID:10000245-1787765400-1787772600@eagleknoll.com
SUMMARY:Ladies League
DESCRIPTION:
URL:https://eagleknoll.com/event/ladies-league/2026-08-26/
END:VEVENT
BEGIN:VEVENT
DTSTART;TZID=America/Chicago:20260831T170000
DTEND;TZID=America/Chicago:20260831T170000
DTSTAMP:20260421T160850
CREATED:20260203T201858Z
LAST-MODIFIED:20260203T201900Z
UID:10000497-1788195600-1788195600@eagleknoll.com
SUMMARY:Men's League
DESCRIPTION:
URL:https://eagleknoll.com/event/mens-league-2/2026-08-31/
END:VEVENT
BEGIN:VEVENT
DTSTART;TZID=America/Chicago:20260902T090000
DTEND;TZID=America/Chicago:20260902T090000
DTSTAMP:20260421T160850
CREATED:20260203T201352Z
LAST-MODIFIED:20260204T172932Z
UID:10000470-1788339600-1788339600@eagleknoll.com
SUMMARY:Senior league
DESCRIPTION:
URL:https://eagleknoll.com/event/senior-league-6/
ATTACH;FMTTYPE=image/jpeg:https://eagleknoll.com/wp-content/uploads/2026/02/IMG_6532.jpeg
ORGANIZER;CN="Gavin Frevert":MAILTO:gavinf@maxim.golf
END:VEVENT
BEGIN:VEVENT
DTSTART;TZID=America/Chicago:20260902T170000
DTEND;TZID=America/Chicago:20260902T170000
DTSTAMP:20260421T160850
CREATED:20260204T170221Z
LAST-MODIFIED:20260204T173418Z
UID:10000530-1788368400-1788368400@eagleknoll.com
SUMMARY:Looper League
DESCRIPTION:
URL:https://eagleknoll.com/event/looper-league-3/2026-09-02/
ATTACH;FMTTYPE=image/jpeg:https://eagleknoll.com/wp-content/uploads/2026/02/IMG_6533.jpeg
ORGANIZER;CN="Gavin Frevert":MAILTO:gavinf@maxim.golf
END:VEVENT
BEGIN:VEVENT
DTSTART;TZID=America/Chicago:20260902T173000
DTEND;TZID=America/Chicago:20260902T193000
DTSTAMP:20260421T160850
CREATED:20250602T173030Z
LAST-MODIFIED:20250602T173033Z
UID:10000246-1788370200-1788377400@eagleknoll.com
SUMMARY:Ladies League
DESCRIPTION:
URL:https://eagleknoll.com/event/ladies-league/2026-09-02/
END:VEVENT
BEGIN:VEVENT
DTSTART;TZID=America/Chicago:20260904T080000
DTEND;TZID=America/Chicago:20260904T170000
DTSTAMP:20260421T160850
CREATED:20260203T182933Z
LAST-MODIFIED:20260203T182934Z
UID:10000445-1788508800-1788541200@eagleknoll.com
SUMMARY:Woody's Tournament
DESCRIPTION:
URL:https://eagleknoll.com/event/woodys-tournament-2/
END:VEVENT
BEGIN:VEVENT
DTSTART;TZID=America/Chicago:20260906T150000
DTEND;TZID=America/Chicago:20260906T150000
DTSTAMP:20260421T160850
CREATED:20260203T195023Z
LAST-MODIFIED:20260204T171744Z
UID:10000459-1788706800-1788706800@eagleknoll.com
SUMMARY:Nine & Dine
DESCRIPTION:Grab a partner and join us on the first Sunday of every month for 9 holes and a bite to eat afterwards! Our menu just got better! \n\n\n\nGames vary monthly \n\n\n\nPayouts & Prizes available! \n\n\n\n$30/Non-member | $10/member
URL:https://eagleknoll.com/event/nine-dine-3/
ATTACH;FMTTYPE=image/png:https://eagleknoll.com/wp-content/uploads/2026/02/nine-dine-1-4.png
ORGANIZER;CN="Kyna Smith":MAILTO:kynas@maxim.golf
END:VEVENT
BEGIN:VEVENT
DTSTART;TZID=America/Chicago:20260907T080000
DTEND;TZID=America/Chicago:20260907T170000
DTSTAMP:20260421T160850
CREATED:20260210T160800Z
LAST-MODIFIED:20260210T161539Z
UID:10000539-1788768000-1788800400@eagleknoll.com
SUMMARY:Labor Day
DESCRIPTION:
URL:https://eagleknoll.com/event/labor-day/
END:VEVENT
BEGIN:VEVENT
DTSTART;TZID=America/Chicago:20260907T170000
DTEND;TZID=America/Chicago:20260907T170000
DTSTAMP:20260421T160850
CREATED:20260203T201858Z
LAST-MODIFIED:20260203T201900Z
UID:10000498-1788800400-1788800400@eagleknoll.com
SUMMARY:Men's League
DESCRIPTION:
URL:https://eagleknoll.com/event/mens-league-2/2026-09-07/
END:VEVENT
BEGIN:VEVENT
DTSTART;TZID=America/Chicago:20260909T170000
DTEND;TZID=America/Chicago:20260909T170000
DTSTAMP:20260421T160850
CREATED:20260204T170221Z
LAST-MODIFIED:20260204T173418Z
UID:10000531-1788973200-1788973200@eagleknoll.com
SUMMARY:Looper League
DESCRIPTION:
URL:https://eagleknoll.com/event/looper-league-3/2026-09-09/
ATTACH;FMTTYPE=image/jpeg:https://eagleknoll.com/wp-content/uploads/2026/02/IMG_6533.jpeg
ORGANIZER;CN="Gavin Frevert":MAILTO:gavinf@maxim.golf
END:VEVENT
BEGIN:VEVENT
DTSTART;TZID=America/Chicago:20260909T173000
DTEND;TZID=America/Chicago:20260909T193000
DTSTAMP:20260421T160850
CREATED:20250602T173030Z
LAST-MODIFIED:20250602T173033Z
UID:10000247-1788975000-1788982200@eagleknoll.com
SUMMARY:Ladies League
DESCRIPTION:
URL:https://eagleknoll.com/event/ladies-league/2026-09-09/
END:VEVENT
BEGIN:VEVENT
DTSTART;TZID=America/Chicago:20260912T090000
DTEND;TZID=America/Chicago:20260913T170000
DTSTAMP:20260421T160850
CREATED:20260203T193002Z
LAST-MODIFIED:20260204T172559Z
UID:10000453-1789203600-1789318800@eagleknoll.com
SUMMARY:4th Annual Heroes Classic
DESCRIPTION:2-Person Scramble – $180/member | $200/non-member | 60 Team Max \n\n\n\nFriday\, September 11th: Registration all day | Optional $20 practice rounds from 8:30AM-12PM | Horse Race Registration: 4:00-4:30PM | Horse Race starts at 5:00 PM ($20/team) \n\n\n\nSaturday\, September 12th: 9AM shotgun start | Calcutta during catered dinner  \n\n\n\nSunday\, September 13th: 9AM shotgun start | Breakfast and Lunch included | Scoring during lunch after the round \n\n\n\nPayouts: $1k\, $800\, $600 (each flight) Cash Only! \n\n\n\nTeam entry includes tee gift\, water\, dinner Saturday\, breakfast and lunch Sunday\, automatic entry to win a Vortex Rangefiner & more! \n\n\n\nHole Sponsors: $150 | Call 785-760-7771 to RSVP!
URL:https://eagleknoll.com/event/4th-annual-heroes-classic/
ATTACH;FMTTYPE=image/png:https://eagleknoll.com/wp-content/uploads/2026/02/1st-annual-hero-ventures-calcutta-11.png
ORGANIZER;CN="Kyna Smith":MAILTO:kynas@maxim.golf
END:VEVENT
BEGIN:VEVENT
DTSTART;TZID=America/Chicago:20260914T170000
DTEND;TZID=America/Chicago:20260914T170000
DTSTAMP:20260421T160850
CREATED:20260203T201858Z
LAST-MODIFIED:20260203T201900Z
UID:10000499-1789405200-1789405200@eagleknoll.com
SUMMARY:Men's League
DESCRIPTION:
URL:https://eagleknoll.com/event/mens-league-2/2026-09-14/
END:VEVENT
END:VCALENDAR