BEGIN:VCALENDAR
VERSION:2.0
PRODID:-//Eagle Knoll Golf Club - Hartsburg, MO - ECPv6.15.20//NONSGML v1.0//EN
CALSCALE:GREGORIAN
METHOD:PUBLISH
X-WR-CALNAME:Eagle Knoll Golf Club - Hartsburg, MO
X-ORIGINAL-URL:https://eagleknoll.com
X-WR-CALDESC:Events for Eagle Knoll Golf Club - Hartsburg, MO
REFRESH-INTERVAL;VALUE=DURATION:PT1H
X-Robots-Tag:noindex
X-PUBLISHED-TTL:PT1H
BEGIN:VTIMEZONE
TZID:America/Chicago
BEGIN:DAYLIGHT
TZOFFSETFROM:-0600
TZOFFSETTO:-0500
TZNAME:CDT
DTSTART:20240310T080000
END:DAYLIGHT
BEGIN:STANDARD
TZOFFSETFROM:-0500
TZOFFSETTO:-0600
TZNAME:CST
DTSTART:20241103T070000
END:STANDARD
BEGIN:DAYLIGHT
TZOFFSETFROM:-0600
TZOFFSETTO:-0500
TZNAME:CDT
DTSTART:20250309T080000
END:DAYLIGHT
BEGIN:STANDARD
TZOFFSETFROM:-0500
TZOFFSETTO:-0600
TZNAME:CST
DTSTART:20251102T070000
END:STANDARD
BEGIN:DAYLIGHT
TZOFFSETFROM:-0600
TZOFFSETTO:-0500
TZNAME:CDT
DTSTART:20260308T080000
END:DAYLIGHT
BEGIN:STANDARD
TZOFFSETFROM:-0500
TZOFFSETTO:-0600
TZNAME:CST
DTSTART:20261101T070000
END:STANDARD
END:VTIMEZONE
BEGIN:VEVENT
DTSTART;TZID=America/Chicago:20250827T173000
DTEND;TZID=America/Chicago:20250827T193000
DTSTAMP:20260420T001601
CREATED:20250602T173030Z
LAST-MODIFIED:20250602T173033Z
UID:10000193-1756315800-1756323000@eagleknoll.com
SUMMARY:Ladies League
DESCRIPTION:
URL:https://eagleknoll.com/event/ladies-league/2025-08-27/
END:VEVENT
BEGIN:VEVENT
DTSTART;TZID=America/Chicago:20250827T170000
DTEND;TZID=America/Chicago:20250827T190000
DTSTAMP:20260420T001601
CREATED:20250328T165832Z
LAST-MODIFIED:20250328T165833Z
UID:10000157-1756314000-1756321200@eagleknoll.com
SUMMARY:Looper League
DESCRIPTION:Every Wednesday at 5:30pmMembers: $11Guests: $21Walking 9 HolesSkins Game and Closest To Pin
URL:https://eagleknoll.com/event/looper-league-2/2025-08-27/
LOCATION:Eagle Knoll Golf Club\, 5757 E. Eagle Knoll Dr.\, Hartsburg\, Missouri\, 65039\, United States
ATTACH;FMTTYPE=image/png:https://eagleknoll.com/wp-content/uploads/2025/03/Black-Ripped-Bowling-Night-Flyer-1.png-1.png
ORGANIZER;CN="Gavin Frevert":MAILTO:gavinf@maxim.golf
END:VEVENT
BEGIN:VEVENT
DTSTART;TZID=America/Chicago:20250825T170000
DTEND;TZID=America/Chicago:20250825T190000
DTSTAMP:20260420T001601
CREATED:20250224T204257Z
LAST-MODIFIED:20250224T204302Z
UID:10000035-1756141200-1756148400@eagleknoll.com
SUMMARY:Men's League
DESCRIPTION:5:00pm Shotgun Start – DON’T BE LATE!MUST get your name on the list by 3:30pm each Monday.Waitlist starts after 55 golfers.Call 573-761-4653 to join the list.Bring $11 cash to enter – Eagle Knoll does not do cash back on transactions.Non-Members: $25 to play (cash or card)
URL:https://eagleknoll.com/event/mens-league/2025-08-25/
LOCATION:Eagle Knoll Golf Club\, 5757 E. Eagle Knoll Dr.\, Hartsburg\, Missouri\, 65039\, United States
END:VEVENT
BEGIN:VEVENT
DTSTART;TZID=America/Chicago:20250823T090000
DTEND;TZID=America/Chicago:20250824T170000
DTSTAMP:20260420T001601
CREATED:20250224T215703Z
LAST-MODIFIED:20250224T215716Z
UID:10000116-1755939600-1756054800@eagleknoll.com
SUMMARY:Dirty Dozen Tournament
DESCRIPTION:Private tournament. Tee times are still available.
URL:https://eagleknoll.com/event/dirty-dozen-tournament/
LOCATION:Eagle Knoll Golf Club\, 5757 E. Eagle Knoll Dr.\, Hartsburg\, Missouri\, 65039\, United States
END:VEVENT
BEGIN:VEVENT
DTSTART;TZID=America/Chicago:20250820T173000
DTEND;TZID=America/Chicago:20250820T193000
DTSTAMP:20260420T001601
CREATED:20250602T173030Z
LAST-MODIFIED:20250602T173033Z
UID:10000192-1755711000-1755718200@eagleknoll.com
SUMMARY:Ladies League
DESCRIPTION:
URL:https://eagleknoll.com/event/ladies-league/2025-08-20/
END:VEVENT
BEGIN:VEVENT
DTSTART;TZID=America/Chicago:20250820T170000
DTEND;TZID=America/Chicago:20250820T190000
DTSTAMP:20260420T001601
CREATED:20250328T165832Z
LAST-MODIFIED:20250328T165833Z
UID:10000156-1755709200-1755716400@eagleknoll.com
SUMMARY:Looper League
DESCRIPTION:Every Wednesday at 5:30pmMembers: $11Guests: $21Walking 9 HolesSkins Game and Closest To Pin
URL:https://eagleknoll.com/event/looper-league-2/2025-08-20/
LOCATION:Eagle Knoll Golf Club\, 5757 E. Eagle Knoll Dr.\, Hartsburg\, Missouri\, 65039\, United States
ATTACH;FMTTYPE=image/png:https://eagleknoll.com/wp-content/uploads/2025/03/Black-Ripped-Bowling-Night-Flyer-1.png-1.png
ORGANIZER;CN="Gavin Frevert":MAILTO:gavinf@maxim.golf
END:VEVENT
BEGIN:VEVENT
DTSTART;TZID=America/Chicago:20250818T170000
DTEND;TZID=America/Chicago:20250818T190000
DTSTAMP:20260420T001601
CREATED:20250224T204257Z
LAST-MODIFIED:20250224T204302Z
UID:10000034-1755536400-1755543600@eagleknoll.com
SUMMARY:Men's League
DESCRIPTION:5:00pm Shotgun Start – DON’T BE LATE!MUST get your name on the list by 3:30pm each Monday.Waitlist starts after 55 golfers.Call 573-761-4653 to join the list.Bring $11 cash to enter – Eagle Knoll does not do cash back on transactions.Non-Members: $25 to play (cash or card)
URL:https://eagleknoll.com/event/mens-league/2025-08-18/
LOCATION:Eagle Knoll Golf Club\, 5757 E. Eagle Knoll Dr.\, Hartsburg\, Missouri\, 65039\, United States
END:VEVENT
BEGIN:VEVENT
DTSTART;TZID=America/Chicago:20250815T073000
DTEND;TZID=America/Chicago:20250815T090000
DTSTAMP:20260420T001601
CREATED:20250224T215608Z
LAST-MODIFIED:20250224T215612Z
UID:10000115-1755243000-1755248400@eagleknoll.com
SUMMARY:YMCA Kids Golf Camp
DESCRIPTION:Normal tee times available Monday and Tuesday.  \n\n\n\nFirst tee time available Wednesday-Friday is 9:30 AM.
URL:https://eagleknoll.com/event/ymca-kids-golf-camp/2025-08-15/
LOCATION:Eagle Knoll Golf Club\, 5757 E. Eagle Knoll Dr.\, Hartsburg\, Missouri\, 65039\, United States
ORGANIZER;CN="kbatye@jcymca.org":MAILTO:kbatye@jcymca.org
END:VEVENT
BEGIN:VEVENT
DTSTART;TZID=America/Chicago:20250814T073000
DTEND;TZID=America/Chicago:20250814T090000
DTSTAMP:20260420T001601
CREATED:20250224T215608Z
LAST-MODIFIED:20250224T215612Z
UID:10000114-1755156600-1755162000@eagleknoll.com
SUMMARY:YMCA Kids Golf Camp
DESCRIPTION:Normal tee times available Monday and Tuesday.  \n\n\n\nFirst tee time available Wednesday-Friday is 9:30 AM.
URL:https://eagleknoll.com/event/ymca-kids-golf-camp/2025-08-14/
LOCATION:Eagle Knoll Golf Club\, 5757 E. Eagle Knoll Dr.\, Hartsburg\, Missouri\, 65039\, United States
ORGANIZER;CN="kbatye@jcymca.org":MAILTO:kbatye@jcymca.org
END:VEVENT
BEGIN:VEVENT
DTSTART;TZID=America/Chicago:20250813T173000
DTEND;TZID=America/Chicago:20250813T193000
DTSTAMP:20260420T001601
CREATED:20250602T173030Z
LAST-MODIFIED:20250602T173033Z
UID:10000191-1755106200-1755113400@eagleknoll.com
SUMMARY:Ladies League
DESCRIPTION:
URL:https://eagleknoll.com/event/ladies-league/2025-08-13/
END:VEVENT
BEGIN:VEVENT
DTSTART;TZID=America/Chicago:20250813T170000
DTEND;TZID=America/Chicago:20250813T190000
DTSTAMP:20260420T001601
CREATED:20250328T165832Z
LAST-MODIFIED:20250328T165833Z
UID:10000155-1755104400-1755111600@eagleknoll.com
SUMMARY:Looper League
DESCRIPTION:Every Wednesday at 5:30pmMembers: $11Guests: $21Walking 9 HolesSkins Game and Closest To Pin
URL:https://eagleknoll.com/event/looper-league-2/2025-08-13/
LOCATION:Eagle Knoll Golf Club\, 5757 E. Eagle Knoll Dr.\, Hartsburg\, Missouri\, 65039\, United States
ATTACH;FMTTYPE=image/png:https://eagleknoll.com/wp-content/uploads/2025/03/Black-Ripped-Bowling-Night-Flyer-1.png-1.png
ORGANIZER;CN="Gavin Frevert":MAILTO:gavinf@maxim.golf
END:VEVENT
BEGIN:VEVENT
DTSTART;TZID=America/Chicago:20250813T073000
DTEND;TZID=America/Chicago:20250813T090000
DTSTAMP:20260420T001601
CREATED:20250224T215608Z
LAST-MODIFIED:20250224T215612Z
UID:10000113-1755070200-1755075600@eagleknoll.com
SUMMARY:YMCA Kids Golf Camp
DESCRIPTION:Normal tee times available Monday and Tuesday.  \n\n\n\nFirst tee time available Wednesday-Friday is 9:30 AM.
URL:https://eagleknoll.com/event/ymca-kids-golf-camp/2025-08-13/
LOCATION:Eagle Knoll Golf Club\, 5757 E. Eagle Knoll Dr.\, Hartsburg\, Missouri\, 65039\, United States
ORGANIZER;CN="kbatye@jcymca.org":MAILTO:kbatye@jcymca.org
END:VEVENT
BEGIN:VEVENT
DTSTART;TZID=America/Chicago:20250812T073000
DTEND;TZID=America/Chicago:20250812T090000
DTSTAMP:20260420T001601
CREATED:20250224T215608Z
LAST-MODIFIED:20250224T215612Z
UID:10000112-1754983800-1754989200@eagleknoll.com
SUMMARY:YMCA Kids Golf Camp
DESCRIPTION:Normal tee times available Monday and Tuesday.  \n\n\n\nFirst tee time available Wednesday-Friday is 9:30 AM.
URL:https://eagleknoll.com/event/ymca-kids-golf-camp/2025-08-12/
LOCATION:Eagle Knoll Golf Club\, 5757 E. Eagle Knoll Dr.\, Hartsburg\, Missouri\, 65039\, United States
ORGANIZER;CN="kbatye@jcymca.org":MAILTO:kbatye@jcymca.org
END:VEVENT
BEGIN:VEVENT
DTSTART;TZID=America/Chicago:20250811T170000
DTEND;TZID=America/Chicago:20250811T190000
DTSTAMP:20260420T001601
CREATED:20250224T204257Z
LAST-MODIFIED:20250224T204302Z
UID:10000033-1754931600-1754938800@eagleknoll.com
SUMMARY:Men's League
DESCRIPTION:5:00pm Shotgun Start – DON’T BE LATE!MUST get your name on the list by 3:30pm each Monday.Waitlist starts after 55 golfers.Call 573-761-4653 to join the list.Bring $11 cash to enter – Eagle Knoll does not do cash back on transactions.Non-Members: $25 to play (cash or card)
URL:https://eagleknoll.com/event/mens-league/2025-08-11/
LOCATION:Eagle Knoll Golf Club\, 5757 E. Eagle Knoll Dr.\, Hartsburg\, Missouri\, 65039\, United States
END:VEVENT
BEGIN:VEVENT
DTSTART;TZID=America/Chicago:20250811T073000
DTEND;TZID=America/Chicago:20250811T090000
DTSTAMP:20260420T001601
CREATED:20250224T215608Z
LAST-MODIFIED:20250224T215612Z
UID:10000111-1754897400-1754902800@eagleknoll.com
SUMMARY:YMCA Kids Golf Camp
DESCRIPTION:Normal tee times available Monday and Tuesday.  \n\n\n\nFirst tee time available Wednesday-Friday is 9:30 AM.
URL:https://eagleknoll.com/event/ymca-kids-golf-camp/2025-08-11/
LOCATION:Eagle Knoll Golf Club\, 5757 E. Eagle Knoll Dr.\, Hartsburg\, Missouri\, 65039\, United States
ORGANIZER;CN="kbatye@jcymca.org":MAILTO:kbatye@jcymca.org
END:VEVENT
BEGIN:VEVENT
DTSTART;TZID=America/Chicago:20250810T170000
DTEND;TZID=America/Chicago:20250810T190000
DTSTAMP:20260420T001601
CREATED:20250602T143656Z
LAST-MODIFIED:20250602T143658Z
UID:10000178-1754845200-1754852400@eagleknoll.com
SUMMARY:Lads & Lasses League
DESCRIPTION:Join us for a fun afternoon! Format changes every month!
URL:https://eagleknoll.com/event/lads-lasses-league-2/2025-08-10/
LOCATION:Eagle Knoll Golf Club\, 5757 E. Eagle Knoll Dr.\, Hartsburg\, Missouri\, 65039\, United States
ORGANIZER;CN="Gavin Frevert":MAILTO:gavinf@maxim.golf
END:VEVENT
BEGIN:VEVENT
DTSTART;TZID=America/Chicago:20250806T173000
DTEND;TZID=America/Chicago:20250806T193000
DTSTAMP:20260420T001601
CREATED:20250602T173030Z
LAST-MODIFIED:20250602T173033Z
UID:10000190-1754501400-1754508600@eagleknoll.com
SUMMARY:Ladies League
DESCRIPTION:
URL:https://eagleknoll.com/event/ladies-league/2025-08-06/
END:VEVENT
BEGIN:VEVENT
DTSTART;TZID=America/Chicago:20250806T170000
DTEND;TZID=America/Chicago:20250806T190000
DTSTAMP:20260420T001601
CREATED:20250328T165832Z
LAST-MODIFIED:20250328T165833Z
UID:10000154-1754499600-1754506800@eagleknoll.com
SUMMARY:Looper League
DESCRIPTION:Every Wednesday at 5:30pmMembers: $11Guests: $21Walking 9 HolesSkins Game and Closest To Pin
URL:https://eagleknoll.com/event/looper-league-2/2025-08-06/
LOCATION:Eagle Knoll Golf Club\, 5757 E. Eagle Knoll Dr.\, Hartsburg\, Missouri\, 65039\, United States
ATTACH;FMTTYPE=image/png:https://eagleknoll.com/wp-content/uploads/2025/03/Black-Ripped-Bowling-Night-Flyer-1.png-1.png
ORGANIZER;CN="Gavin Frevert":MAILTO:gavinf@maxim.golf
END:VEVENT
BEGIN:VEVENT
DTSTART;TZID=America/Chicago:20250806T090000
DTEND;TZID=America/Chicago:20250806T130000
DTSTAMP:20260420T001601
CREATED:20250408T191739Z
LAST-MODIFIED:20250828T182518Z
UID:10000171-1754470800-1754485200@eagleknoll.com
SUMMARY:Senior 2-Man Scramble
DESCRIPTION:
URL:https://eagleknoll.com/event/senior-2-man-scramble/2025-08-06/
ATTACH;FMTTYPE=image/png:https://eagleknoll.com/wp-content/uploads/2025/04/thumbnail_Black-Ripped-Bowling-Night-Flyer.png
END:VEVENT
BEGIN:VEVENT
DTSTART;TZID=America/Chicago:20250804T170000
DTEND;TZID=America/Chicago:20250804T190000
DTSTAMP:20260420T001601
CREATED:20250224T204257Z
LAST-MODIFIED:20250224T204302Z
UID:10000032-1754326800-1754334000@eagleknoll.com
SUMMARY:Men's League
DESCRIPTION:5:00pm Shotgun Start – DON’T BE LATE!MUST get your name on the list by 3:30pm each Monday.Waitlist starts after 55 golfers.Call 573-761-4653 to join the list.Bring $11 cash to enter – Eagle Knoll does not do cash back on transactions.Non-Members: $25 to play (cash or card)
URL:https://eagleknoll.com/event/mens-league/2025-08-04/
LOCATION:Eagle Knoll Golf Club\, 5757 E. Eagle Knoll Dr.\, Hartsburg\, Missouri\, 65039\, United States
END:VEVENT
BEGIN:VEVENT
DTSTART;TZID=America/Chicago:20250730T173000
DTEND;TZID=America/Chicago:20250730T193000
DTSTAMP:20260420T001601
CREATED:20250602T173030Z
LAST-MODIFIED:20250602T173033Z
UID:10000189-1753896600-1753903800@eagleknoll.com
SUMMARY:Ladies League
DESCRIPTION:
URL:https://eagleknoll.com/event/ladies-league/2025-07-30/
END:VEVENT
BEGIN:VEVENT
DTSTART;TZID=America/Chicago:20250730T170000
DTEND;TZID=America/Chicago:20250730T190000
DTSTAMP:20260420T001601
CREATED:20250328T165832Z
LAST-MODIFIED:20250328T165833Z
UID:10000153-1753894800-1753902000@eagleknoll.com
SUMMARY:Looper League
DESCRIPTION:Every Wednesday at 5:30pmMembers: $11Guests: $21Walking 9 HolesSkins Game and Closest To Pin
URL:https://eagleknoll.com/event/looper-league-2/2025-07-30/
LOCATION:Eagle Knoll Golf Club\, 5757 E. Eagle Knoll Dr.\, Hartsburg\, Missouri\, 65039\, United States
ATTACH;FMTTYPE=image/png:https://eagleknoll.com/wp-content/uploads/2025/03/Black-Ripped-Bowling-Night-Flyer-1.png-1.png
ORGANIZER;CN="Gavin Frevert":MAILTO:gavinf@maxim.golf
END:VEVENT
BEGIN:VEVENT
DTSTART;TZID=America/Chicago:20250729T173000
DTEND;TZID=America/Chicago:20250729T200000
DTSTAMP:20260420T001601
CREATED:20250224T215228Z
LAST-MODIFIED:20250326T193724Z
UID:10000136-1753810200-1753819200@eagleknoll.com
SUMMARY:Junior Eagles Golf League
DESCRIPTION:More details to come.
URL:https://eagleknoll.com/event/junior-eagles-golf-league/2025-07-29/
LOCATION:Eagle Knoll Golf Club\, 5757 E. Eagle Knoll Dr.\, Hartsburg\, Missouri\, 65039\, United States
ORGANIZER;CN="kbatye@jcymca.org":MAILTO:kbatye@jcymca.org
END:VEVENT
BEGIN:VEVENT
DTSTART;TZID=America/Chicago:20250728T173000
DTEND;TZID=America/Chicago:20250728T200000
DTSTAMP:20260420T001601
CREATED:20250224T215330Z
LAST-MODIFIED:20250326T193639Z
UID:10000135-1753723800-1753732800@eagleknoll.com
SUMMARY:Junior Eagles Golf League
DESCRIPTION:More details to come!
URL:https://eagleknoll.com/event/junior-eagles-golf-league-2/2025-07-28/
LOCATION:Eagle Knoll Golf Club\, 5757 E. Eagle Knoll Dr.\, Hartsburg\, Missouri\, 65039\, United States
ORGANIZER;CN="kbatye@jcymca.org":MAILTO:kbatye@jcymca.org
END:VEVENT
BEGIN:VEVENT
DTSTART;TZID=America/Chicago:20250728T170000
DTEND;TZID=America/Chicago:20250728T190000
DTSTAMP:20260420T001601
CREATED:20250224T204257Z
LAST-MODIFIED:20250224T204302Z
UID:10000031-1753722000-1753729200@eagleknoll.com
SUMMARY:Men's League
DESCRIPTION:5:00pm Shotgun Start – DON’T BE LATE!MUST get your name on the list by 3:30pm each Monday.Waitlist starts after 55 golfers.Call 573-761-4653 to join the list.Bring $11 cash to enter – Eagle Knoll does not do cash back on transactions.Non-Members: $25 to play (cash or card)
URL:https://eagleknoll.com/event/mens-league/2025-07-28/
LOCATION:Eagle Knoll Golf Club\, 5757 E. Eagle Knoll Dr.\, Hartsburg\, Missouri\, 65039\, United States
END:VEVENT
BEGIN:VEVENT
DTSTART;TZID=America/Chicago:20250724T080000
DTEND;TZID=America/Chicago:20250726T170000
DTSTAMP:20260420T001601
CREATED:20250224T215447Z
LAST-MODIFIED:20250224T215449Z
UID:10000110-1753344000-1753549200@eagleknoll.com
SUMMARY:Mid-Summer Classic
DESCRIPTION:Private tournament. Tee times still available.
URL:https://eagleknoll.com/event/mid-summer-classic/
LOCATION:Eagle Knoll Golf Club\, 5757 E. Eagle Knoll Dr.\, Hartsburg\, Missouri\, 65039\, United States
END:VEVENT
BEGIN:VEVENT
DTSTART;TZID=America/Chicago:20250723T173000
DTEND;TZID=America/Chicago:20250723T193000
DTSTAMP:20260420T001601
CREATED:20250602T173030Z
LAST-MODIFIED:20250602T173033Z
UID:10000188-1753291800-1753299000@eagleknoll.com
SUMMARY:Ladies League
DESCRIPTION:
URL:https://eagleknoll.com/event/ladies-league/2025-07-23/
END:VEVENT
BEGIN:VEVENT
DTSTART;TZID=America/Chicago:20250723T170000
DTEND;TZID=America/Chicago:20250723T190000
DTSTAMP:20260420T001601
CREATED:20250328T165832Z
LAST-MODIFIED:20250328T165833Z
UID:10000152-1753290000-1753297200@eagleknoll.com
SUMMARY:Looper League
DESCRIPTION:Every Wednesday at 5:30pmMembers: $11Guests: $21Walking 9 HolesSkins Game and Closest To Pin
URL:https://eagleknoll.com/event/looper-league-2/2025-07-23/
LOCATION:Eagle Knoll Golf Club\, 5757 E. Eagle Knoll Dr.\, Hartsburg\, Missouri\, 65039\, United States
ATTACH;FMTTYPE=image/png:https://eagleknoll.com/wp-content/uploads/2025/03/Black-Ripped-Bowling-Night-Flyer-1.png-1.png
ORGANIZER;CN="Gavin Frevert":MAILTO:gavinf@maxim.golf
END:VEVENT
BEGIN:VEVENT
DTSTART;TZID=America/Chicago:20250722T173000
DTEND;TZID=America/Chicago:20250722T200000
DTSTAMP:20260420T001601
CREATED:20250224T215228Z
LAST-MODIFIED:20250326T193724Z
UID:10000105-1753205400-1753214400@eagleknoll.com
SUMMARY:Junior Eagles Golf League
DESCRIPTION:More details to come.
URL:https://eagleknoll.com/event/junior-eagles-golf-league/2025-07-22/
LOCATION:Eagle Knoll Golf Club\, 5757 E. Eagle Knoll Dr.\, Hartsburg\, Missouri\, 65039\, United States
ORGANIZER;CN="kbatye@jcymca.org":MAILTO:kbatye@jcymca.org
END:VEVENT
BEGIN:VEVENT
DTSTART;TZID=America/Chicago:20250721T173000
DTEND;TZID=America/Chicago:20250721T200000
DTSTAMP:20260420T001601
CREATED:20250224T215330Z
LAST-MODIFIED:20250326T193639Z
UID:10000134-1753119000-1753128000@eagleknoll.com
SUMMARY:Junior Eagles Golf League
DESCRIPTION:More details to come!
URL:https://eagleknoll.com/event/junior-eagles-golf-league-2/2025-07-21/
LOCATION:Eagle Knoll Golf Club\, 5757 E. Eagle Knoll Dr.\, Hartsburg\, Missouri\, 65039\, United States
ORGANIZER;CN="kbatye@jcymca.org":MAILTO:kbatye@jcymca.org
END:VEVENT
END:VCALENDAR