BEGIN:VCALENDAR
VERSION:2.0
PRODID:-//Eagle Knoll Golf Club - Hartsburg, MO - ECPv6.15.20//NONSGML v1.0//EN
CALSCALE:GREGORIAN
METHOD:PUBLISH
X-ORIGINAL-URL:https://eagleknoll.com
X-WR-CALDESC:Events for Eagle Knoll Golf Club - Hartsburg, MO
REFRESH-INTERVAL;VALUE=DURATION:PT1H
X-Robots-Tag:noindex
X-PUBLISHED-TTL:PT1H
BEGIN:VTIMEZONE
TZID:America/Chicago
BEGIN:DAYLIGHT
TZOFFSETFROM:-0600
TZOFFSETTO:-0500
TZNAME:CDT
DTSTART:20250309T080000
END:DAYLIGHT
BEGIN:STANDARD
TZOFFSETFROM:-0500
TZOFFSETTO:-0600
TZNAME:CST
DTSTART:20251102T070000
END:STANDARD
BEGIN:DAYLIGHT
TZOFFSETFROM:-0600
TZOFFSETTO:-0500
TZNAME:CDT
DTSTART:20260308T080000
END:DAYLIGHT
BEGIN:STANDARD
TZOFFSETFROM:-0500
TZOFFSETTO:-0600
TZNAME:CST
DTSTART:20261101T070000
END:STANDARD
BEGIN:DAYLIGHT
TZOFFSETFROM:-0600
TZOFFSETTO:-0500
TZNAME:CDT
DTSTART:20270314T080000
END:DAYLIGHT
BEGIN:STANDARD
TZOFFSETFROM:-0500
TZOFFSETTO:-0600
TZNAME:CST
DTSTART:20271107T070000
END:STANDARD
END:VTIMEZONE
BEGIN:VEVENT
DTSTART;TZID=America/Chicago:20260621T080000
DTEND;TZID=America/Chicago:20260621T170000
DTSTAMP:20260419T204545
CREATED:20260210T161948Z
LAST-MODIFIED:20260210T161950Z
UID:10000545-1782028800-1782061200@eagleknoll.com
SUMMARY:Father's day
DESCRIPTION:
URL:https://eagleknoll.com/event/fathers-day/
END:VEVENT
BEGIN:VEVENT
DTSTART;TZID=America/Chicago:20260622T093000
DTEND;TZID=America/Chicago:20260622T093000
DTSTAMP:20260419T204545
CREATED:20260203T193809Z
LAST-MODIFIED:20260203T194136Z
UID:10000455-1782120600-1782120600@eagleknoll.com
SUMMARY:Super Seniors Classic
DESCRIPTION:
URL:https://eagleknoll.com/event/super-seniors-classic/
END:VEVENT
BEGIN:VEVENT
DTSTART;TZID=America/Chicago:20260622T170000
DTEND;TZID=America/Chicago:20260622T170000
DTSTAMP:20260419T204545
CREATED:20260203T201858Z
LAST-MODIFIED:20260203T201900Z
UID:10000487-1782147600-1782147600@eagleknoll.com
SUMMARY:Men's League
DESCRIPTION:
URL:https://eagleknoll.com/event/mens-league-2/2026-06-22/
END:VEVENT
BEGIN:VEVENT
DTSTART;TZID=America/Chicago:20260624T170000
DTEND;TZID=America/Chicago:20260624T170000
DTSTAMP:20260419T204545
CREATED:20260204T170221Z
LAST-MODIFIED:20260204T173418Z
UID:10000520-1782320400-1782320400@eagleknoll.com
SUMMARY:Looper League
DESCRIPTION:
URL:https://eagleknoll.com/event/looper-league-3/2026-06-24/
ATTACH;FMTTYPE=image/jpeg:https://eagleknoll.com/wp-content/uploads/2026/02/IMG_6533.jpeg
ORGANIZER;CN="Gavin Frevert":MAILTO:gavinf@maxim.golf
END:VEVENT
BEGIN:VEVENT
DTSTART;TZID=America/Chicago:20260624T173000
DTEND;TZID=America/Chicago:20260624T193000
DTSTAMP:20260419T204545
CREATED:20250602T173030Z
LAST-MODIFIED:20250602T173033Z
UID:10000236-1782322200-1782329400@eagleknoll.com
SUMMARY:Ladies League
DESCRIPTION:
URL:https://eagleknoll.com/event/ladies-league/2026-06-24/
END:VEVENT
BEGIN:VEVENT
DTSTART;TZID=America/Chicago:20260629T170000
DTEND;TZID=America/Chicago:20260629T170000
DTSTAMP:20260419T204545
CREATED:20260203T201858Z
LAST-MODIFIED:20260203T201900Z
UID:10000488-1782752400-1782752400@eagleknoll.com
SUMMARY:Men's League
DESCRIPTION:
URL:https://eagleknoll.com/event/mens-league-2/2026-06-29/
END:VEVENT
BEGIN:VEVENT
DTSTART;TZID=America/Chicago:20260701T090000
DTEND;TZID=America/Chicago:20260701T090000
DTSTAMP:20260419T204545
CREATED:20260203T201154Z
LAST-MODIFIED:20260204T173041Z
UID:10000468-1782896400-1782896400@eagleknoll.com
SUMMARY:Senior League
DESCRIPTION:
URL:https://eagleknoll.com/event/senior-league-4/
ATTACH;FMTTYPE=image/jpeg:https://eagleknoll.com/wp-content/uploads/2026/02/IMG_6532.jpeg
ORGANIZER;CN="Gavin Frevert":MAILTO:gavinf@maxim.golf
END:VEVENT
BEGIN:VEVENT
DTSTART;TZID=America/Chicago:20260701T170000
DTEND;TZID=America/Chicago:20260701T170000
DTSTAMP:20260419T204545
CREATED:20260204T170221Z
LAST-MODIFIED:20260204T173418Z
UID:10000521-1782925200-1782925200@eagleknoll.com
SUMMARY:Looper League
DESCRIPTION:
URL:https://eagleknoll.com/event/looper-league-3/2026-07-01/
ATTACH;FMTTYPE=image/jpeg:https://eagleknoll.com/wp-content/uploads/2026/02/IMG_6533.jpeg
ORGANIZER;CN="Gavin Frevert":MAILTO:gavinf@maxim.golf
END:VEVENT
BEGIN:VEVENT
DTSTART;TZID=America/Chicago:20260701T173000
DTEND;TZID=America/Chicago:20260701T193000
DTSTAMP:20260419T204545
CREATED:20250602T173030Z
LAST-MODIFIED:20250602T173033Z
UID:10000237-1782927000-1782934200@eagleknoll.com
SUMMARY:Ladies League
DESCRIPTION:
URL:https://eagleknoll.com/event/ladies-league/2026-07-01/
END:VEVENT
BEGIN:VEVENT
DTSTART;TZID=America/Chicago:20260704T080000
DTEND;TZID=America/Chicago:20260704T170000
DTSTAMP:20260419T204545
CREATED:20260210T160604Z
LAST-MODIFIED:20260210T161445Z
UID:10000538-1783152000-1783184400@eagleknoll.com
SUMMARY:Independence Day
DESCRIPTION:
URL:https://eagleknoll.com/event/independence-day/
END:VEVENT
BEGIN:VEVENT
DTSTART;TZID=America/Chicago:20260706T170000
DTEND;TZID=America/Chicago:20260706T170000
DTSTAMP:20260419T204545
CREATED:20260203T201858Z
LAST-MODIFIED:20260203T201900Z
UID:10000489-1783357200-1783357200@eagleknoll.com
SUMMARY:Men's League
DESCRIPTION:
URL:https://eagleknoll.com/event/mens-league-2/2026-07-06/
END:VEVENT
BEGIN:VEVENT
DTSTART;TZID=America/Chicago:20260708T080000
DTEND;TZID=America/Chicago:20260711T170000
DTSTAMP:20260419T204545
CREATED:20260312T193554Z
LAST-MODIFIED:20260312T193556Z
UID:10000550-1783497600-1783789200@eagleknoll.com
SUMMARY:Eagle Knoll Jr. Golf Academy
DESCRIPTION:
URL:https://eagleknoll.com/event/eagle-knoll-jr-golf-academy/
ATTACH;FMTTYPE=image/png:https://eagleknoll.com/wp-content/uploads/2026/03/EK-junior-golf-flyer.png
END:VEVENT
BEGIN:VEVENT
DTSTART;TZID=America/Chicago:20260708T170000
DTEND;TZID=America/Chicago:20260708T170000
DTSTAMP:20260419T204545
CREATED:20260204T170221Z
LAST-MODIFIED:20260204T173418Z
UID:10000522-1783530000-1783530000@eagleknoll.com
SUMMARY:Looper League
DESCRIPTION:
URL:https://eagleknoll.com/event/looper-league-3/2026-07-08/
ATTACH;FMTTYPE=image/jpeg:https://eagleknoll.com/wp-content/uploads/2026/02/IMG_6533.jpeg
ORGANIZER;CN="Gavin Frevert":MAILTO:gavinf@maxim.golf
END:VEVENT
BEGIN:VEVENT
DTSTART;TZID=America/Chicago:20260708T173000
DTEND;TZID=America/Chicago:20260708T193000
DTSTAMP:20260419T204545
CREATED:20250602T173030Z
LAST-MODIFIED:20250602T173033Z
UID:10000238-1783531800-1783539000@eagleknoll.com
SUMMARY:Ladies League
DESCRIPTION:
URL:https://eagleknoll.com/event/ladies-league/2026-07-08/
END:VEVENT
BEGIN:VEVENT
DTSTART;TZID=America/Chicago:20260712T150000
DTEND;TZID=America/Chicago:20260712T150000
DTSTAMP:20260419T204545
CREATED:20260203T194809Z
LAST-MODIFIED:20260204T171832Z
UID:10000458-1783868400-1783868400@eagleknoll.com
SUMMARY:Nine & Dine
DESCRIPTION:Grab a partner and join us on the first Sunday of every month for 9 holes and a bite to eat afterwards! Our menu just got better! \n\n\n\nGames vary monthly \n\n\n\nPayouts & Prizes available! \n\n\n\n$30/Non-member | $10/member
URL:https://eagleknoll.com/event/nine-dine-2/
ATTACH;FMTTYPE=image/png:https://eagleknoll.com/wp-content/uploads/2026/02/nine-dine-1-5.png
ORGANIZER;CN="Kyna Smith":MAILTO:kynas@maxim.golf
END:VEVENT
BEGIN:VEVENT
DTSTART;TZID=America/Chicago:20260713T170000
DTEND;TZID=America/Chicago:20260713T170000
DTSTAMP:20260419T204545
CREATED:20260203T201858Z
LAST-MODIFIED:20260203T201900Z
UID:10000490-1783962000-1783962000@eagleknoll.com
SUMMARY:Men's League
DESCRIPTION:
URL:https://eagleknoll.com/event/mens-league-2/2026-07-13/
END:VEVENT
BEGIN:VEVENT
DTSTART;TZID=America/Chicago:20260715T170000
DTEND;TZID=America/Chicago:20260715T170000
DTSTAMP:20260419T204545
CREATED:20260204T170221Z
LAST-MODIFIED:20260204T173418Z
UID:10000523-1784134800-1784134800@eagleknoll.com
SUMMARY:Looper League
DESCRIPTION:
URL:https://eagleknoll.com/event/looper-league-3/2026-07-15/
ATTACH;FMTTYPE=image/jpeg:https://eagleknoll.com/wp-content/uploads/2026/02/IMG_6533.jpeg
ORGANIZER;CN="Gavin Frevert":MAILTO:gavinf@maxim.golf
END:VEVENT
BEGIN:VEVENT
DTSTART;TZID=America/Chicago:20260715T173000
DTEND;TZID=America/Chicago:20260715T193000
DTSTAMP:20260419T204545
CREATED:20250602T173030Z
LAST-MODIFIED:20250602T173033Z
UID:10000239-1784136600-1784143800@eagleknoll.com
SUMMARY:Ladies League
DESCRIPTION:
URL:https://eagleknoll.com/event/ladies-league/2026-07-15/
END:VEVENT
BEGIN:VEVENT
DTSTART;TZID=America/Chicago:20260716T173000
DTEND;TZID=America/Chicago:20260716T190000
DTSTAMP:20260419T204545
CREATED:20260312T192506Z
LAST-MODIFIED:20260312T193319Z
UID:10000548-1784223000-1784228400@eagleknoll.com
SUMMARY:Pop up Clinic
DESCRIPTION:Learn golf basics in a fun and supportive environment with our Head Golf Professional\, Gavin Frevert!
URL:https://eagleknoll.com/event/pop-up-clinic-3/2026-07-16/
ATTACH;FMTTYPE=image/png:https://eagleknoll.com/wp-content/uploads/2026/03/Pop-Up-Clinic-Flyer.png
ORGANIZER;CN="Gavin Frevert":MAILTO:gavinf@maxim.golf
END:VEVENT
BEGIN:VEVENT
DTSTART;TZID=America/Chicago:20260720T170000
DTEND;TZID=America/Chicago:20260720T170000
DTSTAMP:20260419T204545
CREATED:20260203T201858Z
LAST-MODIFIED:20260203T201900Z
UID:10000491-1784566800-1784566800@eagleknoll.com
SUMMARY:Men's League
DESCRIPTION:
URL:https://eagleknoll.com/event/mens-league-2/2026-07-20/
END:VEVENT
BEGIN:VEVENT
DTSTART;TZID=America/Chicago:20260722T170000
DTEND;TZID=America/Chicago:20260722T170000
DTSTAMP:20260419T204545
CREATED:20260204T170221Z
LAST-MODIFIED:20260204T173418Z
UID:10000524-1784739600-1784739600@eagleknoll.com
SUMMARY:Looper League
DESCRIPTION:
URL:https://eagleknoll.com/event/looper-league-3/2026-07-22/
ATTACH;FMTTYPE=image/jpeg:https://eagleknoll.com/wp-content/uploads/2026/02/IMG_6533.jpeg
ORGANIZER;CN="Gavin Frevert":MAILTO:gavinf@maxim.golf
END:VEVENT
BEGIN:VEVENT
DTSTART;TZID=America/Chicago:20260722T173000
DTEND;TZID=America/Chicago:20260722T193000
DTSTAMP:20260419T204545
CREATED:20250602T173030Z
LAST-MODIFIED:20250602T173033Z
UID:10000240-1784741400-1784748600@eagleknoll.com
SUMMARY:Ladies League
DESCRIPTION:
URL:https://eagleknoll.com/event/ladies-league/2026-07-22/
END:VEVENT
BEGIN:VEVENT
DTSTART;TZID=America/Chicago:20260727T170000
DTEND;TZID=America/Chicago:20260727T170000
DTSTAMP:20260419T204545
CREATED:20260203T201858Z
LAST-MODIFIED:20260203T201900Z
UID:10000492-1785171600-1785171600@eagleknoll.com
SUMMARY:Men's League
DESCRIPTION:
URL:https://eagleknoll.com/event/mens-league-2/2026-07-27/
END:VEVENT
BEGIN:VEVENT
DTSTART;TZID=America/Chicago:20260729T170000
DTEND;TZID=America/Chicago:20260729T170000
DTSTAMP:20260419T204545
CREATED:20260204T170221Z
LAST-MODIFIED:20260204T173418Z
UID:10000525-1785344400-1785344400@eagleknoll.com
SUMMARY:Looper League
DESCRIPTION:
URL:https://eagleknoll.com/event/looper-league-3/2026-07-29/
ATTACH;FMTTYPE=image/jpeg:https://eagleknoll.com/wp-content/uploads/2026/02/IMG_6533.jpeg
ORGANIZER;CN="Gavin Frevert":MAILTO:gavinf@maxim.golf
END:VEVENT
BEGIN:VEVENT
DTSTART;TZID=America/Chicago:20260729T173000
DTEND;TZID=America/Chicago:20260729T193000
DTSTAMP:20260419T204545
CREATED:20250602T173030Z
LAST-MODIFIED:20250602T173033Z
UID:10000241-1785346200-1785353400@eagleknoll.com
SUMMARY:Ladies League
DESCRIPTION:
URL:https://eagleknoll.com/event/ladies-league/2026-07-29/
END:VEVENT
BEGIN:VEVENT
DTSTART;TZID=America/Chicago:20260802T150000
DTEND;TZID=America/Chicago:20260802T150000
DTSTAMP:20260419T204545
CREATED:20260203T200009Z
LAST-MODIFIED:20260204T171247Z
UID:10000464-1785682800-1785682800@eagleknoll.com
SUMMARY:Nine & Dine
DESCRIPTION:Grab a partner and join us on the first Sunday of every month for 9 holes and a bite to eat afterwards! Our menu just got better! \n\n\n\nGames vary monthly \n\n\n\nPayouts & Prizes available! \n\n\n\n$30/Non-member | $10/member
URL:https://eagleknoll.com/event/nine-dine-7/
ATTACH;FMTTYPE=image/png:https://eagleknoll.com/wp-content/uploads/2026/02/nine-dine-1.png
ORGANIZER;CN="Kyna Smith":MAILTO:kynas@maxim.golf
END:VEVENT
BEGIN:VEVENT
DTSTART;TZID=America/Chicago:20260803T170000
DTEND;TZID=America/Chicago:20260803T170000
DTSTAMP:20260419T204545
CREATED:20260203T201858Z
LAST-MODIFIED:20260203T201900Z
UID:10000493-1785776400-1785776400@eagleknoll.com
SUMMARY:Men's League
DESCRIPTION:
URL:https://eagleknoll.com/event/mens-league-2/2026-08-03/
END:VEVENT
BEGIN:VEVENT
DTSTART;TZID=America/Chicago:20260805T090000
DTEND;TZID=America/Chicago:20260805T090000
DTSTAMP:20260419T204545
CREATED:20260203T201305Z
LAST-MODIFIED:20260204T173007Z
UID:10000469-1785920400-1785920400@eagleknoll.com
SUMMARY:Senior League
DESCRIPTION:
URL:https://eagleknoll.com/event/senior-league-5/
ATTACH;FMTTYPE=image/jpeg:https://eagleknoll.com/wp-content/uploads/2026/02/IMG_6532.jpeg
ORGANIZER;CN="Gavin Frevert":MAILTO:gavinf@maxim.golf
END:VEVENT
BEGIN:VEVENT
DTSTART;TZID=America/Chicago:20260805T170000
DTEND;TZID=America/Chicago:20260805T170000
DTSTAMP:20260419T204545
CREATED:20260204T170221Z
LAST-MODIFIED:20260204T173418Z
UID:10000526-1785949200-1785949200@eagleknoll.com
SUMMARY:Looper League
DESCRIPTION:
URL:https://eagleknoll.com/event/looper-league-3/2026-08-05/
ATTACH;FMTTYPE=image/jpeg:https://eagleknoll.com/wp-content/uploads/2026/02/IMG_6533.jpeg
ORGANIZER;CN="Gavin Frevert":MAILTO:gavinf@maxim.golf
END:VEVENT
BEGIN:VEVENT
DTSTART;TZID=America/Chicago:20260805T173000
DTEND;TZID=America/Chicago:20260805T193000
DTSTAMP:20260419T204545
CREATED:20250602T173030Z
LAST-MODIFIED:20250602T173033Z
UID:10000242-1785951000-1785958200@eagleknoll.com
SUMMARY:Ladies League
DESCRIPTION:
URL:https://eagleknoll.com/event/ladies-league/2026-08-05/
END:VEVENT
END:VCALENDAR