BEGIN:VCALENDAR
VERSION:2.0
PRODID:-//Eagle Knoll Golf Club - Hartsburg, MO - ECPv6.15.20//NONSGML v1.0//EN
CALSCALE:GREGORIAN
METHOD:PUBLISH
X-WR-CALNAME:Eagle Knoll Golf Club - Hartsburg, MO
X-ORIGINAL-URL:https://eagleknoll.com
X-WR-CALDESC:Events for Eagle Knoll Golf Club - Hartsburg, MO
REFRESH-INTERVAL;VALUE=DURATION:PT1H
X-Robots-Tag:noindex
X-PUBLISHED-TTL:PT1H
BEGIN:VTIMEZONE
TZID:America/Chicago
BEGIN:DAYLIGHT
TZOFFSETFROM:-0600
TZOFFSETTO:-0500
TZNAME:CDT
DTSTART:20240310T080000
END:DAYLIGHT
BEGIN:STANDARD
TZOFFSETFROM:-0500
TZOFFSETTO:-0600
TZNAME:CST
DTSTART:20241103T070000
END:STANDARD
BEGIN:DAYLIGHT
TZOFFSETFROM:-0600
TZOFFSETTO:-0500
TZNAME:CDT
DTSTART:20250309T080000
END:DAYLIGHT
BEGIN:STANDARD
TZOFFSETFROM:-0500
TZOFFSETTO:-0600
TZNAME:CST
DTSTART:20251102T070000
END:STANDARD
BEGIN:DAYLIGHT
TZOFFSETFROM:-0600
TZOFFSETTO:-0500
TZNAME:CDT
DTSTART:20260308T080000
END:DAYLIGHT
BEGIN:STANDARD
TZOFFSETFROM:-0500
TZOFFSETTO:-0600
TZNAME:CST
DTSTART:20261101T070000
END:STANDARD
END:VTIMEZONE
BEGIN:VEVENT
DTSTART;TZID=America/Chicago:20251020T170000
DTEND;TZID=America/Chicago:20251020T190000
DTSTAMP:20260419T223420
CREATED:20250224T204257Z
LAST-MODIFIED:20250224T204302Z
UID:10000043-1760979600-1760986800@eagleknoll.com
SUMMARY:Men's League
DESCRIPTION:5:00pm Shotgun Start – DON’T BE LATE!MUST get your name on the list by 3:30pm each Monday.Waitlist starts after 55 golfers.Call 573-761-4653 to join the list.Bring $11 cash to enter – Eagle Knoll does not do cash back on transactions.Non-Members: $25 to play (cash or card)
URL:https://eagleknoll.com/event/mens-league/2025-10-20/
LOCATION:Eagle Knoll Golf Club\, 5757 E. Eagle Knoll Dr.\, Hartsburg\, Missouri\, 65039\, United States
END:VEVENT
BEGIN:VEVENT
DTSTART;TZID=America/Chicago:20251019T110000
DTEND;TZID=America/Chicago:20251019T170000
DTSTAMP:20260419T223420
CREATED:20250224T220225Z
LAST-MODIFIED:20250224T220226Z
UID:10000124-1760871600-1760893200@eagleknoll.com
SUMMARY:Greenskeeper Revenge Tournament
DESCRIPTION:If you’d like to sponsor a hole\, please email kynas@maxim.golf! $100/hole sponsor.  \n\n\n\nCourse closed to regular tee times.  \n\n\n\nMore info to come!
URL:https://eagleknoll.com/event/greenskeeper-revenge-tournament/
LOCATION:Eagle Knoll Golf Club\, 5757 E. Eagle Knoll Dr.\, Hartsburg\, Missouri\, 65039\, United States
END:VEVENT
BEGIN:VEVENT
DTSTART;TZID=America/Chicago:20251015T173000
DTEND;TZID=America/Chicago:20251015T193000
DTSTAMP:20260419T223420
CREATED:20250602T173030Z
LAST-MODIFIED:20250602T173033Z
UID:10000200-1760549400-1760556600@eagleknoll.com
SUMMARY:Ladies League
DESCRIPTION:
URL:https://eagleknoll.com/event/ladies-league/2025-10-15/
END:VEVENT
BEGIN:VEVENT
DTSTART;TZID=America/Chicago:20251015T170000
DTEND;TZID=America/Chicago:20251015T190000
DTSTAMP:20260419T223420
CREATED:20250328T165832Z
LAST-MODIFIED:20250328T165833Z
UID:10000164-1760547600-1760554800@eagleknoll.com
SUMMARY:Looper League
DESCRIPTION:Every Wednesday at 5:30pmMembers: $11Guests: $21Walking 9 HolesSkins Game and Closest To Pin
URL:https://eagleknoll.com/event/looper-league-2/2025-10-15/
LOCATION:Eagle Knoll Golf Club\, 5757 E. Eagle Knoll Dr.\, Hartsburg\, Missouri\, 65039\, United States
ATTACH;FMTTYPE=image/png:https://eagleknoll.com/wp-content/uploads/2025/03/Black-Ripped-Bowling-Night-Flyer-1.png-1.png
ORGANIZER;CN="Gavin Frevert":MAILTO:gavinf@maxim.golf
END:VEVENT
BEGIN:VEVENT
DTSTART;TZID=America/Chicago:20251013T170000
DTEND;TZID=America/Chicago:20251013T190000
DTSTAMP:20260419T223420
CREATED:20250224T204257Z
LAST-MODIFIED:20250224T204302Z
UID:10000042-1760374800-1760382000@eagleknoll.com
SUMMARY:Men's League
DESCRIPTION:5:00pm Shotgun Start – DON’T BE LATE!MUST get your name on the list by 3:30pm each Monday.Waitlist starts after 55 golfers.Call 573-761-4653 to join the list.Bring $11 cash to enter – Eagle Knoll does not do cash back on transactions.Non-Members: $25 to play (cash or card)
URL:https://eagleknoll.com/event/mens-league/2025-10-13/
LOCATION:Eagle Knoll Golf Club\, 5757 E. Eagle Knoll Dr.\, Hartsburg\, Missouri\, 65039\, United States
END:VEVENT
BEGIN:VEVENT
DTSTART;TZID=America/Chicago:20251008T173000
DTEND;TZID=America/Chicago:20251008T193000
DTSTAMP:20260419T223420
CREATED:20250602T173030Z
LAST-MODIFIED:20250602T173033Z
UID:10000199-1759944600-1759951800@eagleknoll.com
SUMMARY:Ladies League
DESCRIPTION:
URL:https://eagleknoll.com/event/ladies-league/2025-10-08/
END:VEVENT
BEGIN:VEVENT
DTSTART;TZID=America/Chicago:20251008T170000
DTEND;TZID=America/Chicago:20251008T190000
DTSTAMP:20260419T223420
CREATED:20250328T165832Z
LAST-MODIFIED:20250328T165833Z
UID:10000163-1759942800-1759950000@eagleknoll.com
SUMMARY:Looper League
DESCRIPTION:Every Wednesday at 5:30pmMembers: $11Guests: $21Walking 9 HolesSkins Game and Closest To Pin
URL:https://eagleknoll.com/event/looper-league-2/2025-10-08/
LOCATION:Eagle Knoll Golf Club\, 5757 E. Eagle Knoll Dr.\, Hartsburg\, Missouri\, 65039\, United States
ATTACH;FMTTYPE=image/png:https://eagleknoll.com/wp-content/uploads/2025/03/Black-Ripped-Bowling-Night-Flyer-1.png-1.png
ORGANIZER;CN="Gavin Frevert":MAILTO:gavinf@maxim.golf
END:VEVENT
BEGIN:VEVENT
DTSTART;TZID=America/Chicago:20251006T170000
DTEND;TZID=America/Chicago:20251006T190000
DTSTAMP:20260419T223420
CREATED:20250224T204257Z
LAST-MODIFIED:20250224T204302Z
UID:10000041-1759770000-1759777200@eagleknoll.com
SUMMARY:Men's League
DESCRIPTION:5:00pm Shotgun Start – DON’T BE LATE!MUST get your name on the list by 3:30pm each Monday.Waitlist starts after 55 golfers.Call 573-761-4653 to join the list.Bring $11 cash to enter – Eagle Knoll does not do cash back on transactions.Non-Members: $25 to play (cash or card)
URL:https://eagleknoll.com/event/mens-league/2025-10-06/
LOCATION:Eagle Knoll Golf Club\, 5757 E. Eagle Knoll Dr.\, Hartsburg\, Missouri\, 65039\, United States
END:VEVENT
BEGIN:VEVENT
DTSTART;TZID=America/Chicago:20251005T170000
DTEND;TZID=America/Chicago:20251005T190000
DTSTAMP:20260419T223420
CREATED:20250828T182621Z
LAST-MODIFIED:20250828T182625Z
UID:10000443-1759683600-1759690800@eagleknoll.com
SUMMARY:Lads & Lasses League
DESCRIPTION:Join us for a fun afternoon! Format changes every month!
URL:https://eagleknoll.com/event/lads-lasses-league-3/2025-10-05/
LOCATION:Eagle Knoll Golf Club\, 5757 E. Eagle Knoll Dr.\, Hartsburg\, Missouri\, 65039\, United States
ORGANIZER;CN="Gavin Frevert":MAILTO:gavinf@maxim.golf
END:VEVENT
BEGIN:VEVENT
DTSTART;TZID=America/Chicago:20251005T080000
DTEND;TZID=America/Chicago:20251005T130000
DTSTAMP:20260419T223420
CREATED:20250224T220148Z
LAST-MODIFIED:20250224T220149Z
UID:10000123-1759651200-1759669200@eagleknoll.com
SUMMARY:Club Championship
DESCRIPTION:More details to come.
URL:https://eagleknoll.com/event/club-championship/2025-10-05/
LOCATION:Eagle Knoll Golf Club\, 5757 E. Eagle Knoll Dr.\, Hartsburg\, Missouri\, 65039\, United States
END:VEVENT
BEGIN:VEVENT
DTSTART;TZID=America/Chicago:20251004T080000
DTEND;TZID=America/Chicago:20251004T130000
DTSTAMP:20260419T223420
CREATED:20250224T220148Z
LAST-MODIFIED:20250224T220149Z
UID:10000122-1759564800-1759582800@eagleknoll.com
SUMMARY:Club Championship
DESCRIPTION:More details to come.
URL:https://eagleknoll.com/event/club-championship/2025-10-04/
LOCATION:Eagle Knoll Golf Club\, 5757 E. Eagle Knoll Dr.\, Hartsburg\, Missouri\, 65039\, United States
END:VEVENT
BEGIN:VEVENT
DTSTART;TZID=America/Chicago:20251003T090000
DTEND;TZID=America/Chicago:20251003T150000
DTSTAMP:20260419T223420
CREATED:20250224T220100Z
LAST-MODIFIED:20250224T220102Z
UID:10000121-1759482000-1759503600@eagleknoll.com
SUMMARY:Veterans and Friends Honor Flight Tournament
DESCRIPTION:More details to come.
URL:https://eagleknoll.com/event/veterans-and-friends-honor-flight-tournament/
LOCATION:Eagle Knoll Golf Club\, 5757 E. Eagle Knoll Dr.\, Hartsburg\, Missouri\, 65039\, United States
ORGANIZER;CN="matt.kujath@winter-dent.com":MAILTO:matt.kujath@winter-dent.com
END:VEVENT
BEGIN:VEVENT
DTSTART;TZID=America/Chicago:20251001T173000
DTEND;TZID=America/Chicago:20251001T193000
DTSTAMP:20260419T223420
CREATED:20250602T173030Z
LAST-MODIFIED:20250602T173033Z
UID:10000198-1759339800-1759347000@eagleknoll.com
SUMMARY:Ladies League
DESCRIPTION:
URL:https://eagleknoll.com/event/ladies-league/2025-10-01/
END:VEVENT
BEGIN:VEVENT
DTSTART;TZID=America/Chicago:20251001T170000
DTEND;TZID=America/Chicago:20251001T190000
DTSTAMP:20260419T223420
CREATED:20250328T165832Z
LAST-MODIFIED:20250328T165833Z
UID:10000162-1759338000-1759345200@eagleknoll.com
SUMMARY:Looper League
DESCRIPTION:Every Wednesday at 5:30pmMembers: $11Guests: $21Walking 9 HolesSkins Game and Closest To Pin
URL:https://eagleknoll.com/event/looper-league-2/2025-10-01/
LOCATION:Eagle Knoll Golf Club\, 5757 E. Eagle Knoll Dr.\, Hartsburg\, Missouri\, 65039\, United States
ATTACH;FMTTYPE=image/png:https://eagleknoll.com/wp-content/uploads/2025/03/Black-Ripped-Bowling-Night-Flyer-1.png-1.png
ORGANIZER;CN="Gavin Frevert":MAILTO:gavinf@maxim.golf
END:VEVENT
BEGIN:VEVENT
DTSTART;TZID=America/Chicago:20251001T090000
DTEND;TZID=America/Chicago:20251001T130000
DTSTAMP:20260419T223420
CREATED:20250408T191739Z
LAST-MODIFIED:20250828T182518Z
UID:10000173-1759309200-1759323600@eagleknoll.com
SUMMARY:Senior 2-Man Scramble
DESCRIPTION:
URL:https://eagleknoll.com/event/senior-2-man-scramble/2025-10-01/
ATTACH;FMTTYPE=image/png:https://eagleknoll.com/wp-content/uploads/2025/04/thumbnail_Black-Ripped-Bowling-Night-Flyer.png
END:VEVENT
BEGIN:VEVENT
DTSTART;TZID=America/Chicago:20250929T170000
DTEND;TZID=America/Chicago:20250929T190000
DTSTAMP:20260419T223420
CREATED:20250224T204257Z
LAST-MODIFIED:20250224T204302Z
UID:10000040-1759165200-1759172400@eagleknoll.com
SUMMARY:Men's League
DESCRIPTION:5:00pm Shotgun Start – DON’T BE LATE!MUST get your name on the list by 3:30pm each Monday.Waitlist starts after 55 golfers.Call 573-761-4653 to join the list.Bring $11 cash to enter – Eagle Knoll does not do cash back on transactions.Non-Members: $25 to play (cash or card)
URL:https://eagleknoll.com/event/mens-league/2025-09-29/
LOCATION:Eagle Knoll Golf Club\, 5757 E. Eagle Knoll Dr.\, Hartsburg\, Missouri\, 65039\, United States
END:VEVENT
BEGIN:VEVENT
DTSTART;TZID=America/Chicago:20250927T000000
DTEND;TZID=America/Chicago:20250927T235959
DTSTAMP:20260419T223420
CREATED:20250224T220004Z
LAST-MODIFIED:20250224T220005Z
UID:10000120-1758931200-1759017599@eagleknoll.com
SUMMARY:YMCA Tournament
DESCRIPTION:Course will be closed for regular tee times.
URL:https://eagleknoll.com/event/ymca-tournament/
LOCATION:Eagle Knoll Golf Club\, 5757 E. Eagle Knoll Dr.\, Hartsburg\, Missouri\, 65039\, United States
ORGANIZER;CN="kbatye@jcymca.org":MAILTO:kbatye@jcymca.org
END:VEVENT
BEGIN:VEVENT
DTSTART;TZID=America/Chicago:20250925T173000
DTEND;TZID=America/Chicago:20250925T190000
DTSTAMP:20260419T223420
CREATED:20250422T164858Z
LAST-MODIFIED:20250828T182410Z
UID:10000176-1758821400-1758826800@eagleknoll.com
SUMMARY:Pop Up Clinic
DESCRIPTION:
URL:https://eagleknoll.com/event/pop-up-clinic-2/
END:VEVENT
BEGIN:VEVENT
DTSTART;TZID=America/Chicago:20250924T173000
DTEND;TZID=America/Chicago:20250924T193000
DTSTAMP:20260419T223420
CREATED:20250602T173030Z
LAST-MODIFIED:20250602T173033Z
UID:10000197-1758735000-1758742200@eagleknoll.com
SUMMARY:Ladies League
DESCRIPTION:
URL:https://eagleknoll.com/event/ladies-league/2025-09-24/
END:VEVENT
BEGIN:VEVENT
DTSTART;TZID=America/Chicago:20250924T170000
DTEND;TZID=America/Chicago:20250924T190000
DTSTAMP:20260419T223420
CREATED:20250328T165832Z
LAST-MODIFIED:20250328T165833Z
UID:10000161-1758733200-1758740400@eagleknoll.com
SUMMARY:Looper League
DESCRIPTION:Every Wednesday at 5:30pmMembers: $11Guests: $21Walking 9 HolesSkins Game and Closest To Pin
URL:https://eagleknoll.com/event/looper-league-2/2025-09-24/
LOCATION:Eagle Knoll Golf Club\, 5757 E. Eagle Knoll Dr.\, Hartsburg\, Missouri\, 65039\, United States
ATTACH;FMTTYPE=image/png:https://eagleknoll.com/wp-content/uploads/2025/03/Black-Ripped-Bowling-Night-Flyer-1.png-1.png
ORGANIZER;CN="Gavin Frevert":MAILTO:gavinf@maxim.golf
END:VEVENT
BEGIN:VEVENT
DTSTART;TZID=America/Chicago:20250922T170000
DTEND;TZID=America/Chicago:20250922T190000
DTSTAMP:20260419T223420
CREATED:20250224T204257Z
LAST-MODIFIED:20250224T204302Z
UID:10000039-1758560400-1758567600@eagleknoll.com
SUMMARY:Men's League
DESCRIPTION:5:00pm Shotgun Start – DON’T BE LATE!MUST get your name on the list by 3:30pm each Monday.Waitlist starts after 55 golfers.Call 573-761-4653 to join the list.Bring $11 cash to enter – Eagle Knoll does not do cash back on transactions.Non-Members: $25 to play (cash or card)
URL:https://eagleknoll.com/event/mens-league/2025-09-22/
LOCATION:Eagle Knoll Golf Club\, 5757 E. Eagle Knoll Dr.\, Hartsburg\, Missouri\, 65039\, United States
END:VEVENT
BEGIN:VEVENT
DTSTART;TZID=America/Chicago:20250919T083000
DTEND;TZID=America/Chicago:20250919T153000
DTSTAMP:20260419T223420
CREATED:20250224T215926Z
LAST-MODIFIED:20250805T163611Z
UID:10000119-1758270600-1758295800@eagleknoll.com
SUMMARY:MJJA Fundraiser
DESCRIPTION:More details to come.
URL:https://eagleknoll.com/event/mjja-fundraiser/
LOCATION:Eagle Knoll Golf Club\, 5757 E. Eagle Knoll Dr.\, Hartsburg\, Missouri\, 65039\, United States
ATTACH;FMTTYPE=application/pdf:https://eagleknoll.com/wp-content/uploads/2025/02/Sept2025-MJJA-GolfTournamentFlyer-1.pdf
END:VEVENT
BEGIN:VEVENT
DTSTART;TZID=America/Chicago:20250917T173000
DTEND;TZID=America/Chicago:20250917T193000
DTSTAMP:20260419T223420
CREATED:20250602T173030Z
LAST-MODIFIED:20250602T173033Z
UID:10000196-1758130200-1758137400@eagleknoll.com
SUMMARY:Ladies League
DESCRIPTION:
URL:https://eagleknoll.com/event/ladies-league/2025-09-17/
END:VEVENT
BEGIN:VEVENT
DTSTART;TZID=America/Chicago:20250917T170000
DTEND;TZID=America/Chicago:20250917T190000
DTSTAMP:20260419T223420
CREATED:20250328T165832Z
LAST-MODIFIED:20250328T165833Z
UID:10000160-1758128400-1758135600@eagleknoll.com
SUMMARY:Looper League
DESCRIPTION:Every Wednesday at 5:30pmMembers: $11Guests: $21Walking 9 HolesSkins Game and Closest To Pin
URL:https://eagleknoll.com/event/looper-league-2/2025-09-17/
LOCATION:Eagle Knoll Golf Club\, 5757 E. Eagle Knoll Dr.\, Hartsburg\, Missouri\, 65039\, United States
ATTACH;FMTTYPE=image/png:https://eagleknoll.com/wp-content/uploads/2025/03/Black-Ripped-Bowling-Night-Flyer-1.png-1.png
ORGANIZER;CN="Gavin Frevert":MAILTO:gavinf@maxim.golf
END:VEVENT
BEGIN:VEVENT
DTSTART;TZID=America/Chicago:20250915T170000
DTEND;TZID=America/Chicago:20250915T190000
DTSTAMP:20260419T223420
CREATED:20250224T204257Z
LAST-MODIFIED:20250224T204302Z
UID:10000038-1757955600-1757962800@eagleknoll.com
SUMMARY:Men's League
DESCRIPTION:5:00pm Shotgun Start – DON’T BE LATE!MUST get your name on the list by 3:30pm each Monday.Waitlist starts after 55 golfers.Call 573-761-4653 to join the list.Bring $11 cash to enter – Eagle Knoll does not do cash back on transactions.Non-Members: $25 to play (cash or card)
URL:https://eagleknoll.com/event/mens-league/2025-09-15/
LOCATION:Eagle Knoll Golf Club\, 5757 E. Eagle Knoll Dr.\, Hartsburg\, Missouri\, 65039\, United States
END:VEVENT
BEGIN:VEVENT
DTSTART;TZID=America/Chicago:20250915T080000
DTEND;TZID=America/Chicago:20250915T170000
DTSTAMP:20260419T223420
CREATED:20250806T145203Z
LAST-MODIFIED:20250806T145205Z
UID:10000442-1757923200-1757955600@eagleknoll.com
SUMMARY:White Tails Unlimited Tournament
DESCRIPTION:
URL:https://eagleknoll.com/event/white-tails-unlimited-tournament/
ATTACH;FMTTYPE=image/png:https://eagleknoll.com/wp-content/uploads/2025/08/IMG_6041.png
END:VEVENT
BEGIN:VEVENT
DTSTART;TZID=America/Chicago:20250912T090000
DTEND;TZID=America/Chicago:20250914T193000
DTSTAMP:20260419T223420
CREATED:20250430T221614Z
LAST-MODIFIED:20250430T221615Z
UID:10000118-1757667600-1757878200@eagleknoll.com
SUMMARY:3rd Annual Heroes Golf Classic
DESCRIPTION:$150 hole sponsors! Email kynas@maxim.golf if you’d like to sponsor!
URL:https://eagleknoll.com/event/3rd-annual-heroes-golf-classic-2/
LOCATION:Eagle Knoll Golf Club\, 5757 E. Eagle Knoll Dr.\, Hartsburg\, Missouri\, 65039\, United States
ORGANIZER;CN="Kyna Smith":MAILTO:kynas@maxim.golf
END:VEVENT
BEGIN:VEVENT
DTSTART;TZID=America/Chicago:20250910T173000
DTEND;TZID=America/Chicago:20250910T193000
DTSTAMP:20260419T223420
CREATED:20250602T173030Z
LAST-MODIFIED:20250602T173033Z
UID:10000195-1757525400-1757532600@eagleknoll.com
SUMMARY:Ladies League
DESCRIPTION:
URL:https://eagleknoll.com/event/ladies-league/2025-09-10/
END:VEVENT
BEGIN:VEVENT
DTSTART;TZID=America/Chicago:20250910T170000
DTEND;TZID=America/Chicago:20250910T190000
DTSTAMP:20260419T223420
CREATED:20250328T165832Z
LAST-MODIFIED:20250328T165833Z
UID:10000159-1757523600-1757530800@eagleknoll.com
SUMMARY:Looper League
DESCRIPTION:Every Wednesday at 5:30pmMembers: $11Guests: $21Walking 9 HolesSkins Game and Closest To Pin
URL:https://eagleknoll.com/event/looper-league-2/2025-09-10/
LOCATION:Eagle Knoll Golf Club\, 5757 E. Eagle Knoll Dr.\, Hartsburg\, Missouri\, 65039\, United States
ATTACH;FMTTYPE=image/png:https://eagleknoll.com/wp-content/uploads/2025/03/Black-Ripped-Bowling-Night-Flyer-1.png-1.png
ORGANIZER;CN="Gavin Frevert":MAILTO:gavinf@maxim.golf
END:VEVENT
BEGIN:VEVENT
DTSTART;TZID=America/Chicago:20250908T170000
DTEND;TZID=America/Chicago:20250908T190000
DTSTAMP:20260419T223420
CREATED:20250224T204257Z
LAST-MODIFIED:20250224T204302Z
UID:10000037-1757350800-1757358000@eagleknoll.com
SUMMARY:Men's League
DESCRIPTION:5:00pm Shotgun Start – DON’T BE LATE!MUST get your name on the list by 3:30pm each Monday.Waitlist starts after 55 golfers.Call 573-761-4653 to join the list.Bring $11 cash to enter – Eagle Knoll does not do cash back on transactions.Non-Members: $25 to play (cash or card)
URL:https://eagleknoll.com/event/mens-league/2025-09-08/
LOCATION:Eagle Knoll Golf Club\, 5757 E. Eagle Knoll Dr.\, Hartsburg\, Missouri\, 65039\, United States
END:VEVENT
END:VCALENDAR