BEGIN:VCALENDAR
VERSION:2.0
PRODID:-//Eagle Knoll Golf Club - Hartsburg, MO - ECPv6.15.20//NONSGML v1.0//EN
CALSCALE:GREGORIAN
METHOD:PUBLISH
X-ORIGINAL-URL:https://eagleknoll.com
X-WR-CALDESC:Events for Eagle Knoll Golf Club - Hartsburg, MO
REFRESH-INTERVAL;VALUE=DURATION:PT1H
X-Robots-Tag:noindex
X-PUBLISHED-TTL:PT1H
BEGIN:VTIMEZONE
TZID:America/Chicago
BEGIN:DAYLIGHT
TZOFFSETFROM:-0600
TZOFFSETTO:-0500
TZNAME:CDT
DTSTART:20250309T080000
END:DAYLIGHT
BEGIN:STANDARD
TZOFFSETFROM:-0500
TZOFFSETTO:-0600
TZNAME:CST
DTSTART:20251102T070000
END:STANDARD
BEGIN:DAYLIGHT
TZOFFSETFROM:-0600
TZOFFSETTO:-0500
TZNAME:CDT
DTSTART:20260308T080000
END:DAYLIGHT
BEGIN:STANDARD
TZOFFSETFROM:-0500
TZOFFSETTO:-0600
TZNAME:CST
DTSTART:20261101T070000
END:STANDARD
BEGIN:DAYLIGHT
TZOFFSETFROM:-0600
TZOFFSETTO:-0500
TZNAME:CDT
DTSTART:20270314T080000
END:DAYLIGHT
BEGIN:STANDARD
TZOFFSETFROM:-0500
TZOFFSETTO:-0600
TZNAME:CST
DTSTART:20271107T070000
END:STANDARD
END:VTIMEZONE
BEGIN:VEVENT
DTSTART;TZID=America/Chicago:20260513T170000
DTEND;TZID=America/Chicago:20260513T170000
DTSTAMP:20260419T173416
CREATED:20260204T170221Z
LAST-MODIFIED:20260204T173418Z
UID:10000514-1778691600-1778691600@eagleknoll.com
SUMMARY:Looper League
DESCRIPTION:
URL:https://eagleknoll.com/event/looper-league-3/2026-05-13/
ATTACH;FMTTYPE=image/jpeg:https://eagleknoll.com/wp-content/uploads/2026/02/IMG_6533.jpeg
ORGANIZER;CN="Gavin Frevert":MAILTO:gavinf@maxim.golf
END:VEVENT
BEGIN:VEVENT
DTSTART;TZID=America/Chicago:20260513T173000
DTEND;TZID=America/Chicago:20260513T193000
DTSTAMP:20260419T173416
CREATED:20250602T173030Z
LAST-MODIFIED:20250602T173033Z
UID:10000230-1778693400-1778700600@eagleknoll.com
SUMMARY:Ladies League
DESCRIPTION:
URL:https://eagleknoll.com/event/ladies-league/2026-05-13/
END:VEVENT
BEGIN:VEVENT
DTSTART;TZID=America/Chicago:20260514T173000
DTEND;TZID=America/Chicago:20260514T190000
DTSTAMP:20260419T173416
CREATED:20260312T192506Z
LAST-MODIFIED:20260312T193319Z
UID:10000547-1778779800-1778785200@eagleknoll.com
SUMMARY:Pop up Clinic
DESCRIPTION:Learn golf basics in a fun and supportive environment with our Head Golf Professional\, Gavin Frevert!
URL:https://eagleknoll.com/event/pop-up-clinic-3/2026-05-14/
ATTACH;FMTTYPE=image/png:https://eagleknoll.com/wp-content/uploads/2026/03/Pop-Up-Clinic-Flyer.png
ORGANIZER;CN="Gavin Frevert":MAILTO:gavinf@maxim.golf
END:VEVENT
BEGIN:VEVENT
DTSTART;TZID=America/Chicago:20260518T170000
DTEND;TZID=America/Chicago:20260518T170000
DTSTAMP:20260419T173416
CREATED:20260203T201858Z
LAST-MODIFIED:20260203T201900Z
UID:10000482-1779123600-1779123600@eagleknoll.com
SUMMARY:Men's League
DESCRIPTION:
URL:https://eagleknoll.com/event/mens-league-2/2026-05-18/
END:VEVENT
BEGIN:VEVENT
DTSTART;TZID=America/Chicago:20260520T170000
DTEND;TZID=America/Chicago:20260520T170000
DTSTAMP:20260419T173416
CREATED:20260204T170221Z
LAST-MODIFIED:20260204T173418Z
UID:10000515-1779296400-1779296400@eagleknoll.com
SUMMARY:Looper League
DESCRIPTION:
URL:https://eagleknoll.com/event/looper-league-3/2026-05-20/
ATTACH;FMTTYPE=image/jpeg:https://eagleknoll.com/wp-content/uploads/2026/02/IMG_6533.jpeg
ORGANIZER;CN="Gavin Frevert":MAILTO:gavinf@maxim.golf
END:VEVENT
BEGIN:VEVENT
DTSTART;TZID=America/Chicago:20260520T173000
DTEND;TZID=America/Chicago:20260520T193000
DTSTAMP:20260419T173416
CREATED:20250602T173030Z
LAST-MODIFIED:20250602T173033Z
UID:10000231-1779298200-1779305400@eagleknoll.com
SUMMARY:Ladies League
DESCRIPTION:
URL:https://eagleknoll.com/event/ladies-league/2026-05-20/
END:VEVENT
BEGIN:VEVENT
DTSTART;TZID=America/Chicago:20260525T080000
DTEND;TZID=America/Chicago:20260525T170000
DTSTAMP:20260419T173416
CREATED:20260210T160417Z
LAST-MODIFIED:20260210T161405Z
UID:10000537-1779696000-1779728400@eagleknoll.com
SUMMARY:Memorial Day
DESCRIPTION:
URL:https://eagleknoll.com/event/memorial-day/
END:VEVENT
BEGIN:VEVENT
DTSTART;TZID=America/Chicago:20260525T170000
DTEND;TZID=America/Chicago:20260525T170000
DTSTAMP:20260419T173416
CREATED:20260203T201858Z
LAST-MODIFIED:20260203T201900Z
UID:10000483-1779728400-1779728400@eagleknoll.com
SUMMARY:Men's League
DESCRIPTION:
URL:https://eagleknoll.com/event/mens-league-2/2026-05-25/
END:VEVENT
BEGIN:VEVENT
DTSTART;TZID=America/Chicago:20260527T170000
DTEND;TZID=America/Chicago:20260527T170000
DTSTAMP:20260419T173416
CREATED:20260204T170221Z
LAST-MODIFIED:20260204T173418Z
UID:10000516-1779901200-1779901200@eagleknoll.com
SUMMARY:Looper League
DESCRIPTION:
URL:https://eagleknoll.com/event/looper-league-3/2026-05-27/
ATTACH;FMTTYPE=image/jpeg:https://eagleknoll.com/wp-content/uploads/2026/02/IMG_6533.jpeg
ORGANIZER;CN="Gavin Frevert":MAILTO:gavinf@maxim.golf
END:VEVENT
BEGIN:VEVENT
DTSTART;TZID=America/Chicago:20260527T173000
DTEND;TZID=America/Chicago:20260527T193000
DTSTAMP:20260419T173416
CREATED:20250602T173030Z
LAST-MODIFIED:20250602T173033Z
UID:10000232-1779903000-1779910200@eagleknoll.com
SUMMARY:Ladies League
DESCRIPTION:
URL:https://eagleknoll.com/event/ladies-league/2026-05-27/
END:VEVENT
BEGIN:VEVENT
DTSTART;TZID=America/Chicago:20260601T170000
DTEND;TZID=America/Chicago:20260601T170000
DTSTAMP:20260419T173416
CREATED:20260203T201858Z
LAST-MODIFIED:20260203T201900Z
UID:10000484-1780333200-1780333200@eagleknoll.com
SUMMARY:Men's League
DESCRIPTION:
URL:https://eagleknoll.com/event/mens-league-2/2026-06-01/
END:VEVENT
BEGIN:VEVENT
DTSTART;TZID=America/Chicago:20260603T090000
DTEND;TZID=America/Chicago:20260603T090000
DTSTAMP:20260419T173416
CREATED:20260203T201038Z
LAST-MODIFIED:20260204T173112Z
UID:10000467-1780477200-1780477200@eagleknoll.com
SUMMARY:Senior League
DESCRIPTION:
URL:https://eagleknoll.com/event/senior-league-3/
ATTACH;FMTTYPE=image/jpeg:https://eagleknoll.com/wp-content/uploads/2026/02/IMG_6532.jpeg
ORGANIZER;CN="Gavin Frevert":MAILTO:gavinf@maxim.golf
END:VEVENT
BEGIN:VEVENT
DTSTART;TZID=America/Chicago:20260603T170000
DTEND;TZID=America/Chicago:20260603T170000
DTSTAMP:20260419T173416
CREATED:20260204T170221Z
LAST-MODIFIED:20260204T173418Z
UID:10000517-1780506000-1780506000@eagleknoll.com
SUMMARY:Looper League
DESCRIPTION:
URL:https://eagleknoll.com/event/looper-league-3/2026-06-03/
ATTACH;FMTTYPE=image/jpeg:https://eagleknoll.com/wp-content/uploads/2026/02/IMG_6533.jpeg
ORGANIZER;CN="Gavin Frevert":MAILTO:gavinf@maxim.golf
END:VEVENT
BEGIN:VEVENT
DTSTART;TZID=America/Chicago:20260603T173000
DTEND;TZID=America/Chicago:20260603T193000
DTSTAMP:20260419T173416
CREATED:20250602T173030Z
LAST-MODIFIED:20250602T173033Z
UID:10000233-1780507800-1780515000@eagleknoll.com
SUMMARY:Ladies League
DESCRIPTION:
URL:https://eagleknoll.com/event/ladies-league/2026-06-03/
END:VEVENT
BEGIN:VEVENT
DTSTART;TZID=America/Chicago:20260606T083000
DTEND;TZID=America/Chicago:20260606T083000
DTSTAMP:20260419T173416
CREATED:20260203T182123Z
LAST-MODIFIED:20260203T182126Z
UID:10000444-1780734600-1780734600@eagleknoll.com
SUMMARY:Rockbridge Lions Tournament
DESCRIPTION:
URL:https://eagleknoll.com/event/rockbridge-lions-tournament/
ORGANIZER;CN="Vernon Pauley":MAILTO:vernpauley@gmail.com
END:VEVENT
BEGIN:VEVENT
DTSTART;TZID=America/Chicago:20260607T150000
DTEND;TZID=America/Chicago:20260607T150000
DTSTAMP:20260419T173416
CREATED:20260203T195902Z
LAST-MODIFIED:20260204T171432Z
UID:10000463-1780844400-1780844400@eagleknoll.com
SUMMARY:Nine & Dine
DESCRIPTION:Grab a partner and join us on the first Sunday of every month for 9 holes and a bite to eat afterwards! Our menu just got better! \n\n\n\nGames vary monthly \n\n\n\nPayouts & Prizes available! \n\n\n\n$30/Non-member | $10/member
URL:https://eagleknoll.com/event/nine-dine-6/
ATTACH;FMTTYPE=image/png:https://eagleknoll.com/wp-content/uploads/2026/02/nine-dine-1-1.png
ORGANIZER;CN="Kyna Smith":MAILTO:kynas@maxim.golf
END:VEVENT
BEGIN:VEVENT
DTSTART;TZID=America/Chicago:20260608T170000
DTEND;TZID=America/Chicago:20260608T170000
DTSTAMP:20260419T173416
CREATED:20260203T201858Z
LAST-MODIFIED:20260203T201900Z
UID:10000485-1780938000-1780938000@eagleknoll.com
SUMMARY:Men's League
DESCRIPTION:
URL:https://eagleknoll.com/event/mens-league-2/2026-06-08/
END:VEVENT
BEGIN:VEVENT
DTSTART;TZID=America/Chicago:20260610T170000
DTEND;TZID=America/Chicago:20260610T170000
DTSTAMP:20260419T173416
CREATED:20260204T170221Z
LAST-MODIFIED:20260204T173418Z
UID:10000518-1781110800-1781110800@eagleknoll.com
SUMMARY:Looper League
DESCRIPTION:
URL:https://eagleknoll.com/event/looper-league-3/2026-06-10/
ATTACH;FMTTYPE=image/jpeg:https://eagleknoll.com/wp-content/uploads/2026/02/IMG_6533.jpeg
ORGANIZER;CN="Gavin Frevert":MAILTO:gavinf@maxim.golf
END:VEVENT
BEGIN:VEVENT
DTSTART;TZID=America/Chicago:20260610T173000
DTEND;TZID=America/Chicago:20260610T193000
DTSTAMP:20260419T173416
CREATED:20250602T173030Z
LAST-MODIFIED:20250602T173033Z
UID:10000234-1781112600-1781119800@eagleknoll.com
SUMMARY:Ladies League
DESCRIPTION:
URL:https://eagleknoll.com/event/ladies-league/2026-06-10/
END:VEVENT
BEGIN:VEVENT
DTSTART;TZID=America/Chicago:20260615T090000
DTEND;TZID=America/Chicago:20260615T090000
DTSTAMP:20260419T173416
CREATED:20260203T193010Z
LAST-MODIFIED:20260203T193645Z
UID:10000454-1781514000-1781514000@eagleknoll.com
SUMMARY:Mastercard Scramble
DESCRIPTION:
URL:https://eagleknoll.com/event/mastercard-scramble-2/
ORGANIZER;CN="Leland Crenshaw":MAILTO:leland.crenshaw@mastercard.com
END:VEVENT
BEGIN:VEVENT
DTSTART;TZID=America/Chicago:20260615T170000
DTEND;TZID=America/Chicago:20260615T170000
DTSTAMP:20260419T173416
CREATED:20260203T201858Z
LAST-MODIFIED:20260203T201900Z
UID:10000486-1781542800-1781542800@eagleknoll.com
SUMMARY:Men's League
DESCRIPTION:
URL:https://eagleknoll.com/event/mens-league-2/2026-06-15/
END:VEVENT
BEGIN:VEVENT
DTSTART;TZID=America/Chicago:20260617T170000
DTEND;TZID=America/Chicago:20260617T170000
DTSTAMP:20260419T173416
CREATED:20260204T170221Z
LAST-MODIFIED:20260204T173418Z
UID:10000519-1781715600-1781715600@eagleknoll.com
SUMMARY:Looper League
DESCRIPTION:
URL:https://eagleknoll.com/event/looper-league-3/2026-06-17/
ATTACH;FMTTYPE=image/jpeg:https://eagleknoll.com/wp-content/uploads/2026/02/IMG_6533.jpeg
ORGANIZER;CN="Gavin Frevert":MAILTO:gavinf@maxim.golf
END:VEVENT
BEGIN:VEVENT
DTSTART;TZID=America/Chicago:20260617T173000
DTEND;TZID=America/Chicago:20260617T193000
DTSTAMP:20260419T173416
CREATED:20250602T173030Z
LAST-MODIFIED:20250602T173033Z
UID:10000235-1781717400-1781724600@eagleknoll.com
SUMMARY:Ladies League
DESCRIPTION:
URL:https://eagleknoll.com/event/ladies-league/2026-06-17/
END:VEVENT
BEGIN:VEVENT
DTSTART;TZID=America/Chicago:20260618T083000
DTEND;TZID=America/Chicago:20260618T083000
DTSTAMP:20260419T173416
CREATED:20260203T185928Z
LAST-MODIFIED:20260203T185930Z
UID:10000449-1781771400-1781771400@eagleknoll.com
SUMMARY:Retired Teachers Association
DESCRIPTION:
URL:https://eagleknoll.com/event/retired-teachers-association/
ORGANIZER;CN="Sarah Hoeller":MAILTO:sarahhoeller@mrta.org
END:VEVENT
BEGIN:VEVENT
DTSTART;TZID=America/Chicago:20260621T080000
DTEND;TZID=America/Chicago:20260621T170000
DTSTAMP:20260419T173416
CREATED:20260210T161948Z
LAST-MODIFIED:20260210T161950Z
UID:10000545-1782028800-1782061200@eagleknoll.com
SUMMARY:Father's day
DESCRIPTION:
URL:https://eagleknoll.com/event/fathers-day/
END:VEVENT
BEGIN:VEVENT
DTSTART;TZID=America/Chicago:20260622T093000
DTEND;TZID=America/Chicago:20260622T093000
DTSTAMP:20260419T173416
CREATED:20260203T193809Z
LAST-MODIFIED:20260203T194136Z
UID:10000455-1782120600-1782120600@eagleknoll.com
SUMMARY:Super Seniors Classic
DESCRIPTION:
URL:https://eagleknoll.com/event/super-seniors-classic/
END:VEVENT
BEGIN:VEVENT
DTSTART;TZID=America/Chicago:20260622T170000
DTEND;TZID=America/Chicago:20260622T170000
DTSTAMP:20260419T173416
CREATED:20260203T201858Z
LAST-MODIFIED:20260203T201900Z
UID:10000487-1782147600-1782147600@eagleknoll.com
SUMMARY:Men's League
DESCRIPTION:
URL:https://eagleknoll.com/event/mens-league-2/2026-06-22/
END:VEVENT
BEGIN:VEVENT
DTSTART;TZID=America/Chicago:20260624T170000
DTEND;TZID=America/Chicago:20260624T170000
DTSTAMP:20260419T173416
CREATED:20260204T170221Z
LAST-MODIFIED:20260204T173418Z
UID:10000520-1782320400-1782320400@eagleknoll.com
SUMMARY:Looper League
DESCRIPTION:
URL:https://eagleknoll.com/event/looper-league-3/2026-06-24/
ATTACH;FMTTYPE=image/jpeg:https://eagleknoll.com/wp-content/uploads/2026/02/IMG_6533.jpeg
ORGANIZER;CN="Gavin Frevert":MAILTO:gavinf@maxim.golf
END:VEVENT
BEGIN:VEVENT
DTSTART;TZID=America/Chicago:20260624T173000
DTEND;TZID=America/Chicago:20260624T193000
DTSTAMP:20260419T173416
CREATED:20250602T173030Z
LAST-MODIFIED:20250602T173033Z
UID:10000236-1782322200-1782329400@eagleknoll.com
SUMMARY:Ladies League
DESCRIPTION:
URL:https://eagleknoll.com/event/ladies-league/2026-06-24/
END:VEVENT
BEGIN:VEVENT
DTSTART;TZID=America/Chicago:20260629T170000
DTEND;TZID=America/Chicago:20260629T170000
DTSTAMP:20260419T173416
CREATED:20260203T201858Z
LAST-MODIFIED:20260203T201900Z
UID:10000488-1782752400-1782752400@eagleknoll.com
SUMMARY:Men's League
DESCRIPTION:
URL:https://eagleknoll.com/event/mens-league-2/2026-06-29/
END:VEVENT
END:VCALENDAR