BEGIN:VCALENDAR
VERSION:2.0
PRODID:-//Eagle Knoll Golf Club - Hartsburg, MO - ECPv6.15.20//NONSGML v1.0//EN
CALSCALE:GREGORIAN
METHOD:PUBLISH
X-WR-CALNAME:Eagle Knoll Golf Club - Hartsburg, MO
X-ORIGINAL-URL:https://eagleknoll.com
X-WR-CALDESC:Events for Eagle Knoll Golf Club - Hartsburg, MO
REFRESH-INTERVAL;VALUE=DURATION:PT1H
X-Robots-Tag:noindex
X-PUBLISHED-TTL:PT1H
BEGIN:VTIMEZONE
TZID:America/Chicago
BEGIN:DAYLIGHT
TZOFFSETFROM:-0600
TZOFFSETTO:-0500
TZNAME:CDT
DTSTART:20260308T080000
END:DAYLIGHT
BEGIN:STANDARD
TZOFFSETFROM:-0500
TZOFFSETTO:-0600
TZNAME:CST
DTSTART:20261101T070000
END:STANDARD
BEGIN:DAYLIGHT
TZOFFSETFROM:-0600
TZOFFSETTO:-0500
TZNAME:CDT
DTSTART:20270314T080000
END:DAYLIGHT
BEGIN:STANDARD
TZOFFSETFROM:-0500
TZOFFSETTO:-0600
TZNAME:CST
DTSTART:20271107T070000
END:STANDARD
BEGIN:DAYLIGHT
TZOFFSETFROM:-0600
TZOFFSETTO:-0500
TZNAME:CDT
DTSTART:20280312T080000
END:DAYLIGHT
BEGIN:STANDARD
TZOFFSETFROM:-0500
TZOFFSETTO:-0600
TZNAME:CST
DTSTART:20281105T070000
END:STANDARD
BEGIN:DAYLIGHT
TZOFFSETFROM:-0600
TZOFFSETTO:-0500
TZNAME:CDT
DTSTART:20290311T080000
END:DAYLIGHT
BEGIN:STANDARD
TZOFFSETFROM:-0500
TZOFFSETTO:-0600
TZNAME:CST
DTSTART:20291104T070000
END:STANDARD
END:VTIMEZONE
BEGIN:VEVENT
DTSTART;TZID=America/Chicago:20271124T173000
DTEND;TZID=America/Chicago:20271124T193000
DTSTAMP:20260424T032145
CREATED:20250602T173030Z
LAST-MODIFIED:20250602T173033Z
UID:10000310-1827077400-1827084600@eagleknoll.com
SUMMARY:Ladies League
DESCRIPTION:
URL:https://eagleknoll.com/event/ladies-league/2027-11-24/
END:VEVENT
BEGIN:VEVENT
DTSTART;TZID=America/Chicago:20271201T173000
DTEND;TZID=America/Chicago:20271201T193000
DTSTAMP:20260424T032145
CREATED:20250602T173030Z
LAST-MODIFIED:20250602T173033Z
UID:10000311-1827682200-1827689400@eagleknoll.com
SUMMARY:Ladies League
DESCRIPTION:
URL:https://eagleknoll.com/event/ladies-league/2027-12-01/
END:VEVENT
BEGIN:VEVENT
DTSTART;TZID=America/Chicago:20271208T173000
DTEND;TZID=America/Chicago:20271208T193000
DTSTAMP:20260424T032145
CREATED:20250602T173030Z
LAST-MODIFIED:20250602T173033Z
UID:10000312-1828287000-1828294200@eagleknoll.com
SUMMARY:Ladies League
DESCRIPTION:
URL:https://eagleknoll.com/event/ladies-league/2027-12-08/
END:VEVENT
BEGIN:VEVENT
DTSTART;TZID=America/Chicago:20271215T173000
DTEND;TZID=America/Chicago:20271215T193000
DTSTAMP:20260424T032145
CREATED:20250602T173030Z
LAST-MODIFIED:20250602T173033Z
UID:10000313-1828891800-1828899000@eagleknoll.com
SUMMARY:Ladies League
DESCRIPTION:
URL:https://eagleknoll.com/event/ladies-league/2027-12-15/
END:VEVENT
BEGIN:VEVENT
DTSTART;TZID=America/Chicago:20271222T173000
DTEND;TZID=America/Chicago:20271222T193000
DTSTAMP:20260424T032145
CREATED:20250602T173030Z
LAST-MODIFIED:20250602T173033Z
UID:10000314-1829496600-1829503800@eagleknoll.com
SUMMARY:Ladies League
DESCRIPTION:
URL:https://eagleknoll.com/event/ladies-league/2027-12-22/
END:VEVENT
BEGIN:VEVENT
DTSTART;TZID=America/Chicago:20271229T173000
DTEND;TZID=America/Chicago:20271229T193000
DTSTAMP:20260424T032145
CREATED:20250602T173030Z
LAST-MODIFIED:20250602T173033Z
UID:10000315-1830101400-1830108600@eagleknoll.com
SUMMARY:Ladies League
DESCRIPTION:
URL:https://eagleknoll.com/event/ladies-league/2027-12-29/
END:VEVENT
BEGIN:VEVENT
DTSTART;TZID=America/Chicago:20280105T173000
DTEND;TZID=America/Chicago:20280105T193000
DTSTAMP:20260424T032145
CREATED:20250602T173030Z
LAST-MODIFIED:20250602T173033Z
UID:10000316-1830706200-1830713400@eagleknoll.com
SUMMARY:Ladies League
DESCRIPTION:
URL:https://eagleknoll.com/event/ladies-league/2028-01-05/
END:VEVENT
BEGIN:VEVENT
DTSTART;TZID=America/Chicago:20280112T173000
DTEND;TZID=America/Chicago:20280112T193000
DTSTAMP:20260424T032145
CREATED:20250602T173030Z
LAST-MODIFIED:20250602T173033Z
UID:10000317-1831311000-1831318200@eagleknoll.com
SUMMARY:Ladies League
DESCRIPTION:
URL:https://eagleknoll.com/event/ladies-league/2028-01-12/
END:VEVENT
BEGIN:VEVENT
DTSTART;TZID=America/Chicago:20280119T173000
DTEND;TZID=America/Chicago:20280119T193000
DTSTAMP:20260424T032145
CREATED:20250602T173030Z
LAST-MODIFIED:20250602T173033Z
UID:10000318-1831915800-1831923000@eagleknoll.com
SUMMARY:Ladies League
DESCRIPTION:
URL:https://eagleknoll.com/event/ladies-league/2028-01-19/
END:VEVENT
BEGIN:VEVENT
DTSTART;TZID=America/Chicago:20280126T173000
DTEND;TZID=America/Chicago:20280126T193000
DTSTAMP:20260424T032145
CREATED:20250602T173030Z
LAST-MODIFIED:20250602T173033Z
UID:10000319-1832520600-1832527800@eagleknoll.com
SUMMARY:Ladies League
DESCRIPTION:
URL:https://eagleknoll.com/event/ladies-league/2028-01-26/
END:VEVENT
BEGIN:VEVENT
DTSTART;TZID=America/Chicago:20280202T173000
DTEND;TZID=America/Chicago:20280202T193000
DTSTAMP:20260424T032145
CREATED:20250602T173030Z
LAST-MODIFIED:20250602T173033Z
UID:10000320-1833125400-1833132600@eagleknoll.com
SUMMARY:Ladies League
DESCRIPTION:
URL:https://eagleknoll.com/event/ladies-league/2028-02-02/
END:VEVENT
BEGIN:VEVENT
DTSTART;TZID=America/Chicago:20280209T173000
DTEND;TZID=America/Chicago:20280209T193000
DTSTAMP:20260424T032145
CREATED:20250602T173030Z
LAST-MODIFIED:20250602T173033Z
UID:10000321-1833730200-1833737400@eagleknoll.com
SUMMARY:Ladies League
DESCRIPTION:
URL:https://eagleknoll.com/event/ladies-league/2028-02-09/
END:VEVENT
BEGIN:VEVENT
DTSTART;TZID=America/Chicago:20280216T173000
DTEND;TZID=America/Chicago:20280216T193000
DTSTAMP:20260424T032145
CREATED:20250602T173030Z
LAST-MODIFIED:20250602T173033Z
UID:10000322-1834335000-1834342200@eagleknoll.com
SUMMARY:Ladies League
DESCRIPTION:
URL:https://eagleknoll.com/event/ladies-league/2028-02-16/
END:VEVENT
BEGIN:VEVENT
DTSTART;TZID=America/Chicago:20280223T173000
DTEND;TZID=America/Chicago:20280223T193000
DTSTAMP:20260424T032145
CREATED:20250602T173030Z
LAST-MODIFIED:20250602T173033Z
UID:10000323-1834939800-1834947000@eagleknoll.com
SUMMARY:Ladies League
DESCRIPTION:
URL:https://eagleknoll.com/event/ladies-league/2028-02-23/
END:VEVENT
BEGIN:VEVENT
DTSTART;TZID=America/Chicago:20280301T173000
DTEND;TZID=America/Chicago:20280301T193000
DTSTAMP:20260424T032145
CREATED:20250602T173030Z
LAST-MODIFIED:20250602T173033Z
UID:10000324-1835544600-1835551800@eagleknoll.com
SUMMARY:Ladies League
DESCRIPTION:
URL:https://eagleknoll.com/event/ladies-league/2028-03-01/
END:VEVENT
BEGIN:VEVENT
DTSTART;TZID=America/Chicago:20280308T173000
DTEND;TZID=America/Chicago:20280308T193000
DTSTAMP:20260424T032145
CREATED:20250602T173030Z
LAST-MODIFIED:20250602T173033Z
UID:10000325-1836149400-1836156600@eagleknoll.com
SUMMARY:Ladies League
DESCRIPTION:
URL:https://eagleknoll.com/event/ladies-league/2028-03-08/
END:VEVENT
BEGIN:VEVENT
DTSTART;TZID=America/Chicago:20280315T173000
DTEND;TZID=America/Chicago:20280315T193000
DTSTAMP:20260424T032145
CREATED:20250602T173030Z
LAST-MODIFIED:20250602T173033Z
UID:10000326-1836754200-1836761400@eagleknoll.com
SUMMARY:Ladies League
DESCRIPTION:
URL:https://eagleknoll.com/event/ladies-league/2028-03-15/
END:VEVENT
BEGIN:VEVENT
DTSTART;TZID=America/Chicago:20280322T173000
DTEND;TZID=America/Chicago:20280322T193000
DTSTAMP:20260424T032145
CREATED:20250602T173030Z
LAST-MODIFIED:20250602T173033Z
UID:10000327-1837359000-1837366200@eagleknoll.com
SUMMARY:Ladies League
DESCRIPTION:
URL:https://eagleknoll.com/event/ladies-league/2028-03-22/
END:VEVENT
BEGIN:VEVENT
DTSTART;TZID=America/Chicago:20280329T173000
DTEND;TZID=America/Chicago:20280329T193000
DTSTAMP:20260424T032145
CREATED:20250602T173030Z
LAST-MODIFIED:20250602T173033Z
UID:10000328-1837963800-1837971000@eagleknoll.com
SUMMARY:Ladies League
DESCRIPTION:
URL:https://eagleknoll.com/event/ladies-league/2028-03-29/
END:VEVENT
BEGIN:VEVENT
DTSTART;TZID=America/Chicago:20280405T173000
DTEND;TZID=America/Chicago:20280405T193000
DTSTAMP:20260424T032145
CREATED:20250602T173030Z
LAST-MODIFIED:20250602T173033Z
UID:10000329-1838568600-1838575800@eagleknoll.com
SUMMARY:Ladies League
DESCRIPTION:
URL:https://eagleknoll.com/event/ladies-league/2028-04-05/
END:VEVENT
BEGIN:VEVENT
DTSTART;TZID=America/Chicago:20280412T173000
DTEND;TZID=America/Chicago:20280412T193000
DTSTAMP:20260424T032145
CREATED:20250602T173030Z
LAST-MODIFIED:20250602T173033Z
UID:10000330-1839173400-1839180600@eagleknoll.com
SUMMARY:Ladies League
DESCRIPTION:
URL:https://eagleknoll.com/event/ladies-league/2028-04-12/
END:VEVENT
BEGIN:VEVENT
DTSTART;TZID=America/Chicago:20280419T173000
DTEND;TZID=America/Chicago:20280419T193000
DTSTAMP:20260424T032145
CREATED:20250602T173030Z
LAST-MODIFIED:20250602T173033Z
UID:10000331-1839778200-1839785400@eagleknoll.com
SUMMARY:Ladies League
DESCRIPTION:
URL:https://eagleknoll.com/event/ladies-league/2028-04-19/
END:VEVENT
BEGIN:VEVENT
DTSTART;TZID=America/Chicago:20280426T173000
DTEND;TZID=America/Chicago:20280426T193000
DTSTAMP:20260424T032145
CREATED:20250602T173030Z
LAST-MODIFIED:20250602T173033Z
UID:10000332-1840383000-1840390200@eagleknoll.com
SUMMARY:Ladies League
DESCRIPTION:
URL:https://eagleknoll.com/event/ladies-league/2028-04-26/
END:VEVENT
BEGIN:VEVENT
DTSTART;TZID=America/Chicago:20280503T173000
DTEND;TZID=America/Chicago:20280503T193000
DTSTAMP:20260424T032145
CREATED:20250602T173030Z
LAST-MODIFIED:20250602T173033Z
UID:10000333-1840987800-1840995000@eagleknoll.com
SUMMARY:Ladies League
DESCRIPTION:
URL:https://eagleknoll.com/event/ladies-league/2028-05-03/
END:VEVENT
BEGIN:VEVENT
DTSTART;TZID=America/Chicago:20280510T173000
DTEND;TZID=America/Chicago:20280510T193000
DTSTAMP:20260424T032145
CREATED:20250602T173030Z
LAST-MODIFIED:20250602T173033Z
UID:10000334-1841592600-1841599800@eagleknoll.com
SUMMARY:Ladies League
DESCRIPTION:
URL:https://eagleknoll.com/event/ladies-league/2028-05-10/
END:VEVENT
BEGIN:VEVENT
DTSTART;TZID=America/Chicago:20280517T173000
DTEND;TZID=America/Chicago:20280517T193000
DTSTAMP:20260424T032145
CREATED:20250602T173030Z
LAST-MODIFIED:20250602T173033Z
UID:10000335-1842197400-1842204600@eagleknoll.com
SUMMARY:Ladies League
DESCRIPTION:
URL:https://eagleknoll.com/event/ladies-league/2028-05-17/
END:VEVENT
BEGIN:VEVENT
DTSTART;TZID=America/Chicago:20280524T173000
DTEND;TZID=America/Chicago:20280524T193000
DTSTAMP:20260424T032145
CREATED:20250602T173030Z
LAST-MODIFIED:20250602T173033Z
UID:10000336-1842802200-1842809400@eagleknoll.com
SUMMARY:Ladies League
DESCRIPTION:
URL:https://eagleknoll.com/event/ladies-league/2028-05-24/
END:VEVENT
BEGIN:VEVENT
DTSTART;TZID=America/Chicago:20280531T173000
DTEND;TZID=America/Chicago:20280531T193000
DTSTAMP:20260424T032145
CREATED:20250602T173030Z
LAST-MODIFIED:20250602T173033Z
UID:10000337-1843407000-1843414200@eagleknoll.com
SUMMARY:Ladies League
DESCRIPTION:
URL:https://eagleknoll.com/event/ladies-league/2028-05-31/
END:VEVENT
BEGIN:VEVENT
DTSTART;TZID=America/Chicago:20280607T173000
DTEND;TZID=America/Chicago:20280607T193000
DTSTAMP:20260424T032145
CREATED:20250602T173030Z
LAST-MODIFIED:20250602T173033Z
UID:10000338-1844011800-1844019000@eagleknoll.com
SUMMARY:Ladies League
DESCRIPTION:
URL:https://eagleknoll.com/event/ladies-league/2028-06-07/
END:VEVENT
BEGIN:VEVENT
DTSTART;TZID=America/Chicago:20280614T173000
DTEND;TZID=America/Chicago:20280614T193000
DTSTAMP:20260424T032145
CREATED:20250602T173030Z
LAST-MODIFIED:20250602T173033Z
UID:10000339-1844616600-1844623800@eagleknoll.com
SUMMARY:Ladies League
DESCRIPTION:
URL:https://eagleknoll.com/event/ladies-league/2028-06-14/
END:VEVENT
END:VCALENDAR