BEGIN:VCALENDAR
VERSION:2.0
PRODID:-//Eagle Knoll Golf Club - Hartsburg, MO - ECPv6.15.20//NONSGML v1.0//EN
CALSCALE:GREGORIAN
METHOD:PUBLISH
X-WR-CALNAME:Eagle Knoll Golf Club - Hartsburg, MO
X-ORIGINAL-URL:https://eagleknoll.com
X-WR-CALDESC:Events for Eagle Knoll Golf Club - Hartsburg, MO
REFRESH-INTERVAL;VALUE=DURATION:PT1H
X-Robots-Tag:noindex
X-PUBLISHED-TTL:PT1H
BEGIN:VTIMEZONE
TZID:America/Chicago
BEGIN:DAYLIGHT
TZOFFSETFROM:-0600
TZOFFSETTO:-0500
TZNAME:CDT
DTSTART:20240310T080000
END:DAYLIGHT
BEGIN:STANDARD
TZOFFSETFROM:-0500
TZOFFSETTO:-0600
TZNAME:CST
DTSTART:20241103T070000
END:STANDARD
BEGIN:DAYLIGHT
TZOFFSETFROM:-0600
TZOFFSETTO:-0500
TZNAME:CDT
DTSTART:20250309T080000
END:DAYLIGHT
BEGIN:STANDARD
TZOFFSETFROM:-0500
TZOFFSETTO:-0600
TZNAME:CST
DTSTART:20251102T070000
END:STANDARD
BEGIN:DAYLIGHT
TZOFFSETFROM:-0600
TZOFFSETTO:-0500
TZNAME:CDT
DTSTART:20260308T080000
END:DAYLIGHT
BEGIN:STANDARD
TZOFFSETFROM:-0500
TZOFFSETTO:-0600
TZNAME:CST
DTSTART:20261101T070000
END:STANDARD
END:VTIMEZONE
BEGIN:VEVENT
DTSTART;TZID=America/Chicago:20250702T170000
DTEND;TZID=America/Chicago:20250702T190000
DTSTAMP:20260425T090641
CREATED:20250328T165832Z
LAST-MODIFIED:20250328T165833Z
UID:10000149-1751475600-1751482800@eagleknoll.com
SUMMARY:Looper League
DESCRIPTION:Every Wednesday at 5:30pmMembers: $11Guests: $21Walking 9 HolesSkins Game and Closest To Pin
URL:https://eagleknoll.com/event/looper-league-2/2025-07-02/
LOCATION:Eagle Knoll Golf Club\, 5757 E. Eagle Knoll Dr.\, Hartsburg\, Missouri\, 65039\, United States
ATTACH;FMTTYPE=image/png:https://eagleknoll.com/wp-content/uploads/2025/03/Black-Ripped-Bowling-Night-Flyer-1.png-1.png
ORGANIZER;CN="Gavin Frevert":MAILTO:gavinf@maxim.golf
END:VEVENT
BEGIN:VEVENT
DTSTART;TZID=America/Chicago:20250702T090000
DTEND;TZID=America/Chicago:20250702T130000
DTSTAMP:20260425T090641
CREATED:20250408T191739Z
LAST-MODIFIED:20250828T182518Z
UID:10000170-1751446800-1751461200@eagleknoll.com
SUMMARY:Senior 2-Man Scramble
DESCRIPTION:
URL:https://eagleknoll.com/event/senior-2-man-scramble/2025-07-02/
ATTACH;FMTTYPE=image/png:https://eagleknoll.com/wp-content/uploads/2025/04/thumbnail_Black-Ripped-Bowling-Night-Flyer.png
END:VEVENT
BEGIN:VEVENT
DTSTART;TZID=America/Chicago:20250630T170000
DTEND;TZID=America/Chicago:20250630T190000
DTSTAMP:20260425T090641
CREATED:20250224T204257Z
LAST-MODIFIED:20250224T204302Z
UID:10000027-1751302800-1751310000@eagleknoll.com
SUMMARY:Men's League
DESCRIPTION:5:00pm Shotgun Start – DON’T BE LATE!MUST get your name on the list by 3:30pm each Monday.Waitlist starts after 55 golfers.Call 573-761-4653 to join the list.Bring $11 cash to enter – Eagle Knoll does not do cash back on transactions.Non-Members: $25 to play (cash or card)
URL:https://eagleknoll.com/event/mens-league/2025-06-30/
LOCATION:Eagle Knoll Golf Club\, 5757 E. Eagle Knoll Dr.\, Hartsburg\, Missouri\, 65039\, United States
END:VEVENT
BEGIN:VEVENT
DTSTART;TZID=America/Chicago:20250628T080000
DTEND;TZID=America/Chicago:20250628T170000
DTSTAMP:20260425T090641
CREATED:20250224T215103Z
LAST-MODIFIED:20250310T205406Z
UID:10000102-1751097600-1751130000@eagleknoll.com
SUMMARY:MCSEA Tournament
DESCRIPTION:Tee times TBD.
URL:https://eagleknoll.com/event/mcsea-tournament/
LOCATION:Eagle Knoll Golf Club\, 5757 E. Eagle Knoll Dr.\, Hartsburg\, Missouri\, 65039\, United States
ATTACH;FMTTYPE=application/pdf:https://eagleknoll.com/wp-content/uploads/2025/02/Golf-Flyer-1.pdf
END:VEVENT
BEGIN:VEVENT
DTSTART;TZID=America/Chicago:20250625T173000
DTEND;TZID=America/Chicago:20250625T193000
DTSTAMP:20260425T090641
CREATED:20250602T173030Z
LAST-MODIFIED:20250602T173033Z
UID:10000184-1750872600-1750879800@eagleknoll.com
SUMMARY:Ladies League
DESCRIPTION:
URL:https://eagleknoll.com/event/ladies-league/2025-06-25/
END:VEVENT
BEGIN:VEVENT
DTSTART;TZID=America/Chicago:20250625T170000
DTEND;TZID=America/Chicago:20250625T190000
DTSTAMP:20260425T090641
CREATED:20250328T165832Z
LAST-MODIFIED:20250328T165833Z
UID:10000148-1750870800-1750878000@eagleknoll.com
SUMMARY:Looper League
DESCRIPTION:Every Wednesday at 5:30pmMembers: $11Guests: $21Walking 9 HolesSkins Game and Closest To Pin
URL:https://eagleknoll.com/event/looper-league-2/2025-06-25/
LOCATION:Eagle Knoll Golf Club\, 5757 E. Eagle Knoll Dr.\, Hartsburg\, Missouri\, 65039\, United States
ATTACH;FMTTYPE=image/png:https://eagleknoll.com/wp-content/uploads/2025/03/Black-Ripped-Bowling-Night-Flyer-1.png-1.png
ORGANIZER;CN="Gavin Frevert":MAILTO:gavinf@maxim.golf
END:VEVENT
BEGIN:VEVENT
DTSTART;TZID=America/Chicago:20250623T170000
DTEND;TZID=America/Chicago:20250623T190000
DTSTAMP:20260425T090641
CREATED:20250224T204257Z
LAST-MODIFIED:20250224T204302Z
UID:10000026-1750698000-1750705200@eagleknoll.com
SUMMARY:Men's League
DESCRIPTION:5:00pm Shotgun Start – DON’T BE LATE!MUST get your name on the list by 3:30pm each Monday.Waitlist starts after 55 golfers.Call 573-761-4653 to join the list.Bring $11 cash to enter – Eagle Knoll does not do cash back on transactions.Non-Members: $25 to play (cash or card)
URL:https://eagleknoll.com/event/mens-league/2025-06-23/
LOCATION:Eagle Knoll Golf Club\, 5757 E. Eagle Knoll Dr.\, Hartsburg\, Missouri\, 65039\, United States
END:VEVENT
BEGIN:VEVENT
DTSTART;TZID=America/Chicago:20250623T080000
DTEND;TZID=America/Chicago:20250623T143000
DTSTAMP:20260425T090641
CREATED:20250224T215035Z
LAST-MODIFIED:20250224T215036Z
UID:10000101-1750665600-1750689000@eagleknoll.com
SUMMARY:Super Seniors Tournament
DESCRIPTION:Regular tee times will open up at 2:30pm.
URL:https://eagleknoll.com/event/super-seniors-tournament/
LOCATION:Eagle Knoll Golf Club\, 5757 E. Eagle Knoll Dr.\, Hartsburg\, Missouri\, 65039\, United States
ORGANIZER;CN="rscrivner54@gmail.com":MAILTO:rscrivner54@gmail.com
END:VEVENT
BEGIN:VEVENT
DTSTART;TZID=America/Chicago:20250618T173000
DTEND;TZID=America/Chicago:20250618T193000
DTSTAMP:20260425T090641
CREATED:20250602T173030Z
LAST-MODIFIED:20250602T173033Z
UID:10000183-1750267800-1750275000@eagleknoll.com
SUMMARY:Ladies League
DESCRIPTION:
URL:https://eagleknoll.com/event/ladies-league/2025-06-18/
END:VEVENT
BEGIN:VEVENT
DTSTART;TZID=America/Chicago:20250618T170000
DTEND;TZID=America/Chicago:20250618T190000
DTSTAMP:20260425T090642
CREATED:20250328T165832Z
LAST-MODIFIED:20250328T165833Z
UID:10000147-1750266000-1750273200@eagleknoll.com
SUMMARY:Looper League
DESCRIPTION:Every Wednesday at 5:30pmMembers: $11Guests: $21Walking 9 HolesSkins Game and Closest To Pin
URL:https://eagleknoll.com/event/looper-league-2/2025-06-18/
LOCATION:Eagle Knoll Golf Club\, 5757 E. Eagle Knoll Dr.\, Hartsburg\, Missouri\, 65039\, United States
ATTACH;FMTTYPE=image/png:https://eagleknoll.com/wp-content/uploads/2025/03/Black-Ripped-Bowling-Night-Flyer-1.png-1.png
ORGANIZER;CN="Gavin Frevert":MAILTO:gavinf@maxim.golf
END:VEVENT
BEGIN:VEVENT
DTSTART;TZID=America/Chicago:20250618T083000
DTEND;TZID=America/Chicago:20250618T133000
DTSTAMP:20260425T090642
CREATED:20250224T214857Z
LAST-MODIFIED:20250224T214858Z
UID:10000099-1750235400-1750253400@eagleknoll.com
SUMMARY:Retired Teachers Fundraiser
DESCRIPTION:More information to come.
URL:https://eagleknoll.com/event/retired-teachers-fundraiser/
LOCATION:Eagle Knoll Golf Club\, 5757 E. Eagle Knoll Dr.\, Hartsburg\, Missouri\, 65039\, United States
ORGANIZER;CN="mariawalden@mrta.org":MAILTO:mariawalden@mrta.org
END:VEVENT
BEGIN:VEVENT
DTSTART;TZID=America/Chicago:20250616T170000
DTEND;TZID=America/Chicago:20250616T190000
DTSTAMP:20260425T090642
CREATED:20250224T204257Z
LAST-MODIFIED:20250224T204302Z
UID:10000025-1750093200-1750100400@eagleknoll.com
SUMMARY:Men's League
DESCRIPTION:5:00pm Shotgun Start – DON’T BE LATE!MUST get your name on the list by 3:30pm each Monday.Waitlist starts after 55 golfers.Call 573-761-4653 to join the list.Bring $11 cash to enter – Eagle Knoll does not do cash back on transactions.Non-Members: $25 to play (cash or card)
URL:https://eagleknoll.com/event/mens-league/2025-06-16/
LOCATION:Eagle Knoll Golf Club\, 5757 E. Eagle Knoll Dr.\, Hartsburg\, Missouri\, 65039\, United States
END:VEVENT
BEGIN:VEVENT
DTSTART;TZID=America/Chicago:20250612T100000
DTEND;TZID=America/Chicago:20250612T120000
DTSTAMP:20260425T090642
CREATED:20250224T214702Z
LAST-MODIFIED:20250224T214704Z
UID:10000097-1749722400-1749729600@eagleknoll.com
SUMMARY:Eagle Knoll Junior Golf Academy
DESCRIPTION:Kids/Junior golf camp ran by our Head Golf Professional\, Gavin Frevert. More details to come!Enhance your child’s golf skills at Eagle Knoll Golf Course!Our youth programs are designed to teach the fundamentals and help them master their swing while building basic physical fitness.  \n\n\n\nJune 9-12th | 10am – 12pmEntry: $100 (Members) | $150 (Non-Members)Lunch ProvidedFree Gift
URL:https://eagleknoll.com/event/eagle-knoll-junior-golf-academy/2025-06-12/
LOCATION:Eagle Knoll Golf Club\, 5757 E. Eagle Knoll Dr.\, Hartsburg\, Missouri\, 65039\, United States
ORGANIZER;CN="Gavin Frevert":MAILTO:gavinf@maxim.golf
END:VEVENT
BEGIN:VEVENT
DTSTART;TZID=America/Chicago:20250611T173000
DTEND;TZID=America/Chicago:20250611T193000
DTSTAMP:20260425T090642
CREATED:20250602T173030Z
LAST-MODIFIED:20250602T173033Z
UID:10000182-1749663000-1749670200@eagleknoll.com
SUMMARY:Ladies League
DESCRIPTION:
URL:https://eagleknoll.com/event/ladies-league/2025-06-11/
END:VEVENT
BEGIN:VEVENT
DTSTART;TZID=America/Chicago:20250611T170000
DTEND;TZID=America/Chicago:20250611T190000
DTSTAMP:20260425T090642
CREATED:20250328T165832Z
LAST-MODIFIED:20250328T165833Z
UID:10000146-1749661200-1749668400@eagleknoll.com
SUMMARY:Looper League
DESCRIPTION:Every Wednesday at 5:30pmMembers: $11Guests: $21Walking 9 HolesSkins Game and Closest To Pin
URL:https://eagleknoll.com/event/looper-league-2/2025-06-11/
LOCATION:Eagle Knoll Golf Club\, 5757 E. Eagle Knoll Dr.\, Hartsburg\, Missouri\, 65039\, United States
ATTACH;FMTTYPE=image/png:https://eagleknoll.com/wp-content/uploads/2025/03/Black-Ripped-Bowling-Night-Flyer-1.png-1.png
ORGANIZER;CN="Gavin Frevert":MAILTO:gavinf@maxim.golf
END:VEVENT
BEGIN:VEVENT
DTSTART;TZID=America/Chicago:20250611T100000
DTEND;TZID=America/Chicago:20250611T120000
DTSTAMP:20260425T090642
CREATED:20250224T214702Z
LAST-MODIFIED:20250224T214704Z
UID:10000096-1749636000-1749643200@eagleknoll.com
SUMMARY:Eagle Knoll Junior Golf Academy
DESCRIPTION:Kids/Junior golf camp ran by our Head Golf Professional\, Gavin Frevert. More details to come!Enhance your child’s golf skills at Eagle Knoll Golf Course!Our youth programs are designed to teach the fundamentals and help them master their swing while building basic physical fitness.  \n\n\n\nJune 9-12th | 10am – 12pmEntry: $100 (Members) | $150 (Non-Members)Lunch ProvidedFree Gift
URL:https://eagleknoll.com/event/eagle-knoll-junior-golf-academy/2025-06-11/
LOCATION:Eagle Knoll Golf Club\, 5757 E. Eagle Knoll Dr.\, Hartsburg\, Missouri\, 65039\, United States
ORGANIZER;CN="Gavin Frevert":MAILTO:gavinf@maxim.golf
END:VEVENT
BEGIN:VEVENT
DTSTART;TZID=America/Chicago:20250610T100000
DTEND;TZID=America/Chicago:20250610T120000
DTSTAMP:20260425T090642
CREATED:20250224T214702Z
LAST-MODIFIED:20250224T214704Z
UID:10000095-1749549600-1749556800@eagleknoll.com
SUMMARY:Eagle Knoll Junior Golf Academy
DESCRIPTION:Kids/Junior golf camp ran by our Head Golf Professional\, Gavin Frevert. More details to come!Enhance your child’s golf skills at Eagle Knoll Golf Course!Our youth programs are designed to teach the fundamentals and help them master their swing while building basic physical fitness.  \n\n\n\nJune 9-12th | 10am – 12pmEntry: $100 (Members) | $150 (Non-Members)Lunch ProvidedFree Gift
URL:https://eagleknoll.com/event/eagle-knoll-junior-golf-academy/2025-06-10/
LOCATION:Eagle Knoll Golf Club\, 5757 E. Eagle Knoll Dr.\, Hartsburg\, Missouri\, 65039\, United States
ORGANIZER;CN="Gavin Frevert":MAILTO:gavinf@maxim.golf
END:VEVENT
BEGIN:VEVENT
DTSTART;TZID=America/Chicago:20250609T170000
DTEND;TZID=America/Chicago:20250609T190000
DTSTAMP:20260425T090642
CREATED:20250224T204257Z
LAST-MODIFIED:20250224T204302Z
UID:10000024-1749488400-1749495600@eagleknoll.com
SUMMARY:Men's League
DESCRIPTION:5:00pm Shotgun Start – DON’T BE LATE!MUST get your name on the list by 3:30pm each Monday.Waitlist starts after 55 golfers.Call 573-761-4653 to join the list.Bring $11 cash to enter – Eagle Knoll does not do cash back on transactions.Non-Members: $25 to play (cash or card)
URL:https://eagleknoll.com/event/mens-league/2025-06-09/
LOCATION:Eagle Knoll Golf Club\, 5757 E. Eagle Knoll Dr.\, Hartsburg\, Missouri\, 65039\, United States
END:VEVENT
BEGIN:VEVENT
DTSTART;TZID=America/Chicago:20250609T100000
DTEND;TZID=America/Chicago:20250609T120000
DTSTAMP:20260425T090642
CREATED:20250224T214702Z
LAST-MODIFIED:20250224T214704Z
UID:10000094-1749463200-1749470400@eagleknoll.com
SUMMARY:Eagle Knoll Junior Golf Academy
DESCRIPTION:Kids/Junior golf camp ran by our Head Golf Professional\, Gavin Frevert. More details to come!Enhance your child’s golf skills at Eagle Knoll Golf Course!Our youth programs are designed to teach the fundamentals and help them master their swing while building basic physical fitness.  \n\n\n\nJune 9-12th | 10am – 12pmEntry: $100 (Members) | $150 (Non-Members)Lunch ProvidedFree Gift
URL:https://eagleknoll.com/event/eagle-knoll-junior-golf-academy/2025-06-09/
LOCATION:Eagle Knoll Golf Club\, 5757 E. Eagle Knoll Dr.\, Hartsburg\, Missouri\, 65039\, United States
ORGANIZER;CN="Gavin Frevert":MAILTO:gavinf@maxim.golf
END:VEVENT
BEGIN:VEVENT
DTSTART;TZID=America/Chicago:20250607T083000
DTEND;TZID=America/Chicago:20250607T133000
DTSTAMP:20260425T090642
CREATED:20250224T214457Z
LAST-MODIFIED:20250224T214458Z
UID:10000093-1749285000-1749303000@eagleknoll.com
SUMMARY:Rock Bridge Lions Club Tournament
DESCRIPTION:More info to come!
URL:https://eagleknoll.com/event/rock-bridge-lions-club-tournament/
LOCATION:Eagle Knoll Golf Club\, 5757 E. Eagle Knoll Dr.\, Hartsburg\, Missouri\, 65039\, United States
ORGANIZER;CN="vernpauley@gmail.com":MAILTO:vernpauley@gmail.com
END:VEVENT
BEGIN:VEVENT
DTSTART;TZID=America/Chicago:20250604T173000
DTEND;TZID=America/Chicago:20250604T193000
DTSTAMP:20260425T090642
CREATED:20250602T173030Z
LAST-MODIFIED:20250602T173033Z
UID:10000181-1749058200-1749065400@eagleknoll.com
SUMMARY:Ladies League
DESCRIPTION:
URL:https://eagleknoll.com/event/ladies-league/2025-06-04/
END:VEVENT
BEGIN:VEVENT
DTSTART;TZID=America/Chicago:20250604T170000
DTEND;TZID=America/Chicago:20250604T190000
DTSTAMP:20260425T090642
CREATED:20250328T165832Z
LAST-MODIFIED:20250328T165833Z
UID:10000145-1749056400-1749063600@eagleknoll.com
SUMMARY:Looper League
DESCRIPTION:Every Wednesday at 5:30pmMembers: $11Guests: $21Walking 9 HolesSkins Game and Closest To Pin
URL:https://eagleknoll.com/event/looper-league-2/2025-06-04/
LOCATION:Eagle Knoll Golf Club\, 5757 E. Eagle Knoll Dr.\, Hartsburg\, Missouri\, 65039\, United States
ATTACH;FMTTYPE=image/png:https://eagleknoll.com/wp-content/uploads/2025/03/Black-Ripped-Bowling-Night-Flyer-1.png-1.png
ORGANIZER;CN="Gavin Frevert":MAILTO:gavinf@maxim.golf
END:VEVENT
BEGIN:VEVENT
DTSTART;TZID=America/Chicago:20250604T090000
DTEND;TZID=America/Chicago:20250604T130000
DTSTAMP:20260425T090642
CREATED:20250408T191739Z
LAST-MODIFIED:20250828T182518Z
UID:10000169-1749027600-1749042000@eagleknoll.com
SUMMARY:Senior 2-Man Scramble
DESCRIPTION:
URL:https://eagleknoll.com/event/senior-2-man-scramble/2025-06-04/
ATTACH;FMTTYPE=image/png:https://eagleknoll.com/wp-content/uploads/2025/04/thumbnail_Black-Ripped-Bowling-Night-Flyer.png
END:VEVENT
BEGIN:VEVENT
DTSTART;TZID=America/Chicago:20250602T170000
DTEND;TZID=America/Chicago:20250602T190000
DTSTAMP:20260425T090642
CREATED:20250224T204257Z
LAST-MODIFIED:20250224T204302Z
UID:10000023-1748883600-1748890800@eagleknoll.com
SUMMARY:Men's League
DESCRIPTION:5:00pm Shotgun Start – DON’T BE LATE!MUST get your name on the list by 3:30pm each Monday.Waitlist starts after 55 golfers.Call 573-761-4653 to join the list.Bring $11 cash to enter – Eagle Knoll does not do cash back on transactions.Non-Members: $25 to play (cash or card)
URL:https://eagleknoll.com/event/mens-league/2025-06-02/
LOCATION:Eagle Knoll Golf Club\, 5757 E. Eagle Knoll Dr.\, Hartsburg\, Missouri\, 65039\, United States
END:VEVENT
BEGIN:VEVENT
DTSTART;TZID=America/Chicago:20250602T080000
DTEND;TZID=America/Chicago:20250602T133000
DTSTAMP:20260425T090642
CREATED:20250224T214410Z
LAST-MODIFIED:20250224T214411Z
UID:10000092-1748851200-1748871000@eagleknoll.com
SUMMARY:Mastercard Scramble
DESCRIPTION:Regular tee times open up at 1:30 PM!
URL:https://eagleknoll.com/event/mastercard-scramble/
LOCATION:Eagle Knoll Golf Club\, 5757 E. Eagle Knoll Dr.\, Hartsburg\, Missouri\, 65039\, United States
ORGANIZER;CN="leland.crenshaw@mastercard.com":MAILTO:leland.crenshaw@mastercard.com
END:VEVENT
BEGIN:VEVENT
DTSTART;TZID=America/Chicago:20250601T170000
DTEND;TZID=America/Chicago:20250601T190000
DTSTAMP:20260425T090642
CREATED:20250303T193206Z
LAST-MODIFIED:20250303T200722Z
UID:10000128-1748797200-1748804400@eagleknoll.com
SUMMARY:Lads & Lasses League
DESCRIPTION:Join us for a fun afternoon! Format changes every month!
URL:https://eagleknoll.com/event/lads-lasses-league/2025-06-01/
LOCATION:Eagle Knoll Golf Club\, 5757 E. Eagle Knoll Dr.\, Hartsburg\, Missouri\, 65039\, United States
ORGANIZER;CN="Gavin Frevert":MAILTO:gavinf@maxim.golf
END:VEVENT
BEGIN:VEVENT
DTSTART;TZID=America/Chicago:20250530T073000
DTEND;TZID=America/Chicago:20250530T143000
DTSTAMP:20260425T090642
CREATED:20250224T214953Z
LAST-MODIFIED:20250404T175426Z
UID:10000100-1748590200-1748615400@eagleknoll.com
SUMMARY:Scramble for Streets & Safety
DESCRIPTION:
URL:https://eagleknoll.com/event/scramble-for-streets-safety/
LOCATION:Eagle Knoll Golf Club\, 5757 E. Eagle Knoll Dr.\, Hartsburg\, Missouri\, 65039\, United States
ATTACH;FMTTYPE=image/png:https://eagleknoll.com/wp-content/uploads/2025/02/Customized-Asphalt-Solutions-2-1.png
END:VEVENT
BEGIN:VEVENT
DTSTART;TZID=America/Chicago:20250528T170000
DTEND;TZID=America/Chicago:20250528T190000
DTSTAMP:20260425T090642
CREATED:20250328T165832Z
LAST-MODIFIED:20250328T165833Z
UID:10000144-1748451600-1748458800@eagleknoll.com
SUMMARY:Looper League
DESCRIPTION:Every Wednesday at 5:30pmMembers: $11Guests: $21Walking 9 HolesSkins Game and Closest To Pin
URL:https://eagleknoll.com/event/looper-league-2/2025-05-28/
LOCATION:Eagle Knoll Golf Club\, 5757 E. Eagle Knoll Dr.\, Hartsburg\, Missouri\, 65039\, United States
ATTACH;FMTTYPE=image/png:https://eagleknoll.com/wp-content/uploads/2025/03/Black-Ripped-Bowling-Night-Flyer-1.png-1.png
ORGANIZER;CN="Gavin Frevert":MAILTO:gavinf@maxim.golf
END:VEVENT
BEGIN:VEVENT
DTSTART;TZID=America/Chicago:20250526T170000
DTEND;TZID=America/Chicago:20250526T190000
DTSTAMP:20260425T090642
CREATED:20250224T204257Z
LAST-MODIFIED:20250224T204302Z
UID:10000022-1748278800-1748286000@eagleknoll.com
SUMMARY:Men's League
DESCRIPTION:5:00pm Shotgun Start – DON’T BE LATE!MUST get your name on the list by 3:30pm each Monday.Waitlist starts after 55 golfers.Call 573-761-4653 to join the list.Bring $11 cash to enter – Eagle Knoll does not do cash back on transactions.Non-Members: $25 to play (cash or card)
URL:https://eagleknoll.com/event/mens-league/2025-05-26/
LOCATION:Eagle Knoll Golf Club\, 5757 E. Eagle Knoll Dr.\, Hartsburg\, Missouri\, 65039\, United States
END:VEVENT
BEGIN:VEVENT
DTSTART;TZID=America/Chicago:20250521T170000
DTEND;TZID=America/Chicago:20250521T190000
DTSTAMP:20260425T090642
CREATED:20250328T165832Z
LAST-MODIFIED:20250328T165833Z
UID:10000143-1747846800-1747854000@eagleknoll.com
SUMMARY:Looper League
DESCRIPTION:Every Wednesday at 5:30pmMembers: $11Guests: $21Walking 9 HolesSkins Game and Closest To Pin
URL:https://eagleknoll.com/event/looper-league-2/2025-05-21/
LOCATION:Eagle Knoll Golf Club\, 5757 E. Eagle Knoll Dr.\, Hartsburg\, Missouri\, 65039\, United States
ATTACH;FMTTYPE=image/png:https://eagleknoll.com/wp-content/uploads/2025/03/Black-Ripped-Bowling-Night-Flyer-1.png-1.png
ORGANIZER;CN="Gavin Frevert":MAILTO:gavinf@maxim.golf
END:VEVENT
END:VCALENDAR