BEGIN:VCALENDAR
VERSION:2.0
PRODID:-//Eagle Knoll Golf Club - Hartsburg, MO - ECPv6.15.20//NONSGML v1.0//EN
CALSCALE:GREGORIAN
METHOD:PUBLISH
X-ORIGINAL-URL:https://eagleknoll.com
X-WR-CALDESC:Events for Eagle Knoll Golf Club - Hartsburg, MO
REFRESH-INTERVAL;VALUE=DURATION:PT1H
X-Robots-Tag:noindex
X-PUBLISHED-TTL:PT1H
BEGIN:VTIMEZONE
TZID:America/Chicago
BEGIN:DAYLIGHT
TZOFFSETFROM:-0600
TZOFFSETTO:-0500
TZNAME:CDT
DTSTART:20250309T080000
END:DAYLIGHT
BEGIN:STANDARD
TZOFFSETFROM:-0500
TZOFFSETTO:-0600
TZNAME:CST
DTSTART:20251102T070000
END:STANDARD
BEGIN:DAYLIGHT
TZOFFSETFROM:-0600
TZOFFSETTO:-0500
TZNAME:CDT
DTSTART:20260308T080000
END:DAYLIGHT
BEGIN:STANDARD
TZOFFSETFROM:-0500
TZOFFSETTO:-0600
TZNAME:CST
DTSTART:20261101T070000
END:STANDARD
BEGIN:DAYLIGHT
TZOFFSETFROM:-0600
TZOFFSETTO:-0500
TZNAME:CDT
DTSTART:20270314T080000
END:DAYLIGHT
BEGIN:STANDARD
TZOFFSETFROM:-0500
TZOFFSETTO:-0600
TZNAME:CST
DTSTART:20271107T070000
END:STANDARD
END:VTIMEZONE
BEGIN:VEVENT
DTSTART;TZID=America/Chicago:20260329T090000
DTEND;TZID=America/Chicago:20260329T103000
DTSTAMP:20260419T123454
CREATED:20260203T191047Z
LAST-MODIFIED:20260204T172708Z
UID:10000451-1774774800-1774780200@eagleknoll.com
SUMMARY:Easter Brunch & Hunt
DESCRIPTION:Join us for a very special Easter Family Event! Lots of Easter festivities for children to engage in! Tickets include a big Easter Egg Hunt\, an egg Hunter Gift at Registration\, brunch\, face paintings\, a bunny petting station\, contests\, pony petting station\, and prizes! Bring your own basket and RSVP by March 22nd to secure your spot!
URL:https://eagleknoll.com/event/easter-brunch-hunt/
LOCATION:Missouri
ATTACH;FMTTYPE=image/png:https://eagleknoll.com/wp-content/uploads/2026/02/Easter-Brunch-Hunt-@-Eagle-KNoll-7.png
ORGANIZER;CN="Kyna Smith":MAILTO:kynas@maxim.golf
END:VEVENT
BEGIN:VEVENT
DTSTART;TZID=America/Chicago:20260330T170000
DTEND;TZID=America/Chicago:20260330T170000
DTSTAMP:20260419T123454
CREATED:20260203T201858Z
LAST-MODIFIED:20260203T201900Z
UID:10000475-1774890000-1774890000@eagleknoll.com
SUMMARY:Men's League
DESCRIPTION:
URL:https://eagleknoll.com/event/mens-league-2/2026-03-30/
LOCATION:Missouri
END:VEVENT
BEGIN:VEVENT
DTSTART;TZID=America/Chicago:20260401T170000
DTEND;TZID=America/Chicago:20260401T170000
DTSTAMP:20260419T123454
CREATED:20260204T170221Z
LAST-MODIFIED:20260204T173418Z
UID:10000508-1775062800-1775062800@eagleknoll.com
SUMMARY:Looper League
DESCRIPTION:
URL:https://eagleknoll.com/event/looper-league-3/2026-04-01/
LOCATION:Missouri
ATTACH;FMTTYPE=image/jpeg:https://eagleknoll.com/wp-content/uploads/2026/02/IMG_6533.jpeg
ORGANIZER;CN="Gavin Frevert":MAILTO:gavinf@maxim.golf
END:VEVENT
BEGIN:VEVENT
DTSTART;TZID=America/Chicago:20260401T173000
DTEND;TZID=America/Chicago:20260401T193000
DTSTAMP:20260419T123454
CREATED:20250602T173030Z
LAST-MODIFIED:20250602T173033Z
UID:10000224-1775064600-1775071800@eagleknoll.com
SUMMARY:Ladies League
DESCRIPTION:
URL:https://eagleknoll.com/event/ladies-league/2026-04-01/
LOCATION:Missouri
END:VEVENT
BEGIN:VEVENT
DTSTART;TZID=America/Chicago:20260405T150000
DTEND;TZID=America/Chicago:20260405T150000
DTSTAMP:20260419T123454
CREATED:20260203T195721Z
LAST-MODIFIED:20260204T171557Z
UID:10000462-1775401200-1775401200@eagleknoll.com
SUMMARY:Nine & Dine
DESCRIPTION:Grab a partner and join us on the first Sunday of every month for 9 holes and a bite to eat afterwards! Our menu just got better! \n\n\n\nGames vary monthly \n\n\n\nPayouts & Prizes available! \n\n\n\n$30/Non-member | $10/member
URL:https://eagleknoll.com/event/nine-dine-5/
LOCATION:Missouri
ATTACH;FMTTYPE=image/png:https://eagleknoll.com/wp-content/uploads/2026/02/nine-dine-1-2.png
ORGANIZER;CN="Kyna Smith":MAILTO:kynas@maxim.golf
END:VEVENT
BEGIN:VEVENT
DTSTART;TZID=America/Chicago:20260406T170000
DTEND;TZID=America/Chicago:20260406T170000
DTSTAMP:20260419T123454
CREATED:20260203T201858Z
LAST-MODIFIED:20260203T201900Z
UID:10000476-1775494800-1775494800@eagleknoll.com
SUMMARY:Men's League
DESCRIPTION:
URL:https://eagleknoll.com/event/mens-league-2/2026-04-06/
LOCATION:Missouri
END:VEVENT
BEGIN:VEVENT
DTSTART;TZID=America/Chicago:20260408T090000
DTEND;TZID=America/Chicago:20260408T090000
DTSTAMP:20260419T123454
CREATED:20260203T200814Z
LAST-MODIFIED:20260320T180931Z
UID:10000465-1775638800-1775638800@eagleknoll.com
SUMMARY:Senior League
DESCRIPTION:
URL:https://eagleknoll.com/event/senior-league/
LOCATION:Missouri
ATTACH;FMTTYPE=image/jpeg:https://eagleknoll.com/wp-content/uploads/2026/02/IMG_6532.jpeg
ORGANIZER;CN="Gavin Frevert":MAILTO:gavinf@maxim.golf
END:VEVENT
BEGIN:VEVENT
DTSTART;TZID=America/Chicago:20260408T170000
DTEND;TZID=America/Chicago:20260408T170000
DTSTAMP:20260419T123454
CREATED:20260204T170221Z
LAST-MODIFIED:20260204T173418Z
UID:10000509-1775667600-1775667600@eagleknoll.com
SUMMARY:Looper League
DESCRIPTION:
URL:https://eagleknoll.com/event/looper-league-3/2026-04-08/
LOCATION:Missouri
ATTACH;FMTTYPE=image/jpeg:https://eagleknoll.com/wp-content/uploads/2026/02/IMG_6533.jpeg
ORGANIZER;CN="Gavin Frevert":MAILTO:gavinf@maxim.golf
END:VEVENT
BEGIN:VEVENT
DTSTART;TZID=America/Chicago:20260408T173000
DTEND;TZID=America/Chicago:20260408T193000
DTSTAMP:20260419T123454
CREATED:20250602T173030Z
LAST-MODIFIED:20250602T173033Z
UID:10000225-1775669400-1775676600@eagleknoll.com
SUMMARY:Ladies League
DESCRIPTION:
URL:https://eagleknoll.com/event/ladies-league/2026-04-08/
LOCATION:Missouri
END:VEVENT
BEGIN:VEVENT
DTSTART;TZID=America/Chicago:20260412T080000
DTEND;TZID=America/Chicago:20260412T170000
DTSTAMP:20260419T123454
CREATED:20260203T192528Z
LAST-MODIFIED:20260203T200610Z
UID:10000452-1775980800-1776013200@eagleknoll.com
SUMMARY:Eagle Knoll Season Opener Tournament
DESCRIPTION:
URL:https://eagleknoll.com/event/eagle-knoll-season-opener-tournament/
LOCATION:Missouri
END:VEVENT
BEGIN:VEVENT
DTSTART;TZID=America/Chicago:20260413T080000
DTEND;TZID=America/Chicago:20260413T170000
DTSTAMP:20260419T123454
CREATED:20260401T155956Z
LAST-MODIFIED:20260401T175458Z
UID:10000552-1776067200-1776099600@eagleknoll.com
SUMMARY:Aerification | Course Closed
DESCRIPTION:Aerification will take place on April 13th. The course will be closed until 5:00 PM. At 5:00 PM\, the back 9 will remain closed\, and the front 9 will be closed off for Men’s League. We expect greens to be fully healed in 7-10 days after. \n\n\n\nDiscounted tee times below: \n\n\n\nWeekday (18 w/ a cart) $30Weekday (9 w/ a cart) $25Weekend (18 w/ a cart) $40Weekend (9 w/ a cart) $30
URL:https://eagleknoll.com/event/aerification-2/
LOCATION:Eagle Knoll Golf Club\, 5757 E. Eagle Knoll Dr.\, Hartsburg\, Missouri\, 65039\, United States
END:VEVENT
BEGIN:VEVENT
DTSTART;TZID=America/Chicago:20260413T170000
DTEND;TZID=America/Chicago:20260413T170000
DTSTAMP:20260419T123454
CREATED:20260203T201858Z
LAST-MODIFIED:20260203T201900Z
UID:10000477-1776099600-1776099600@eagleknoll.com
SUMMARY:Men's League
DESCRIPTION:
URL:https://eagleknoll.com/event/mens-league-2/2026-04-13/
LOCATION:Missouri
END:VEVENT
BEGIN:VEVENT
DTSTART;TZID=America/Chicago:20260415T170000
DTEND;TZID=America/Chicago:20260415T170000
DTSTAMP:20260419T123454
CREATED:20260204T170221Z
LAST-MODIFIED:20260204T173418Z
UID:10000510-1776272400-1776272400@eagleknoll.com
SUMMARY:Looper League
DESCRIPTION:
URL:https://eagleknoll.com/event/looper-league-3/2026-04-15/
LOCATION:Missouri
ATTACH;FMTTYPE=image/jpeg:https://eagleknoll.com/wp-content/uploads/2026/02/IMG_6533.jpeg
ORGANIZER;CN="Gavin Frevert":MAILTO:gavinf@maxim.golf
END:VEVENT
BEGIN:VEVENT
DTSTART;TZID=America/Chicago:20260415T173000
DTEND;TZID=America/Chicago:20260415T193000
DTSTAMP:20260419T123454
CREATED:20250602T173030Z
LAST-MODIFIED:20250602T173033Z
UID:10000226-1776274200-1776281400@eagleknoll.com
SUMMARY:Ladies League
DESCRIPTION:
URL:https://eagleknoll.com/event/ladies-league/2026-04-15/
LOCATION:Missouri
END:VEVENT
BEGIN:VEVENT
DTSTART;TZID=America/Chicago:20260420T170000
DTEND;TZID=America/Chicago:20260420T170000
DTSTAMP:20260419T123454
CREATED:20260203T201858Z
LAST-MODIFIED:20260203T201900Z
UID:10000478-1776704400-1776704400@eagleknoll.com
SUMMARY:Men's League
DESCRIPTION:
URL:https://eagleknoll.com/event/mens-league-2/2026-04-20/
LOCATION:Missouri
END:VEVENT
BEGIN:VEVENT
DTSTART;TZID=America/Chicago:20260422T170000
DTEND;TZID=America/Chicago:20260422T170000
DTSTAMP:20260419T123454
CREATED:20260204T170221Z
LAST-MODIFIED:20260204T173418Z
UID:10000511-1776877200-1776877200@eagleknoll.com
SUMMARY:Looper League
DESCRIPTION:
URL:https://eagleknoll.com/event/looper-league-3/2026-04-22/
LOCATION:Missouri
ATTACH;FMTTYPE=image/jpeg:https://eagleknoll.com/wp-content/uploads/2026/02/IMG_6533.jpeg
ORGANIZER;CN="Gavin Frevert":MAILTO:gavinf@maxim.golf
END:VEVENT
BEGIN:VEVENT
DTSTART;TZID=America/Chicago:20260422T173000
DTEND;TZID=America/Chicago:20260422T193000
DTSTAMP:20260419T123454
CREATED:20250602T173030Z
LAST-MODIFIED:20250602T173033Z
UID:10000227-1776879000-1776886200@eagleknoll.com
SUMMARY:Ladies League
DESCRIPTION:
URL:https://eagleknoll.com/event/ladies-league/2026-04-22/
LOCATION:Missouri
END:VEVENT
BEGIN:VEVENT
DTSTART;TZID=America/Chicago:20260427T170000
DTEND;TZID=America/Chicago:20260427T170000
DTSTAMP:20260419T123454
CREATED:20260203T201858Z
LAST-MODIFIED:20260203T201900Z
UID:10000479-1777309200-1777309200@eagleknoll.com
SUMMARY:Men's League
DESCRIPTION:
URL:https://eagleknoll.com/event/mens-league-2/2026-04-27/
LOCATION:Missouri
END:VEVENT
BEGIN:VEVENT
DTSTART;TZID=America/Chicago:20260429T170000
DTEND;TZID=America/Chicago:20260429T170000
DTSTAMP:20260419T123454
CREATED:20260204T170221Z
LAST-MODIFIED:20260204T173418Z
UID:10000512-1777482000-1777482000@eagleknoll.com
SUMMARY:Looper League
DESCRIPTION:
URL:https://eagleknoll.com/event/looper-league-3/2026-04-29/
LOCATION:Missouri
ATTACH;FMTTYPE=image/jpeg:https://eagleknoll.com/wp-content/uploads/2026/02/IMG_6533.jpeg
ORGANIZER;CN="Gavin Frevert":MAILTO:gavinf@maxim.golf
END:VEVENT
BEGIN:VEVENT
DTSTART;TZID=America/Chicago:20260429T173000
DTEND;TZID=America/Chicago:20260429T193000
DTSTAMP:20260419T123454
CREATED:20250602T173030Z
LAST-MODIFIED:20250602T173033Z
UID:10000228-1777483800-1777491000@eagleknoll.com
SUMMARY:Ladies League
DESCRIPTION:
URL:https://eagleknoll.com/event/ladies-league/2026-04-29/
LOCATION:Missouri
END:VEVENT
BEGIN:VEVENT
DTSTART;TZID=America/Chicago:20260503T090000
DTEND;TZID=America/Chicago:20260503T170000
DTSTAMP:20260419T123454
CREATED:20260203T190912Z
LAST-MODIFIED:20260204T172131Z
UID:10000450-1777798800-1777827600@eagleknoll.com
SUMMARY:6-6-6 Golf Tournament
DESCRIPTION:2-Person Teams – 6 Scramble\, 6 Alternate Shot\, 6 Best Ball \n\n\n\n9:00 AM shotgun start \n\n\n\nPricing: 80/Member\, 100/Non-member \n\n\n\nPayouts: Based on Participation \n\n\n\nIncludes: Lunch\, Prizes\, 3 Drink Tickets\, $10 Skins Game
URL:https://eagleknoll.com/event/6-6-6-golf-tournament/
LOCATION:Missouri
ATTACH;FMTTYPE=image/png:https://eagleknoll.com/wp-content/uploads/2026/02/SUnday-May-5th-900-AM-shotgun-start-3.png
ORGANIZER;CN="Kyna Smith":MAILTO:kynas@maxim.golf
END:VEVENT
BEGIN:VEVENT
DTSTART;TZID=America/Chicago:20260504T170000
DTEND;TZID=America/Chicago:20260504T170000
DTSTAMP:20260419T123454
CREATED:20260203T201858Z
LAST-MODIFIED:20260203T201900Z
UID:10000480-1777914000-1777914000@eagleknoll.com
SUMMARY:Men's League
DESCRIPTION:
URL:https://eagleknoll.com/event/mens-league-2/2026-05-04/
LOCATION:Missouri
END:VEVENT
BEGIN:VEVENT
DTSTART;TZID=America/Chicago:20260506T090000
DTEND;TZID=America/Chicago:20260506T090000
DTSTAMP:20260419T123454
CREATED:20260203T200916Z
LAST-MODIFIED:20260204T173142Z
UID:10000466-1778058000-1778058000@eagleknoll.com
SUMMARY:Senior League
DESCRIPTION:
URL:https://eagleknoll.com/event/senior-league-2/
LOCATION:Missouri
ATTACH;FMTTYPE=image/jpeg:https://eagleknoll.com/wp-content/uploads/2026/02/IMG_6532.jpeg
ORGANIZER;CN="Kyna Smith":MAILTO:kynas@maxim.golf
END:VEVENT
BEGIN:VEVENT
DTSTART;TZID=America/Chicago:20260506T170000
DTEND;TZID=America/Chicago:20260506T170000
DTSTAMP:20260419T123454
CREATED:20260204T170221Z
LAST-MODIFIED:20260204T173418Z
UID:10000513-1778086800-1778086800@eagleknoll.com
SUMMARY:Looper League
DESCRIPTION:
URL:https://eagleknoll.com/event/looper-league-3/2026-05-06/
LOCATION:Missouri
ATTACH;FMTTYPE=image/jpeg:https://eagleknoll.com/wp-content/uploads/2026/02/IMG_6533.jpeg
ORGANIZER;CN="Gavin Frevert":MAILTO:gavinf@maxim.golf
END:VEVENT
BEGIN:VEVENT
DTSTART;TZID=America/Chicago:20260506T173000
DTEND;TZID=America/Chicago:20260506T193000
DTSTAMP:20260419T123454
CREATED:20250602T173030Z
LAST-MODIFIED:20250602T173033Z
UID:10000229-1778088600-1778095800@eagleknoll.com
SUMMARY:Ladies League
DESCRIPTION:
URL:https://eagleknoll.com/event/ladies-league/2026-05-06/
LOCATION:Missouri
END:VEVENT
BEGIN:VEVENT
DTSTART;TZID=America/Chicago:20260510T080000
DTEND;TZID=America/Chicago:20260510T170000
DTSTAMP:20260419T123454
CREATED:20260210T161910Z
LAST-MODIFIED:20260312T192821Z
UID:10000544-1778400000-1778432400@eagleknoll.com
SUMMARY:Mother's Day
DESCRIPTION:
URL:https://eagleknoll.com/event/mothers-day/
LOCATION:Missouri
END:VEVENT
BEGIN:VEVENT
DTSTART;TZID=America/Chicago:20260510T150000
DTEND;TZID=America/Chicago:20260510T150000
DTSTAMP:20260419T123454
CREATED:20260203T194553Z
LAST-MODIFIED:20260204T171906Z
UID:10000456-1778425200-1778425200@eagleknoll.com
SUMMARY:Nine & Dine
DESCRIPTION:Grab a partner and join us on the first Sunday of every month for 9 holes and a bite to eat afterwards! Our menu just got better! \n\n\n\nGames vary monthly \n\n\n\nPayouts & Prizes available! \n\n\n\n$30/Non-member | $10/member
URL:https://eagleknoll.com/event/nine-dine/
LOCATION:Missouri
ATTACH;FMTTYPE=image/png:https://eagleknoll.com/wp-content/uploads/2026/02/nine-dine-1-5.png
ORGANIZER;CN="Kyna Smith":MAILTO:kynas@maxim.golf
END:VEVENT
BEGIN:VEVENT
DTSTART;TZID=America/Chicago:20260511T170000
DTEND;TZID=America/Chicago:20260511T170000
DTSTAMP:20260419T123454
CREATED:20260203T201858Z
LAST-MODIFIED:20260203T201900Z
UID:10000481-1778518800-1778518800@eagleknoll.com
SUMMARY:Men's League
DESCRIPTION:
URL:https://eagleknoll.com/event/mens-league-2/2026-05-11/
LOCATION:Missouri
END:VEVENT
BEGIN:VEVENT
DTSTART;TZID=America/Chicago:20260513T170000
DTEND;TZID=America/Chicago:20260513T170000
DTSTAMP:20260419T123454
CREATED:20260204T170221Z
LAST-MODIFIED:20260204T173418Z
UID:10000514-1778691600-1778691600@eagleknoll.com
SUMMARY:Looper League
DESCRIPTION:
URL:https://eagleknoll.com/event/looper-league-3/2026-05-13/
LOCATION:Missouri
ATTACH;FMTTYPE=image/jpeg:https://eagleknoll.com/wp-content/uploads/2026/02/IMG_6533.jpeg
ORGANIZER;CN="Gavin Frevert":MAILTO:gavinf@maxim.golf
END:VEVENT
BEGIN:VEVENT
DTSTART;TZID=America/Chicago:20260513T173000
DTEND;TZID=America/Chicago:20260513T193000
DTSTAMP:20260419T123454
CREATED:20250602T173030Z
LAST-MODIFIED:20250602T173033Z
UID:10000230-1778693400-1778700600@eagleknoll.com
SUMMARY:Ladies League
DESCRIPTION:
URL:https://eagleknoll.com/event/ladies-league/2026-05-13/
LOCATION:Missouri
END:VEVENT
END:VCALENDAR