BEGIN:VCALENDAR
VERSION:2.0
PRODID:-//Eagle Knoll Golf Club - Hartsburg, MO - ECPv6.15.20//NONSGML v1.0//EN
CALSCALE:GREGORIAN
METHOD:PUBLISH
X-WR-CALNAME:Eagle Knoll Golf Club - Hartsburg, MO
X-ORIGINAL-URL:https://eagleknoll.com
X-WR-CALDESC:Events for Eagle Knoll Golf Club - Hartsburg, MO
REFRESH-INTERVAL;VALUE=DURATION:PT1H
X-Robots-Tag:noindex
X-PUBLISHED-TTL:PT1H
BEGIN:VTIMEZONE
TZID:America/Chicago
BEGIN:DAYLIGHT
TZOFFSETFROM:-0600
TZOFFSETTO:-0500
TZNAME:CDT
DTSTART:20240310T080000
END:DAYLIGHT
BEGIN:STANDARD
TZOFFSETFROM:-0500
TZOFFSETTO:-0600
TZNAME:CST
DTSTART:20241103T070000
END:STANDARD
BEGIN:DAYLIGHT
TZOFFSETFROM:-0600
TZOFFSETTO:-0500
TZNAME:CDT
DTSTART:20250309T080000
END:DAYLIGHT
BEGIN:STANDARD
TZOFFSETFROM:-0500
TZOFFSETTO:-0600
TZNAME:CST
DTSTART:20251102T070000
END:STANDARD
BEGIN:DAYLIGHT
TZOFFSETFROM:-0600
TZOFFSETTO:-0500
TZNAME:CDT
DTSTART:20260308T080000
END:DAYLIGHT
BEGIN:STANDARD
TZOFFSETFROM:-0500
TZOFFSETTO:-0600
TZNAME:CST
DTSTART:20261101T070000
END:STANDARD
BEGIN:DAYLIGHT
TZOFFSETFROM:-0600
TZOFFSETTO:-0500
TZNAME:CDT
DTSTART:20270314T080000
END:DAYLIGHT
BEGIN:STANDARD
TZOFFSETFROM:-0500
TZOFFSETTO:-0600
TZNAME:CST
DTSTART:20271107T070000
END:STANDARD
END:VTIMEZONE
BEGIN:VEVENT
DTSTART;TZID=America/Chicago:20260413T170000
DTEND;TZID=America/Chicago:20260413T170000
DTSTAMP:20260422T191620
CREATED:20260203T201858Z
LAST-MODIFIED:20260203T201900Z
UID:10000477-1776099600-1776099600@eagleknoll.com
SUMMARY:Men's League
DESCRIPTION:
URL:https://eagleknoll.com/event/mens-league-2/2026-04-13/
LOCATION:Missouri
END:VEVENT
BEGIN:VEVENT
DTSTART;TZID=America/Chicago:20260413T080000
DTEND;TZID=America/Chicago:20260413T170000
DTSTAMP:20260422T191620
CREATED:20260401T155956Z
LAST-MODIFIED:20260401T175458Z
UID:10000552-1776067200-1776099600@eagleknoll.com
SUMMARY:Aerification | Course Closed
DESCRIPTION:Aerification will take place on April 13th. The course will be closed until 5:00 PM. At 5:00 PM\, the back 9 will remain closed\, and the front 9 will be closed off for Men’s League. We expect greens to be fully healed in 7-10 days after. \n\n\n\nDiscounted tee times below: \n\n\n\nWeekday (18 w/ a cart) $30Weekday (9 w/ a cart) $25Weekend (18 w/ a cart) $40Weekend (9 w/ a cart) $30
URL:https://eagleknoll.com/event/aerification-2/
LOCATION:Eagle Knoll Golf Club\, 5757 E. Eagle Knoll Dr.\, Hartsburg\, Missouri\, 65039\, United States
END:VEVENT
BEGIN:VEVENT
DTSTART;TZID=America/Chicago:20260412T080000
DTEND;TZID=America/Chicago:20260412T170000
DTSTAMP:20260422T191620
CREATED:20260203T192528Z
LAST-MODIFIED:20260203T200610Z
UID:10000452-1775980800-1776013200@eagleknoll.com
SUMMARY:Eagle Knoll Season Opener Tournament
DESCRIPTION:
URL:https://eagleknoll.com/event/eagle-knoll-season-opener-tournament/
LOCATION:Missouri
END:VEVENT
BEGIN:VEVENT
DTSTART;TZID=America/Chicago:20260408T173000
DTEND;TZID=America/Chicago:20260408T193000
DTSTAMP:20260422T191620
CREATED:20250602T173030Z
LAST-MODIFIED:20250602T173033Z
UID:10000225-1775669400-1775676600@eagleknoll.com
SUMMARY:Ladies League
DESCRIPTION:
URL:https://eagleknoll.com/event/ladies-league/2026-04-08/
LOCATION:Missouri
END:VEVENT
BEGIN:VEVENT
DTSTART;TZID=America/Chicago:20260408T170000
DTEND;TZID=America/Chicago:20260408T170000
DTSTAMP:20260422T191620
CREATED:20260204T170221Z
LAST-MODIFIED:20260204T173418Z
UID:10000509-1775667600-1775667600@eagleknoll.com
SUMMARY:Looper League
DESCRIPTION:
URL:https://eagleknoll.com/event/looper-league-3/2026-04-08/
LOCATION:Missouri
ATTACH;FMTTYPE=image/jpeg:https://eagleknoll.com/wp-content/uploads/2026/02/IMG_6533.jpeg
ORGANIZER;CN="Gavin Frevert":MAILTO:gavinf@maxim.golf
END:VEVENT
BEGIN:VEVENT
DTSTART;TZID=America/Chicago:20260408T090000
DTEND;TZID=America/Chicago:20260408T090000
DTSTAMP:20260422T191620
CREATED:20260203T200814Z
LAST-MODIFIED:20260320T180931Z
UID:10000465-1775638800-1775638800@eagleknoll.com
SUMMARY:Senior League
DESCRIPTION:
URL:https://eagleknoll.com/event/senior-league/
LOCATION:Missouri
ATTACH;FMTTYPE=image/jpeg:https://eagleknoll.com/wp-content/uploads/2026/02/IMG_6532.jpeg
ORGANIZER;CN="Gavin Frevert":MAILTO:gavinf@maxim.golf
END:VEVENT
BEGIN:VEVENT
DTSTART;TZID=America/Chicago:20260406T170000
DTEND;TZID=America/Chicago:20260406T170000
DTSTAMP:20260422T191620
CREATED:20260203T201858Z
LAST-MODIFIED:20260203T201900Z
UID:10000476-1775494800-1775494800@eagleknoll.com
SUMMARY:Men's League
DESCRIPTION:
URL:https://eagleknoll.com/event/mens-league-2/2026-04-06/
LOCATION:Missouri
END:VEVENT
BEGIN:VEVENT
DTSTART;TZID=America/Chicago:20260405T150000
DTEND;TZID=America/Chicago:20260405T150000
DTSTAMP:20260422T191620
CREATED:20260203T195721Z
LAST-MODIFIED:20260204T171557Z
UID:10000462-1775401200-1775401200@eagleknoll.com
SUMMARY:Nine & Dine
DESCRIPTION:Grab a partner and join us on the first Sunday of every month for 9 holes and a bite to eat afterwards! Our menu just got better! \n\n\n\nGames vary monthly \n\n\n\nPayouts & Prizes available! \n\n\n\n$30/Non-member | $10/member
URL:https://eagleknoll.com/event/nine-dine-5/
LOCATION:Missouri
ATTACH;FMTTYPE=image/png:https://eagleknoll.com/wp-content/uploads/2026/02/nine-dine-1-2.png
ORGANIZER;CN="Kyna Smith":MAILTO:kynas@maxim.golf
END:VEVENT
BEGIN:VEVENT
DTSTART;TZID=America/Chicago:20260401T173000
DTEND;TZID=America/Chicago:20260401T193000
DTSTAMP:20260422T191620
CREATED:20250602T173030Z
LAST-MODIFIED:20250602T173033Z
UID:10000224-1775064600-1775071800@eagleknoll.com
SUMMARY:Ladies League
DESCRIPTION:
URL:https://eagleknoll.com/event/ladies-league/2026-04-01/
LOCATION:Missouri
END:VEVENT
BEGIN:VEVENT
DTSTART;TZID=America/Chicago:20260401T170000
DTEND;TZID=America/Chicago:20260401T170000
DTSTAMP:20260422T191620
CREATED:20260204T170221Z
LAST-MODIFIED:20260204T173418Z
UID:10000508-1775062800-1775062800@eagleknoll.com
SUMMARY:Looper League
DESCRIPTION:
URL:https://eagleknoll.com/event/looper-league-3/2026-04-01/
LOCATION:Missouri
ATTACH;FMTTYPE=image/jpeg:https://eagleknoll.com/wp-content/uploads/2026/02/IMG_6533.jpeg
ORGANIZER;CN="Gavin Frevert":MAILTO:gavinf@maxim.golf
END:VEVENT
BEGIN:VEVENT
DTSTART;TZID=America/Chicago:20260330T170000
DTEND;TZID=America/Chicago:20260330T170000
DTSTAMP:20260422T191620
CREATED:20260203T201858Z
LAST-MODIFIED:20260203T201900Z
UID:10000475-1774890000-1774890000@eagleknoll.com
SUMMARY:Men's League
DESCRIPTION:
URL:https://eagleknoll.com/event/mens-league-2/2026-03-30/
LOCATION:Missouri
END:VEVENT
BEGIN:VEVENT
DTSTART;TZID=America/Chicago:20260329T090000
DTEND;TZID=America/Chicago:20260329T103000
DTSTAMP:20260422T191620
CREATED:20260203T191047Z
LAST-MODIFIED:20260204T172708Z
UID:10000451-1774774800-1774780200@eagleknoll.com
SUMMARY:Easter Brunch & Hunt
DESCRIPTION:Join us for a very special Easter Family Event! Lots of Easter festivities for children to engage in! Tickets include a big Easter Egg Hunt\, an egg Hunter Gift at Registration\, brunch\, face paintings\, a bunny petting station\, contests\, pony petting station\, and prizes! Bring your own basket and RSVP by March 22nd to secure your spot!
URL:https://eagleknoll.com/event/easter-brunch-hunt/
LOCATION:Missouri
ATTACH;FMTTYPE=image/png:https://eagleknoll.com/wp-content/uploads/2026/02/Easter-Brunch-Hunt-@-Eagle-KNoll-7.png
ORGANIZER;CN="Kyna Smith":MAILTO:kynas@maxim.golf
END:VEVENT
BEGIN:VEVENT
DTSTART;TZID=America/Chicago:20260325T173000
DTEND;TZID=America/Chicago:20260325T193000
DTSTAMP:20260422T191620
CREATED:20250602T173030Z
LAST-MODIFIED:20250602T173033Z
UID:10000223-1774459800-1774467000@eagleknoll.com
SUMMARY:Ladies League
DESCRIPTION:
URL:https://eagleknoll.com/event/ladies-league/2026-03-25/
LOCATION:Missouri
END:VEVENT
BEGIN:VEVENT
DTSTART;TZID=America/Chicago:20260325T170000
DTEND;TZID=America/Chicago:20260325T170000
DTSTAMP:20260422T191620
CREATED:20260204T170221Z
LAST-MODIFIED:20260204T173418Z
UID:10000507-1774458000-1774458000@eagleknoll.com
SUMMARY:Looper League
DESCRIPTION:
URL:https://eagleknoll.com/event/looper-league-3/2026-03-25/
LOCATION:Missouri
ATTACH;FMTTYPE=image/jpeg:https://eagleknoll.com/wp-content/uploads/2026/02/IMG_6533.jpeg
ORGANIZER;CN="Gavin Frevert":MAILTO:gavinf@maxim.golf
END:VEVENT
BEGIN:VEVENT
DTSTART;TZID=America/Chicago:20260323T170000
DTEND;TZID=America/Chicago:20260323T170000
DTSTAMP:20260422T191620
CREATED:20260203T201858Z
LAST-MODIFIED:20260203T201900Z
UID:10000474-1774285200-1774285200@eagleknoll.com
SUMMARY:Men's League
DESCRIPTION:
URL:https://eagleknoll.com/event/mens-league-2/2026-03-23/
LOCATION:Missouri
END:VEVENT
BEGIN:VEVENT
DTSTART;TZID=America/Chicago:20260320T090000
DTEND;TZID=America/Chicago:20260320T150000
DTSTAMP:20260422T191620
CREATED:20260320T180803Z
LAST-MODIFIED:20260320T180805Z
UID:10000551-1773997200-1774018800@eagleknoll.com
SUMMARY:Southern Boone Golf Classic
DESCRIPTION:
URL:https://eagleknoll.com/event/southern-boone-golf-classic/
LOCATION:Missouri
END:VEVENT
BEGIN:VEVENT
DTSTART;TZID=America/Chicago:20260318T173000
DTEND;TZID=America/Chicago:20260318T193000
DTSTAMP:20260422T191620
CREATED:20250602T173030Z
LAST-MODIFIED:20250602T173033Z
UID:10000222-1773855000-1773862200@eagleknoll.com
SUMMARY:Ladies League
DESCRIPTION:
URL:https://eagleknoll.com/event/ladies-league/2026-03-18/
LOCATION:Missouri
END:VEVENT
BEGIN:VEVENT
DTSTART;TZID=America/Chicago:20260316T170000
DTEND;TZID=America/Chicago:20260316T170000
DTSTAMP:20260422T191620
CREATED:20260203T201858Z
LAST-MODIFIED:20260203T201900Z
UID:10000473-1773680400-1773680400@eagleknoll.com
SUMMARY:Men's League
DESCRIPTION:
URL:https://eagleknoll.com/event/mens-league-2/2026-03-16/
LOCATION:Missouri
END:VEVENT
BEGIN:VEVENT
DTSTART;TZID=America/Chicago:20260311T173000
DTEND;TZID=America/Chicago:20260311T193000
DTSTAMP:20260422T191620
CREATED:20250602T173030Z
LAST-MODIFIED:20250602T173033Z
UID:10000221-1773250200-1773257400@eagleknoll.com
SUMMARY:Ladies League
DESCRIPTION:
URL:https://eagleknoll.com/event/ladies-league/2026-03-11/
LOCATION:Missouri
END:VEVENT
BEGIN:VEVENT
DTSTART;TZID=America/Chicago:20260309T170000
DTEND;TZID=America/Chicago:20260309T170000
DTSTAMP:20260422T191620
CREATED:20260203T201858Z
LAST-MODIFIED:20260203T201900Z
UID:10000472-1773075600-1773075600@eagleknoll.com
SUMMARY:Men's League
DESCRIPTION:
URL:https://eagleknoll.com/event/mens-league-2/2026-03-09/
LOCATION:Missouri
END:VEVENT
BEGIN:VEVENT
DTSTART;TZID=America/Chicago:20260304T173000
DTEND;TZID=America/Chicago:20260304T193000
DTSTAMP:20260422T191620
CREATED:20250602T173030Z
LAST-MODIFIED:20250602T173033Z
UID:10000220-1772645400-1772652600@eagleknoll.com
SUMMARY:Ladies League
DESCRIPTION:
URL:https://eagleknoll.com/event/ladies-league/2026-03-04/
LOCATION:Missouri
END:VEVENT
BEGIN:VEVENT
DTSTART;TZID=America/Chicago:20260225T173000
DTEND;TZID=America/Chicago:20260225T193000
DTSTAMP:20260422T191620
CREATED:20250602T173030Z
LAST-MODIFIED:20250602T173033Z
UID:10000219-1772040600-1772047800@eagleknoll.com
SUMMARY:Ladies League
DESCRIPTION:
URL:https://eagleknoll.com/event/ladies-league/2026-02-25/
LOCATION:Missouri
END:VEVENT
BEGIN:VEVENT
DTSTART;TZID=America/Chicago:20260218T173000
DTEND;TZID=America/Chicago:20260218T193000
DTSTAMP:20260422T191620
CREATED:20250602T173030Z
LAST-MODIFIED:20250602T173033Z
UID:10000218-1771435800-1771443000@eagleknoll.com
SUMMARY:Ladies League
DESCRIPTION:
URL:https://eagleknoll.com/event/ladies-league/2026-02-18/
LOCATION:Missouri
END:VEVENT
BEGIN:VEVENT
DTSTART;TZID=America/Chicago:20260211T173000
DTEND;TZID=America/Chicago:20260211T193000
DTSTAMP:20260422T191620
CREATED:20250602T173030Z
LAST-MODIFIED:20250602T173033Z
UID:10000217-1770831000-1770838200@eagleknoll.com
SUMMARY:Ladies League
DESCRIPTION:
URL:https://eagleknoll.com/event/ladies-league/2026-02-11/
LOCATION:Missouri
END:VEVENT
BEGIN:VEVENT
DTSTART;TZID=America/Chicago:20260204T173000
DTEND;TZID=America/Chicago:20260204T193000
DTSTAMP:20260422T191620
CREATED:20250602T173030Z
LAST-MODIFIED:20250602T173033Z
UID:10000216-1770226200-1770233400@eagleknoll.com
SUMMARY:Ladies League
DESCRIPTION:
URL:https://eagleknoll.com/event/ladies-league/2026-02-04/
LOCATION:Missouri
END:VEVENT
BEGIN:VEVENT
DTSTART;TZID=America/Chicago:20260128T173000
DTEND;TZID=America/Chicago:20260128T193000
DTSTAMP:20260422T191620
CREATED:20250602T173030Z
LAST-MODIFIED:20250602T173033Z
UID:10000215-1769621400-1769628600@eagleknoll.com
SUMMARY:Ladies League
DESCRIPTION:
URL:https://eagleknoll.com/event/ladies-league/2026-01-28/
LOCATION:Missouri
END:VEVENT
BEGIN:VEVENT
DTSTART;TZID=America/Chicago:20260121T173000
DTEND;TZID=America/Chicago:20260121T193000
DTSTAMP:20260422T191620
CREATED:20250602T173030Z
LAST-MODIFIED:20250602T173033Z
UID:10000214-1769016600-1769023800@eagleknoll.com
SUMMARY:Ladies League
DESCRIPTION:
URL:https://eagleknoll.com/event/ladies-league/2026-01-21/
LOCATION:Missouri
END:VEVENT
BEGIN:VEVENT
DTSTART;TZID=America/Chicago:20260114T173000
DTEND;TZID=America/Chicago:20260114T193000
DTSTAMP:20260422T191620
CREATED:20250602T173030Z
LAST-MODIFIED:20250602T173033Z
UID:10000213-1768411800-1768419000@eagleknoll.com
SUMMARY:Ladies League
DESCRIPTION:
URL:https://eagleknoll.com/event/ladies-league/2026-01-14/
LOCATION:Missouri
END:VEVENT
BEGIN:VEVENT
DTSTART;TZID=America/Chicago:20260107T173000
DTEND;TZID=America/Chicago:20260107T193000
DTSTAMP:20260422T191620
CREATED:20250602T173030Z
LAST-MODIFIED:20250602T173033Z
UID:10000212-1767807000-1767814200@eagleknoll.com
SUMMARY:Ladies League
DESCRIPTION:
URL:https://eagleknoll.com/event/ladies-league/2026-01-07/
LOCATION:Missouri
END:VEVENT
BEGIN:VEVENT
DTSTART;TZID=America/Chicago:20251231T173000
DTEND;TZID=America/Chicago:20251231T193000
DTSTAMP:20260422T191620
CREATED:20250602T173030Z
LAST-MODIFIED:20250602T173033Z
UID:10000211-1767202200-1767209400@eagleknoll.com
SUMMARY:Ladies League
DESCRIPTION:
URL:https://eagleknoll.com/event/ladies-league/2025-12-31/
LOCATION:Missouri
END:VEVENT
END:VCALENDAR